Uber Exif Photo
Make : Panasonic
Camera Model Name : DMC-GX1
Software : Adobe Photoshop Lightroom 4.4 (Windows)
Modify Date : 2013:06:28 00:03:11
Exposure Time : 1/60
F Number : 1.8
Exposure Program : Aperture-priority AE
ISO : 400
Date/Time Original : 2013:06:27 20:23:19
Create Date : 2013:06:27 20:23:19
Shutter Speed Value : 1/60
Aperture Value : 1.8
Exposure Compensation : 0
Max Aperture Value : 1.7
Metering Mode : Center-weighted average
Light Source : Flash
Flash : On, Fired
Focal Length : 20.0 mm
Sensing Method : One-chip color area
Scene Type : Directly photographed
Custom Rendered : Normal
Exposure Mode : Auto
White Balance : Manual
Digital Zoom Ratio : 0
Focal Length In 35mm Format : 40 mm
Scene Capture Type : Standard
Gain Control : High gain up
Contrast : Low
Saturation : Normal
Sharpness : Hard
Lens Model : LUMIX G 20/F1.7
Lens Serial Number : 02EG3281566
Lens : LUMIX G 20/F1.7
Creator Tool : Adobe Photoshop Lightroom 4.4 (Windows)
Date Created : 2013:06:27 20:23:19
Format : image/jpeg
Version : 7.4
Process Version : 6.7
Color Temperature : 7000
Tint : +15
Luminance Smoothing : 15
Color Noise Reduction : 25
Vignette Amount : 0
Shadow Tint : 0
Red Hue : 0
Red Saturation : 0
Green Hue : 0
Green Saturation : 0
Blue Hue : 0
Blue Saturation : 0
Gray Mixer Red : -20
Gray Mixer Orange : -7
Gray Mixer Yellow : 0
Gray Mixer Green : +11
Gray Mixer Aqua : -19
Gray Mixer Blue : -42
Gray Mixer Purple : -11
Gray Mixer Magenta : +4
Split Toning Shadow Hue : 0
Split Toning Shadow Saturation : 0
Split Toning Highlight Hue : 0
Split Toning Highlight Saturation : 0
Split Toning Balance : 0
Parametric Shadows : 0
Parametric Darks : 0
Parametric Lights : 0
Parametric Highlights : 0
Parametric Shadow Split : 25
Parametric Midtone Split : 50
Parametric Highlight Split : 75
Sharpen Radius : +1.0
Sharpen Detail : 11
Sharpen Edge Masking : 46
Post Crop Vignette Amount : -13
Post Crop Vignette Midpoint : 25
Post Crop Vignette Feather : 80
Post Crop Vignette Roundness : 0
Post Crop Vignette Style : Highlight Priority
Post Crop Vignette Highlight Contrast : 0
Grain Amount : 0
Luminance Noise Reduction Detail : 65
Color Noise Reduction Detail : 50
Luminance Noise Reduction Contrast : 10
Lens Profile Enable : 0
Lens Manual Distortion Amount : 0
Perspective Vertical : 0
Perspective Horizontal : 0
Perspective Rotate : 0.0
Perspective Scale : 100
Auto Lateral CA : 0
Exposure 2012 : 0.00
Contrast 2012 : -26
Highlights 2012 : -34
Shadows 2012 : +43
Whites 2012 : +23
Blacks 2012 : +44
Clarity 2012 : +67
Convert To Grayscale : True
Tone Curve Name 2012 : Medium Contrast
Camera Profile : Adobe Standard
Lens Profile Setup : LensDefaults
Has Settings : True
Crop Top : 0.069673
Crop Left : 0.146822
Crop Bottom : 0.589977
Crop Right : 0.710076
Crop Angle : -2.94859
Crop Constrain To Warp : 0
Crop Width : 1000
Crop Height : 773
Crop Unit : pixels
Has Crop : True
Already Applied : True
Tone Curve PV2012 : 0, 0, 32, 22, 64, 56, 128, 128, 192, 196, 255, 255
Tone Curve PV2012 Red : 0, 0, 255, 255
Tone Curve PV2012 Green : 0, 0, 255, 255
Tone Curve PV2012 Blue : 0, 0, 255, 255
Image Width : 300
Image Height : 232
Bits Per Sample : 8
Color Components : 1
Aperture : 1.8
Image Size : 300x232
Megapixels : 0.070
Scale Factor To 35 mm Equivalent : 2.0
Shutter Speed : 1/60
Circle Of Confusion : 0.015 mm
Field Of View : 48.5 deg
Focal Length : 20.0 mm (35 mm equivalent: 40.0 mm)
Hyperfocal Distance : 14.79 m
Light Value : 5.6
Lens ID : LUMIX G 20mm F1.7