Uber Exif Photo
Copyright Flag : False
Make : LEICA
Camera Model Name : V-LUX 1
Orientation : Horizontal (normal)
Software : Adobe Photoshop CC (Macintosh)
Modify Date : 2013:10:01 11:37:02
Exposure Time : 1/40
F Number : 3.2
Exposure Program : Program AE
ISO : 100
Date/Time Original : 2008:10:28 15:46:19
Create Date : 2008:10:28 15:46:19
Shutter Speed Value : 1/40
Aperture Value : 3.2
Exposure Compensation : 0
Max Aperture Value : 2.8
Metering Mode : Multi-segment
Light Source : Unknown
Flash : Off, Did not fire
Focal Length : 13.7 mm
Color Space : Uncalibrated
Exif Image Width : 1800
Exif Image Height : 1603
Sensing Method : One-chip color area
Scene Type : Directly photographed
Custom Rendered : Custom
Exposure Mode : Auto
White Balance : Auto
Digital Zoom Ratio : 0
Focal Length In 35mm Format : 87 mm
Scene Capture Type : Standard
Gain Control : None
Contrast : Normal
Saturation : Normal
Sharpness : Normal
Profile Description : Adobe RGB (1998)
Creator Tool : Adobe Photoshop CC (Macintosh)
Already Applied : True
Has Crop : True
Crop Angle : 0
Crop Right : 0.978898
Crop Bottom : 1
Crop Left : 0
Crop Top : 0.315625
Has Settings : True
Camera Profile : Embedded
Tone Curve Name : Linear
Convert To Grayscale : False
Post Crop Vignette Amount : 0
Sharpen Edge Masking : 0
Sharpen Detail : 25
Sharpen Radius : +1.0
Parametric Highlight Split : 75
Parametric Midtone Split : 50
Parametric Shadow Split : 25
Parametric Highlights : 0
Parametric Lights : +17
Parametric Darks : -11
Parametric Shadows : 0
Split Toning Balance : 0
Split Toning Highlight Saturation : 0
Split Toning Highlight Hue : 0
Split Toning Shadow Saturation : 0
Split Toning Shadow Hue : 0
Luminance Adjustment Magenta : -21
Luminance Adjustment Purple : -27
Luminance Adjustment Blue : 0
Luminance Adjustment Aqua : 0
Luminance Adjustment Green : 0
Luminance Adjustment Yellow : +28
Luminance Adjustment Orange : +10
Luminance Adjustment Red : -24
Saturation Adjustment Magenta : 0
Saturation Adjustment Purple : 0
Saturation Adjustment Blue : 0
Saturation Adjustment Aqua : 0
Saturation Adjustment Green : 0
Saturation Adjustment Yellow : 0
Saturation Adjustment Orange : 0
Saturation Adjustment Red : 0
Hue Adjustment Magenta : 0
Hue Adjustment Purple : 0
Hue Adjustment Blue : 0
Hue Adjustment Aqua : 0
Hue Adjustment Green : 0
Hue Adjustment Yellow : 0
Hue Adjustment Orange : -24
Hue Adjustment Red : 0
Defringe : 0
Clarity : +99
Highlight Recovery : 0
Vibrance : +40
Fill Light : 0
Blue Saturation : 0
Blue Hue : 0
Green Saturation : 0
Green Hue : 0
Red Saturation : 0
Red Hue : 0
Shadow Tint : 0
Vignette Amount : 0
Chromatic Aberration B : 0
Chromatic Aberration R : 0
Color Noise Reduction : 0
Luminance Smoothing : 0
Brightness : 0
Shadows : 0
Exposure : 0.00
Incremental Tint : +33
Incremental Temperature : +11
Version : 4.6
Raw File Name : L1030220.JPG
Format : image/jpeg
ICC Profile Name : Adobe RGB (1998)
Color Mode : RGB
Date Created : 2008:10:28 15:46:19
Marked : False
Tone Curve : 0, 0, 255, 255
Image Width : 300
Image Height : 267
Bits Per Sample : 8
Color Components : 3
Aperture : 3.2
Image Size : 300x267
Megapixels : 0.080
Scale Factor To 35 mm Equivalent : 6.4
Shutter Speed : 1/40
Circle Of Confusion : 0.005 mm
Field Of View : 23.4 deg
Focal Length : 13.7 mm (35 mm equivalent: 87.0 mm)
Hyperfocal Distance : 12.40 m
Light Value : 8.7