Uber Exif Photo
By-line : Alex[Ruppel]
Photometric Interpretation : RGB
Make : Canon
Camera Model Name : Canon EOS 6D
Orientation : Horizontal (normal)
Software : Adobe Photoshop CS6 (Windows)
Modify Date : 2013:08:20 14:59:42
Artist : Alex[Ruppel]
Exposure Time : 1/800
F Number : 2.8
Exposure Program : Aperture-priority AE
ISO : 250
Sensitivity Type : Recommended Exposure Index
Recommended Exposure Index : 250
Date/Time Original : 2013:07:25 20:15:29
Create Date : 2013:07:25 20:15:29
Shutter Speed Value : 1/800
Aperture Value : 2.8
Exposure Compensation : +1/3
Max Aperture Value : 2.8
Metering Mode : Multi-segment
Flash : Off, Did not fire
Focal Length : 100.0 mm
Color Space : sRGB
Exif Image Width : 752
Exif Image Height : 1200
Custom Rendered : Normal
Exposure Mode : Auto
White Balance : Manual
Scene Capture Type : Standard
Serial Number : 058024010051
Lens Info : 100mm f/?
Lens Model : EF100mm f/2.8 Macro USM
Lens Serial Number : 0000000000
Profile Description : sRGB IEC61966-2.1
Creator Tool : Adobe Photoshop CC (Windows)
Format : image/jpeg
Lens : EF100mm f/2.8 Macro USM
Image Number : 0
Approximate Focus Distance : 4294967295
Flash Compensation : 0
Firmware : 1.1.3
Date Created : 2013:07:25 20:15:29
Color Mode : RGB
ICC Profile Name : sRGB IEC61966-2.1
Version : 8.1
Process Version : 6.7
Color Temperature : 6250
Tint : +10
Saturation : -100
Sharpness : 131
Luminance Smoothing : 0
Color Noise Reduction : 25
Vignette Amount : 0
Shadow Tint : 0
Red Hue : 0
Red Saturation : 0
Green Hue : 0
Green Saturation : 0
Blue Hue : 0
Blue Saturation : 0
Vibrance : 0
Hue Adjustment Red : 0
Hue Adjustment Orange : 0
Hue Adjustment Yellow : 0
Hue Adjustment Green : 0
Hue Adjustment Aqua : 0
Hue Adjustment Blue : 0
Hue Adjustment Purple : 0
Hue Adjustment Magenta : 0
Saturation Adjustment Red : 0
Saturation Adjustment Orange : 0
Saturation Adjustment Yellow : 0
Saturation Adjustment Green : 0
Saturation Adjustment Aqua : 0
Saturation Adjustment Blue : 0
Saturation Adjustment Purple : 0
Saturation Adjustment Magenta : 0
Luminance Adjustment Red : 0
Luminance Adjustment Orange : 0
Luminance Adjustment Yellow : 0
Luminance Adjustment Green : 0
Luminance Adjustment Aqua : 0
Luminance Adjustment Blue : 0
Luminance Adjustment Purple : 0
Luminance Adjustment Magenta : 0
Split Toning Shadow Hue : 0
Split Toning Shadow Saturation : 0
Split Toning Highlight Hue : 0
Split Toning Highlight Saturation : 0
Split Toning Balance : 0
Parametric Shadows : 0
Parametric Darks : 0
Parametric Lights : 0
Parametric Highlights : 0
Parametric Shadow Split : 25
Parametric Midtone Split : 50
Parametric Highlight Split : 75
Sharpen Radius : +1.0
Sharpen Detail : 25
Sharpen Edge Masking : 76
Post Crop Vignette Amount : -21
Post Crop Vignette Midpoint : 50
Post Crop Vignette Feather : 50
Post Crop Vignette Roundness : 0
Post Crop Vignette Style : Highlight Priority
Post Crop Vignette Highlight Contrast : 0
Grain Amount : 0
Color Noise Reduction Detail : 50
Lens Profile Enable : 0
Lens Manual Distortion Amount : 0
Perspective Vertical : 0
Perspective Horizontal : 0
Perspective Rotate : 0.0
Perspective Scale : 100
Perspective Aspect : 0
Perspective Upright : Off
Auto Lateral CA : 1
Exposure 2012 : 0.00
Contrast 2012 : +47
Highlights 2012 : -30
Shadows 2012 : -28
Whites 2012 : 0
Blacks 2012 : -68
Clarity 2012 : +51
Defringe Purple Amount : 0
Defringe Purple Hue Lo : 30
Defringe Purple Hue Hi : 70
Defringe Green Amount : 0
Defringe Green Hue Lo : 40
Defringe Green Hue Hi : 60
Convert To Grayscale : False
Tone Curve Name 2012 : Linear
Camera Profile : Adobe Standard
Lens Profile Setup : Custom
Lens Profile Name : Adobe (Canon EF 100mm f/2.8 Macro USM)
Lens Profile Filename : Canon EOS 5D Mark II (Canon EF 100mm f2.8 Macro USM) - RAW.lcp
Lens Profile Distortion Scale : 100
Lens Profile Chromatic Aberration Scale : 100
Lens Profile Vignetting Scale : 100
Has Settings : True
Crop Top : 0.088321
Crop Left : 0.008992
Crop Bottom : 0.97049
Crop Right : 0.991803
Crop Angle : -1.16131
Crop Constrain To Warp : 1
Has Crop : True
Already Applied : True
Creator : Alex[Ruppel]
Tone Curve PV2012 : 0, 0, 255, 255
Tone Curve PV2012 Red : 0, 0, 255, 255
Tone Curve PV2012 Green : 0, 0, 255, 255
Tone Curve PV2012 Blue : 0, 0, 255, 255
Image Width : 188
Image Height : 300
Bits Per Sample : 8
Color Components : 3
Aperture : 2.8
Image Size : 188x300
Megapixels : 0.056
Scale Factor To 35 mm Equivalent : 4.6
Shutter Speed : 1/800
Create Date : 2013:07:25 20:15:29.00
Date/Time Original : 2013:07:25 20:15:29.00
Circle Of Confusion : 0.006 mm
Depth Of Field : inf (552.00 m - inf)
Field Of View : 4.4 deg
Focal Length : 100.0 mm (35 mm equivalent: 464.4 mm)
Hyperfocal Distance : 552.00 m
Light Value : 11.3
Lens ID : Canon EF 100mm f/2.8 Macro USM