Uber Exif Photo
Copyright Flag : False
Make : Leica Camera AG
Camera Model Name : M8 Digital Camera
Orientation : Horizontal (normal)
Software : Adobe Photoshop CS Windows
Modify Date : 2013:10:11 19:29:28
Exposure Time : 1/250
F Number : 3.4
Exposure Program : Aperture-priority AE
ISO : 160
Date/Time Original : 2013:10:08 16:15:45
Create Date : 2013:10:08 16:15:45
Shutter Speed Value : 1/250
Aperture Value : 3.4
Exposure Compensation : +0.332
Max Aperture Value : 2.0
Metering Mode : Center-weighted average
Light Source : Unknown
Focal Length : 50.0 mm
Color Space : Uncalibrated
Exif Image Width : 1229
Exif Image Height : 889
Scene Type : Directly photographed
White Balance : Auto
Digital Zoom Ratio : 0
Focal Length In 35mm Format : 67 mm
Scene Capture Type : Standard
Serial Number : 3109179
Lens Model : Leica Summicron-M 50mm f/2 (IV, V)
Version : 6.5
Process Version : 5.7
Color Temperature : 5500
Tint : -6
Exposure : -0.32
Shadows : 8
Brightness : +26
Contrast : +28
Sharpness : 25
Luminance Smoothing : 0
Color Noise Reduction : 25
Chromatic Aberration R : 0
Chromatic Aberration B : 0
Vignette Amount : 0
Shadow Tint : 0
Red Hue : 0
Red Saturation : 0
Green Hue : 0
Green Saturation : 0
Blue Hue : 0
Blue Saturation : 0
Fill Light : 0
Highlight Recovery : 16
Clarity : 0
Defringe : 0
Gray Mixer Red : -8
Gray Mixer Orange : -17
Gray Mixer Yellow : -20
Gray Mixer Green : -25
Gray Mixer Aqua : -19
Gray Mixer Blue : +7
Gray Mixer Purple : +14
Gray Mixer Magenta : +4
Split Toning Shadow Hue : 0
Split Toning Shadow Saturation : 0
Split Toning Highlight Hue : 0
Split Toning Highlight Saturation : 0
Split Toning Balance : 0
Parametric Shadows : 0
Parametric Darks : 0
Parametric Lights : 0
Parametric Highlights : 0
Parametric Shadow Split : 25
Parametric Midtone Split : 50
Parametric Highlight Split : 75
Sharpen Radius : +1.0
Sharpen Detail : 25
Sharpen Edge Masking : 0
Post Crop Vignette Amount : 0
Grain Amount : 0
Color Noise Reduction Detail : 50
Lens Profile Enable : 0
Lens Manual Distortion Amount : 0
Perspective Vertical : 0
Perspective Horizontal : 0
Perspective Rotate : 0.0
Perspective Scale : 100
Convert To Grayscale : True
Tone Curve Name : Medium Contrast
Camera Profile : Adobe Standard
Lens Profile Setup : LensDefaults
Has Settings : True
Crop Top : 0.081959
Crop Left : 0.020183
Crop Bottom : 0.919868
Crop Right : 0.809222
Crop Angle : 0
Crop Constrain To Warp : 0
Crop Width : 3090
Crop Height : 2207
Crop Unit : pixels
Has Crop : True
Already Applied : True
Tone Curve : 0, 0, 32, 22, 64, 56, 128, 128, 192, 196, 255, 255
Date/Time Digitized : 2013:10:08 16:15:45+02:00
Flash Fired : False
Flash Return : No return detection
Flash Mode : Auto
Flash Function : False
Flash Red Eye Mode : False
Lens : Leica Summicron-M 50mm f/2 (IV, V)
Date Created : 2013:10:08
Creator Tool : Adobe Photoshop CS Windows
Format : image/jpeg
Image Width : 300
Image Height : 217
Bits Per Sample : 8
Color Components : 1
Aperture : 3.4
Image Size : 300x217
Megapixels : 0.065
Scale Factor To 35 mm Equivalent : 1.3
Shutter Speed : 1/250
Flash : Auto, Did not fire
Circle Of Confusion : 0.022 mm
Field Of View : 30.1 deg
Focal Length : 50.0 mm (35 mm equivalent: 67.0 mm)
Hyperfocal Distance : 32.79 m
Light Value : 10.8
Lens ID : Summicron-M 50mm f/2 (IV, V)