Uber Exif Photo
Make : Leica Camera AG
Camera Model Name : M9 Digital Camera
Software : Adobe Photoshop Lightroom 4.4 (Macintosh)
Modify Date : 2013:11:16 17:40:49
Exposure Time : 1/30
F Number : 1.4
Exposure Program : Manual
ISO : 320
Date/Time Original : 2013:07:29 20:21:30
Create Date : 2013:07:29 20:21:30
Shutter Speed Value : 1/30
Aperture Value : 1.4
Exposure Compensation : 0
Max Aperture Value : 1.4
Metering Mode : Center-weighted average
Light Source : Unknown
Flash : No Flash
Focal Length : 50.0 mm
Scene Type : Directly photographed
Exposure Mode : Manual
White Balance : Auto
Digital Zoom Ratio : 0
Focal Length In 35mm Format : 50 mm
Scene Capture Type : Standard
Serial Number : 4421392
Lens Model : Leica Summilux-M 50mm f/1.4 ASPH.
Profile Description : Adobe RGB (1998)
Creator Tool : Adobe Photoshop Lightroom 4.4 (Macintosh)
Lens : Leica Summilux-M 50mm f/1.4 ASPH.
Date Created : 2013:07:29 20:21:30
Format : image/jpeg
Version : 7.4
Process Version : 6.7
Color Temperature : 6100
Tint : -23
Sharpness : 68
Luminance Smoothing : 42
Color Noise Reduction : 25
Vignette Amount : 0
Shadow Tint : -5
Red Hue : +12
Red Saturation : -11
Green Hue : +6
Green Saturation : +10
Blue Hue : -9
Blue Saturation : -29
Gray Mixer Red : -7
Gray Mixer Orange : +13
Gray Mixer Yellow : -12
Gray Mixer Green : -25
Gray Mixer Aqua : -19
Gray Mixer Blue : -5
Gray Mixer Purple : +14
Gray Mixer Magenta : +4
Split Toning Shadow Hue : 47
Split Toning Shadow Saturation : 1
Split Toning Highlight Hue : 31
Split Toning Highlight Saturation : 5
Split Toning Balance : 0
Parametric Shadows : +10
Parametric Darks : +5
Parametric Lights : 0
Parametric Highlights : 0
Parametric Shadow Split : 25
Parametric Midtone Split : 50
Parametric Highlight Split : 75
Sharpen Radius : +0.8
Sharpen Detail : 40
Sharpen Edge Masking : 25
Post Crop Vignette Amount : -10
Post Crop Vignette Midpoint : 50
Post Crop Vignette Feather : 64
Post Crop Vignette Roundness : 0
Post Crop Vignette Style : Highlight Priority
Post Crop Vignette Highlight Contrast : 0
Grain Amount : 0
Luminance Noise Reduction Detail : 50
Color Noise Reduction Detail : 50
Luminance Noise Reduction Contrast : 29
Lens Profile Enable : 0
Lens Manual Distortion Amount : 0
Perspective Vertical : 0
Perspective Horizontal : 0
Perspective Rotate : 0.0
Perspective Scale : 100
Auto Lateral CA : 0
Exposure 2012 : -0.90
Contrast 2012 : -2
Highlights 2012 : -74
Shadows 2012 : -7
Whites 2012 : +74
Blacks 2012 : -10
Clarity 2012 : +48
Convert To Grayscale : True
Tone Curve Name 2012 : Custom
Camera Profile : Adobe Standard
Lens Profile Setup : LensDefaults
Has Settings : True
Crop Top : 0.051918
Crop Left : 0.020474
Crop Bottom : 0.974967
Crop Right : 0.979639
Crop Angle : -1.00649
Crop Constrain To Warp : 0
Crop Width : 2000
Crop Height : 1331
Crop Unit : pixels
Has Crop : True
Already Applied : True
Tone Curve PV2012 : 0, 0, 66, 66, 117, 133, 157, 171, 193, 203, 255, 245
Tone Curve PV2012 Red : 0, 0, 255, 255
Tone Curve PV2012 Green : 0, 0, 255, 255
Tone Curve PV2012 Blue : 0, 0, 255, 255
Image Width : 200
Image Height : 300
Bits Per Sample : 8
Color Components : 3
Aperture : 1.4
Image Size : 200x300
Megapixels : 0.060
Scale Factor To 35 mm Equivalent : 1.0
Shutter Speed : 1/30
Circle Of Confusion : 0.030 mm
Field Of View : 39.6 deg
Focal Length : 50.0 mm (35 mm equivalent: 50.0 mm)
Hyperfocal Distance : 59.43 m
Light Value : 4.2
Lens ID : Summilux-M 50mm f/1.4 ASPH.