Uber Exif Photo
Make : LEICA CAMERA AG
Camera Model Name : LEICA X1
Software : Adobe Photoshop Lightroom 4.4 (Macintosh)
Modify Date : 2013:11:16 18:42:35
Exposure Time : 1/100
F Number : 3.5
Exposure Program : Program AE
ISO : 100
Date/Time Original : 2013:11:16 17:36:24
Create Date : 2013:11:16 17:36:24
Shutter Speed Value : 1/100
Aperture Value : 3.5
Exposure Compensation : -1
Max Aperture Value : 2.8
Metering Mode : Center-weighted average
Light Source : Unknown
Flash : Off, Did not fire
Focal Length : 24.0 mm
Original File Name : L9996470.DNG
Original Directory : 999LEICA
Focus Distance : 10 m
Exposure Mode : Unknown (0 1 0 0)
File Index : 6470
Film Mode : Standard
WB RGB Levels : 0.5256673511 1.132743363 0.7619047619
Internal Serial Number : 000000000000
Sensing Method : One-chip color area
Custom Rendered : Normal
White Balance : Auto
Digital Zoom Ratio : 1
Focal Length In 35mm Format : 36 mm
Scene Capture Type : Landscape
Contrast : Normal
Saturation : Normal
Sharpness : Normal
Serial Number : 000003813159
Lens Info : 24mm f/2.8
Lens Model : 24.0 mm f/2.8
Maker Note Safety : Safe
Creator Tool : Adobe Photoshop Lightroom 4.4 (Macintosh)
Lens : 24.0 mm f/2.8
Approximate Focus Distance : 10
Date Created : 2013:11:16 17:36:24
Format : image/jpeg
Version : 7.4
Process Version : 6.7
Color Temperature : 5600
Tint : +47
Luminance Smoothing : 0
Color Noise Reduction : 25
Vignette Amount : 0
Shadow Tint : 0
Red Hue : 0
Red Saturation : 0
Green Hue : 0
Green Saturation : 0
Blue Hue : 0
Blue Saturation : 0
Gray Mixer Red : -9
Gray Mixer Orange : -19
Gray Mixer Yellow : -23
Gray Mixer Green : -27
Gray Mixer Aqua : -18
Gray Mixer Blue : +9
Gray Mixer Purple : +16
Gray Mixer Magenta : +4
Split Toning Shadow Hue : 0
Split Toning Shadow Saturation : 0
Split Toning Highlight Hue : 0
Split Toning Highlight Saturation : 0
Split Toning Balance : 0
Parametric Shadows : 0
Parametric Darks : 0
Parametric Lights : 0
Parametric Highlights : 0
Parametric Shadow Split : 25
Parametric Midtone Split : 50
Parametric Highlight Split : 75
Sharpen Radius : +1.0
Sharpen Detail : 25
Sharpen Edge Masking : 0
Post Crop Vignette Amount : 0
Grain Amount : 0
Color Noise Reduction Detail : 50
Lens Profile Enable : 0
Lens Manual Distortion Amount : 0
Perspective Vertical : 0
Perspective Horizontal : 0
Perspective Rotate : 0.0
Perspective Scale : 100
Auto Lateral CA : 0
Exposure 2012 : -0.45
Contrast 2012 : +20
Highlights 2012 : -75
Shadows 2012 : -15
Whites 2012 : -37
Blacks 2012 : -63
Clarity 2012 : +50
Convert To Grayscale : True
Tone Curve Name 2012 : Linear
Camera Profile : Adobe Standard
Lens Profile Setup : LensDefaults
Has Settings : True
Crop Top : 0.158614
Crop Left : 0
Crop Bottom : 1
Crop Right : 1
Crop Angle : 0
Crop Constrain To Warp : 0
Crop Width : 4272
Crop Height : 2403
Crop Unit : pixels
Has Crop : True
Already Applied : True
Tone Curve PV2012 : 0, 0, 255, 255
Tone Curve PV2012 Red : 0, 0, 255, 255
Tone Curve PV2012 Green : 0, 0, 255, 255
Tone Curve PV2012 Blue : 0, 0, 255, 255
Image Width : 300
Image Height : 169
Bits Per Sample : 8
Color Components : 1
Aperture : 3.5
Blue Balance : 0.672619
Image Size : 300x169
Megapixels : 0.051
Red Balance : 0.464066
Scale Factor To 35 mm Equivalent : 1.5
Shutter Speed : 1/100
Circle Of Confusion : 0.020 mm
Depth Of Field : inf (4.52 m - inf)
Field Of View : 53.0 deg (9.98 m)
Focal Length : 24.0 mm (35 mm equivalent: 36.0 mm)
Hyperfocal Distance : 8.22 m
Light Value : 10.3
Lens ID : 24.0mm f/2.8