Uber Exif Photo
Make : Canon
Camera Model Name : Canon EOS 300D DIGITAL
Orientation : Horizontal (normal)
Software : GIMP 2.6.11
Modify Date : 2013:11:19 10:57:06
Exposure Time : 1/400
F Number : 5.6
ISO : 400
Date/Time Original : 2013:11:09 15:59:32
Create Date : 2013:11:09 15:59:32
Shutter Speed Value : 1/400
Aperture Value : 5.6
Exposure Compensation : 0
Max Aperture Value : 5.6
Metering Mode : Multi-segment
Focal Length : 75.0 mm
Color Space : sRGB
Exif Image Width : 2000
Exif Image Height : 1317
Sensing Method : One-chip color area
Custom Rendered : Normal
Exposure Mode : Auto
White Balance : Auto
Scene Capture Type : Standard
Profile Description : sRGB IEC61966-2.1
Date/Time Digitized : 2013:11:09 15:59:32+01:00
Rating : 0
Creator Tool : Adobe Photoshop CS3 Windows
Serial Number : 870341821
Lens Info : 17-85mm f/?
Lens : 17.0-85.0 mm
Image Number : 0
Flash Compensation : 0
Firmware : 1.1.1
Raw File Name : IMG_6792.JPG
Version : 4.4.1
Incremental Temperature : 0
Incremental Tint : 0
Exposure : +1.70
Shadows : 2
Brightness : +3
Contrast : -25
Saturation : 0
Sharpness : 0
Luminance Smoothing : 0
Color Noise Reduction : 0
Chromatic Aberration R : 0
Chromatic Aberration B : 0
Vignette Amount : 0
Shadow Tint : 0
Red Hue : 0
Red Saturation : 0
Green Hue : 0
Green Saturation : 0
Blue Hue : 0
Blue Saturation : 0
Fill Light : 0
Vibrance : +26
Highlight Recovery : 38
Clarity : 58
Defringe : 0
Hue Adjustment Red : 0
Hue Adjustment Orange : 0
Hue Adjustment Yellow : 0
Hue Adjustment Green : 0
Hue Adjustment Aqua : 0
Hue Adjustment Blue : 0
Hue Adjustment Purple : 0
Hue Adjustment Magenta : 0
Saturation Adjustment Red : 0
Saturation Adjustment Orange : 0
Saturation Adjustment Yellow : 0
Saturation Adjustment Green : 0
Saturation Adjustment Aqua : 0
Saturation Adjustment Blue : 0
Saturation Adjustment Purple : 0
Saturation Adjustment Magenta : 0
Luminance Adjustment Red : 0
Luminance Adjustment Orange : 0
Luminance Adjustment Yellow : 0
Luminance Adjustment Green : 0
Luminance Adjustment Aqua : 0
Luminance Adjustment Blue : 0
Luminance Adjustment Purple : 0
Luminance Adjustment Magenta : 0
Split Toning Shadow Hue : 0
Split Toning Shadow Saturation : 0
Split Toning Highlight Hue : 0
Split Toning Highlight Saturation : 0
Split Toning Balance : 0
Parametric Shadows : 0
Parametric Darks : 0
Parametric Lights : 0
Parametric Highlights : 0
Parametric Shadow Split : 25
Parametric Midtone Split : 50
Parametric Highlight Split : 75
Sharpen Radius : +1.0
Sharpen Detail : 25
Sharpen Edge Masking : 0
Convert To Grayscale : False
Tone Curve Name : Linear
Camera Profile : Embedded
Has Settings : True
Has Crop : False
Already Applied : True
Tone Curve : 0, 0, 255, 255
Format : image/jpeg
Color Mode : RGB
ICC Profile Name : sRGB IEC61966-2.1
Image Width : 300
Image Height : 198
Bits Per Sample : 8
Color Components : 3
Aperture : 5.6
Image Size : 300x198
Megapixels : 0.059
Scale Factor To 35 mm Equivalent : 1.6
Shutter Speed : 1/400
Flash : No Flash
Circle Of Confusion : 0.019 mm
Field Of View : 17.2 deg
Focal Length : 75.0 mm (35 mm equivalent: 119.1 mm)
Hyperfocal Distance : 53.11 m
Light Value : 11.6
Lens ID : 17.0-85.0mm