Uber Exif Photo
Copyright Flag : False
Make : Panasonic
Camera Model Name : DMC-FZ18
Orientation : Horizontal (normal)
Software : Adobe Photoshop CS3 Windows
Modify Date : 2013:11:20 19:44:38
Exposure Time : 1/100
F Number : 4.2
Exposure Program : Aperture-priority AE
ISO : 200
Date/Time Original : 2013:08:06 21:36:44
Create Date : 2013:08:06 21:36:44
Shutter Speed Value : 1/100
Aperture Value : 4.2
Exposure Compensation : 0
Max Aperture Value : 2.8
Metering Mode : Multi-segment
Light Source : Unknown
Focal Length : 82.8 mm
Color Space : sRGB
Exif Image Width : 2000
Exif Image Height : 1506
Sensing Method : One-chip color area
Scene Type : Directly photographed
Custom Rendered : Normal
Exposure Mode : Auto
White Balance : Auto
Digital Zoom Ratio : 0
Focal Length In 35mm Format : 504 mm
Scene Capture Type : Standard
Gain Control : Low gain up
Contrast : High
Saturation : Normal
Sharpness : Soft
Profile Description : sRGB IEC61966-2.1
Date/Time Digitized : 2013:08:06 21:36:44+02:00
Creator Tool : Adobe Photoshop CS3 Windows
Rating : 0
Raw File Name : pavone.jpg
Version : 4.4.1
Incremental Temperature : 0
Incremental Tint : 0
Exposure : 0.00
Shadows : 0
Brightness : 0
Luminance Smoothing : 0
Color Noise Reduction : 0
Chromatic Aberration R : 0
Chromatic Aberration B : 0
Vignette Amount : 0
Shadow Tint : 0
Red Hue : 0
Red Saturation : 0
Green Hue : 0
Green Saturation : 0
Blue Hue : 0
Blue Saturation : 0
Fill Light : 0
Vibrance : +20
Highlight Recovery : 44
Clarity : 47
Defringe : 0
Hue Adjustment Red : 0
Hue Adjustment Orange : 0
Hue Adjustment Yellow : 0
Hue Adjustment Green : 0
Hue Adjustment Aqua : 0
Hue Adjustment Blue : 0
Hue Adjustment Purple : 0
Hue Adjustment Magenta : 0
Saturation Adjustment Red : 0
Saturation Adjustment Orange : 0
Saturation Adjustment Yellow : 0
Saturation Adjustment Green : 0
Saturation Adjustment Aqua : 0
Saturation Adjustment Blue : 0
Saturation Adjustment Purple : 0
Saturation Adjustment Magenta : 0
Luminance Adjustment Red : 0
Luminance Adjustment Orange : 0
Luminance Adjustment Yellow : 0
Luminance Adjustment Green : 0
Luminance Adjustment Aqua : 0
Luminance Adjustment Blue : 0
Luminance Adjustment Purple : 0
Luminance Adjustment Magenta : 0
Split Toning Shadow Hue : 0
Split Toning Shadow Saturation : 0
Split Toning Highlight Hue : 0
Split Toning Highlight Saturation : 0
Split Toning Balance : 0
Parametric Shadows : 0
Parametric Darks : 0
Parametric Lights : 0
Parametric Highlights : 0
Parametric Shadow Split : 25
Parametric Midtone Split : 50
Parametric Highlight Split : 75
Sharpen Radius : +1.0
Sharpen Detail : 25
Sharpen Edge Masking : 0
Convert To Grayscale : False
Tone Curve Name : Linear
Camera Profile : Embedded
Has Settings : True
Has Crop : False
Already Applied : True
Format : image/jpeg
Color Mode : RGB
ICC Profile Name : sRGB IEC61966-2.1
Flash Fired : False
Flash Return : No return detection
Flash Mode : Off
Flash Function : False
Flash Red Eye Mode : False
Tone Curve : 0, 0, 255, 255
Image Width : 300
Image Height : 226
Bits Per Sample : 8
Color Components : 3
Aperture : 4.2
Image Size : 300x226
Megapixels : 0.068
Scale Factor To 35 mm Equivalent : 6.1
Shutter Speed : 1/100
Flash : Off, Did not fire
Circle Of Confusion : 0.005 mm
Field Of View : 4.1 deg
Focal Length : 82.8 mm (35 mm equivalent: 504.0 mm)
Hyperfocal Distance : 330.69 m
Light Value : 9.8