Uber Exif Photo
Make : FUJIFILM
Camera Model Name : X-Pro1
Software : Adobe Photoshop Lightroom 4.1 (Windows)
Modify Date : 2012:09:04 21:49:27
Exposure Time : 1/160
F Number : 1.0
Exposure Program : Aperture-priority AE
ISO : 800
Sensitivity Type : Standard Output Sensitivity
Date/Time Original : 2012:09:03 13:44:53
Create Date : 2012:09:03 13:44:53
Shutter Speed Value : 1/160
Aperture Value : 1.0
Brightness Value : -0.69
Exposure Compensation : 0
Metering Mode : Multi-segment
Light Source : Unknown
Flash : Off, Did not fire
Focal Length : 47.0 mm
Sensing Method : One-chip color area
Scene Type : Directly photographed
Custom Rendered : Normal
Exposure Mode : Auto
White Balance : Auto
Focal Length In 35mm Format : 71 mm
Scene Capture Type : Standard
Sharpness : Normal
Subject Distance Range : Unknown
Lens Model : 47.0-0.0 mm
Profile Description : sRGB IEC61966-2.1
Creator Tool : Adobe Photoshop Lightroom 4.1 (Windows)
Lens Info : 47-?mm f/?
Lens : 47.0-0.0 mm
Date Created : 2012:09:03 13:44:53
Format : image/jpeg
Version : 7.1
Process Version : 6.7
Color Temperature : 4600
Tint : +9
Saturation : 0
Luminance Smoothing : 2
Color Noise Reduction : 25
Vignette Amount : 0
Shadow Tint : 0
Red Hue : 0
Red Saturation : 0
Green Hue : 0
Green Saturation : 0
Blue Hue : 0
Blue Saturation : 0
Vibrance : 0
Hue Adjustment Red : 0
Hue Adjustment Orange : 0
Hue Adjustment Yellow : 0
Hue Adjustment Green : 0
Hue Adjustment Aqua : 0
Hue Adjustment Blue : 0
Hue Adjustment Purple : 0
Hue Adjustment Magenta : 0
Saturation Adjustment Red : 0
Saturation Adjustment Orange : 0
Saturation Adjustment Yellow : 0
Saturation Adjustment Green : 0
Saturation Adjustment Aqua : 0
Saturation Adjustment Blue : 0
Saturation Adjustment Purple : 0
Saturation Adjustment Magenta : 0
Luminance Adjustment Red : 0
Luminance Adjustment Orange : 0
Luminance Adjustment Yellow : 0
Luminance Adjustment Green : 0
Luminance Adjustment Aqua : 0
Luminance Adjustment Blue : 0
Luminance Adjustment Purple : 0
Luminance Adjustment Magenta : 0
Split Toning Shadow Hue : 0
Split Toning Shadow Saturation : 0
Split Toning Highlight Hue : 0
Split Toning Highlight Saturation : 0
Split Toning Balance : 0
Parametric Shadows : 0
Parametric Darks : 0
Parametric Lights : 0
Parametric Highlights : 0
Parametric Shadow Split : 25
Parametric Midtone Split : 50
Parametric Highlight Split : 75
Sharpen Radius : +1.0
Sharpen Detail : 25
Sharpen Edge Masking : 0
Post Crop Vignette Amount : 0
Grain Amount : 0
Luminance Noise Reduction Detail : 50
Color Noise Reduction Detail : 50
Luminance Noise Reduction Contrast : 0
Lens Profile Enable : 0
Lens Manual Distortion Amount : 0
Perspective Vertical : -3
Perspective Horizontal : 0
Perspective Rotate : -0.7
Perspective Scale : 100
Auto Lateral CA : 0
Exposure 2012 : 0.00
Contrast 2012 : +5
Highlights 2012 : 0
Shadows 2012 : 0
Whites 2012 : 0
Blacks 2012 : -14
Clarity 2012 : 0
Defringe Purple Amount : 0
Defringe Purple Hue Lo : 30
Defringe Purple Hue Hi : 70
Defringe Green Amount : 0
Defringe Green Hue Lo : 40
Defringe Green Hue Hi : 60
Convert To Grayscale : False
Tone Curve Name 2012 : Linear
Camera Profile : Adobe Standard
Lens Profile Setup : LensDefaults
Has Settings : True
Crop Top : 0.002435
Crop Left : 0.155657
Crop Bottom : 0.987952
Crop Right : 0.991647
Crop Angle : 0.120134
Crop Constrain To Warp : 1
Crop Width : 2048
Crop Height : 1603
Crop Unit : pixels
Has Crop : True
Already Applied : True
Tone Curve PV2012 : 0, 0, 255, 255
Tone Curve PV2012 Red : 0, 0, 255, 255
Tone Curve PV2012 Green : 0, 0, 255, 255
Tone Curve PV2012 Blue : 0, 0, 255, 255
Gradient Based Corr What : Correction
Gradient Based Corr Amount : 1.000000
Gradient Based Corr Active : true
Gradient Based Corr Saturation : 0.000000
Gradient Based Corr Sharpness : 0.000000
Gradient Based Corr Brightness : 0.000000
Gradient Based Corr Toning Hue : 0.000000
Gradient Based Corr Toning Saturation : 0.000000
Gradient Based Corr Exposure 2012 : 0.000000
Gradient Based Corr Contrast 2012 : 0.000000
Gradient Based Corr Highlights 2012 : 0.000000
Gradient Based Corr Shadows 2012 : 0.000000
Gradient Based Corr Clarity 2012 : 0.000000
Gradient Based Corr Luminance Noise : 0.000000
Gradient Based Corr Moire : 0.000000
Gradient Based Corr Defringe : 0.000000
Gradient Based Corr Temperature : 0.264370
Gradient Based Corr Tint : 0.000000
Gradient Based Corr Mask What : Mask/Gradient
Gradient Based Corr Mask Value : 1.000000
Gradient Based Corr Mask Zero X : 0.512359
Gradient Based Corr Mask Zero Y : 0.463921
Gradient Based Corr Mask Full X : 0.508851
Gradient Based Corr Mask Full Y : 0.995232
Image Width : 300
Image Height : 235
Bits Per Sample : 8
Color Components : 3
Aperture : 1.0
Image Size : 300x235
Megapixels : 0.070
Scale Factor To 35 mm Equivalent : 1.5
Shutter Speed : 1/160
Circle Of Confusion : 0.020 mm
Field Of View : 28.5 deg
Focal Length : 47.0 mm (35 mm equivalent: 71.0 mm)
Hyperfocal Distance : 111.06 m
Light Value : 4.3
Lens ID : 47.0-0.0mm