Uber Exif Photo
Make : Canon
Camera Model Name : Canon PowerShot S3 IS
Software : Adobe Photoshop Lightroom 5.0 (Macintosh)
Modify Date : 2013:12:14 10:23:35
Exposure Time : 1/400
F Number : 4.0
ISO : 75
Date/Time Original : 2013:12:14 10:17:03
Create Date : 2013:12:14 10:17:03
Shutter Speed Value : 1/400
Aperture Value : 4.0
Exposure Compensation : 0
Max Aperture Value : 3.2
Metering Mode : Multi-segment
Flash : Off, Red-eye reduction
Focal Length : 9.9 mm
Color Space : sRGB
Sensing Method : One-chip color area
Custom Rendered : Normal
Exposure Mode : Auto
White Balance : Auto
Digital Zoom Ratio : 1
Scene Capture Type : Standard
Lens Info : 6-72mm f/?
Lens Model : 6.0-72.0 mm
Lens : 6.0-72.0 mm
Approximate Focus Distance : 64.4
Flash Compensation : 0
Firmware : 1.00
Creator Tool : Adobe Photoshop Lightroom 5.0 (Macintosh)
Date Created : 2013:12:14 10:17:03
Format : image/jpeg
Version : 8.2
Process Version : 6.7
Auto White Version : 134348800
Incremental Temperature : +5
Incremental Tint : +6
Sharpness : 0
Luminance Smoothing : 0
Color Noise Reduction : 0
Vignette Amount : 0
Shadow Tint : 0
Red Hue : 0
Red Saturation : 0
Green Hue : 0
Green Saturation : 0
Blue Hue : 0
Blue Saturation : 0
Gray Mixer Red : -2
Gray Mixer Orange : +100
Gray Mixer Yellow : -23
Gray Mixer Green : +100
Gray Mixer Aqua : -6
Gray Mixer Blue : +55
Gray Mixer Purple : +97
Gray Mixer Magenta : +82
Split Toning Shadow Hue : 0
Split Toning Shadow Saturation : 0
Split Toning Highlight Hue : 0
Split Toning Highlight Saturation : 0
Split Toning Balance : 0
Parametric Shadows : -37
Parametric Darks : +35
Parametric Lights : -29
Parametric Highlights : +13
Parametric Shadow Split : 25
Parametric Midtone Split : 50
Parametric Highlight Split : 75
Sharpen Radius : +1.0
Sharpen Detail : 25
Sharpen Edge Masking : 0
Post Crop Vignette Amount : -12
Post Crop Vignette Midpoint : 50
Post Crop Vignette Feather : 50
Post Crop Vignette Roundness : 0
Post Crop Vignette Style : Highlight Priority
Post Crop Vignette Highlight Contrast : 0
Grain Amount : 0
Lens Profile Enable : 1
Lens Manual Distortion Amount : 0
Perspective Vertical : +7
Perspective Horizontal : 0
Perspective Rotate : +2.7
Perspective Scale : 100
Perspective Aspect : 0
Perspective Upright : Off
Auto Lateral CA : 1
Exposure 2012 : 0.00
Contrast 2012 : +43
Highlights 2012 : 0
Shadows 2012 : 0
Whites 2012 : 0
Blacks 2012 : 0
Clarity 2012 : +100
Convert To Grayscale : True
Tone Curve Name 2012 : Linear
Camera Profile : Embedded
Lens Profile Setup : LensDefaults
Has Settings : True
Crop Top : 0.051181
Crop Left : 0.056534
Crop Bottom : 0.985267
Crop Right : 0.837933
Crop Angle : 0
Crop Constrain To Warp : 0
Has Crop : True
Already Applied : True
Tone Curve PV2012 : 0, 0, 255, 255
Tone Curve PV2012 Red : 0, 0, 255, 255
Tone Curve PV2012 Green : 0, 0, 255, 255
Tone Curve PV2012 Blue : 0, 0, 255, 255
Gradient Based Corr What : Correction
Gradient Based Corr Amount : 1.000000
Gradient Based Corr Active : true
Gradient Based Corr Saturation : 0.000000
Gradient Based Corr Sharpness : 0.000000
Gradient Based Corr Brightness : 0.000000
Gradient Based Corr Toning Hue : 0.000000
Gradient Based Corr Toning Saturation : 0.000000
Gradient Based Corr Exposure 2012 : 0.000000
Gradient Based Corr Contrast 2012 : 0.000000
Gradient Based Corr Highlights 2012 : 0.000000
Gradient Based Corr Shadows 2012 : 0.000000
Gradient Based Corr Clarity 2012 : 1.000000
Gradient Based Corr Luminance Noise : 0.000000
Gradient Based Corr Moire : 0.000000
Gradient Based Corr Defringe : 0.000000
Gradient Based Corr Temperature : 0.000000
Gradient Based Corr Tint : 0.000000
Gradient Based Corr Mask What : Mask/Gradient
Gradient Based Corr Mask Value : 1.000000
Gradient Based Corr Mask Zero X : 0.639603
Gradient Based Corr Mask Zero Y : 0.521727
Gradient Based Corr Mask Full X : 0.685730
Gradient Based Corr Mask Full Y : 0.011908
Image Width : 300
Image Height : 269
Bits Per Sample : 8
Color Components : 1
Aperture : 4.0
Image Size : 300x269
Megapixels : 0.081
Scale Factor To 35 mm Equivalent : 6.1
Shutter Speed : 1/400
Circle Of Confusion : 0.005 mm
Depth Of Field : inf (4.59 m - inf)
Field Of View : 33.4 deg
Focal Length : 9.9 mm (35 mm equivalent: 59.9 mm)
Hyperfocal Distance : 4.94 m
Light Value : 13.1
Lens ID : 6.0-72.0mm