Uber Exif Photo
Copyright Flag : False
Make : Canon
Camera Model Name : Canon PowerShot G10
Orientation : Horizontal (normal)
Software : Adobe Photoshop CS3 Windows
Modify Date : 2013:05:12 23:45:25
Exposure Time : 1/320
F Number : 2.8
ISO : 125
Date/Time Original : 2009:02:12 15:50:23
Create Date : 2009:02:12 15:50:23
Shutter Speed Value : 1/320
Aperture Value : 2.8
Exposure Compensation : +1/3
Max Aperture Value : 2.8
Metering Mode : Center-weighted average
Focal Length : 6.1 mm
Color Space : Uncalibrated
Exif Image Width : 600
Exif Image Height : 800
Sensing Method : One-chip color area
Custom Rendered : Normal
Exposure Mode : Manual
White Balance : Auto
Digital Zoom Ratio : 1
Scene Capture Type : Standard
Date/Time Digitized : 2009:02:12 15:50:23-08:00
Rating : 0
Creator Tool : Adobe Photoshop CS3 Windows
Lens Info : 6.1-30.5mm f/?
Lens : 6.1-30.5 mm
Flash Compensation : 0
Firmware : 1.00
Raw File Name : FEB,SELEC.09_52.dng
Version : 4.6
Color Temperature : 5600
Tint : 0
Exposure : +0.70
Shadows : 5
Brightness : +40
Contrast : +25
Saturation : 0
Sharpness : 0
Luminance Smoothing : 0
Color Noise Reduction : 25
Chromatic Aberration R : 0
Chromatic Aberration B : 0
Vignette Amount : 0
Shadow Tint : 0
Red Hue : 0
Red Saturation : 0
Green Hue : 0
Green Saturation : 0
Blue Hue : 0
Blue Saturation : 0
Fill Light : 26
Vibrance : 0
Highlight Recovery : 51
Clarity : 0
Defringe : 0
Hue Adjustment Red : 0
Hue Adjustment Orange : 0
Hue Adjustment Yellow : 0
Hue Adjustment Green : 0
Hue Adjustment Aqua : 0
Hue Adjustment Blue : 0
Hue Adjustment Purple : 0
Hue Adjustment Magenta : 0
Saturation Adjustment Red : 0
Saturation Adjustment Orange : 0
Saturation Adjustment Yellow : 0
Saturation Adjustment Green : 0
Saturation Adjustment Aqua : 0
Saturation Adjustment Blue : 0
Saturation Adjustment Purple : 0
Saturation Adjustment Magenta : 0
Luminance Adjustment Red : 0
Luminance Adjustment Orange : 0
Luminance Adjustment Yellow : 0
Luminance Adjustment Green : 0
Luminance Adjustment Aqua : 0
Luminance Adjustment Blue : 0
Luminance Adjustment Purple : 0
Luminance Adjustment Magenta : 0
Split Toning Shadow Hue : 0
Split Toning Shadow Saturation : 0
Split Toning Highlight Hue : 0
Split Toning Highlight Saturation : 0
Split Toning Balance : 0
Parametric Shadows : 0
Parametric Darks : 0
Parametric Lights : 0
Parametric Highlights : 0
Parametric Shadow Split : 25
Parametric Midtone Split : 50
Parametric Highlight Split : 75
Sharpen Radius : +1.0
Sharpen Detail : 25
Sharpen Edge Masking : 0
Post Crop Vignette Amount : 0
Convert To Grayscale : False
Tone Curve Name : Medium Contrast
Camera Profile : Adobe Standard
Has Settings : True
Has Crop : False
Already Applied : True
Format : image/jpeg
Color Mode : Grayscale
ICC Profile Name : Dot Gain 20%
Flash Fired : False
Flash Return : No return detection
Flash Mode : Off
Flash Function : False
Flash Red Eye Mode : False
Tone Curve : 0, 0, 32, 22, 64, 56, 128, 128, 192, 196, 255, 255
Image Width : 225
Image Height : 300
Bits Per Sample : 8
Color Components : 1
Aperture : 2.8
Image Size : 225x300
Megapixels : 0.068
Scale Factor To 35 mm Equivalent : 4.7
Shutter Speed : 1/320
Flash : Off, Did not fire
Circle Of Confusion : 0.006 mm
Field Of View : 64.6 deg
Focal Length : 6.1 mm (35 mm equivalent: 28.5 mm)
Hyperfocal Distance : 2.06 m
Light Value : 11.0
Lens ID : 6.1-30.5mm