Uber Exif Photo
Make : Leica Camera AG
Camera Model Name : M9 Digital Camera
Software : Adobe Photoshop Lightroom 4.1 (Macintosh)
Modify Date : 2013:12:16 01:30:00
Exposure Time : 1/15
F Number : 2.4
Exposure Program : Manual
ISO : 500
Date/Time Original : 2013:12:15 16:00:51
Create Date : 2013:12:15 16:00:51
Shutter Speed Value : 1/15
Aperture Value : 2.4
Exposure Compensation : 0
Max Aperture Value : 2.0
Metering Mode : Center-weighted average
Light Source : Unknown
Flash : No Flash
Focal Length : 35.0 mm
Contrast : Normal
Sharpening : Normal
Saturation : Low
White Balance : Auto
JPEG Quality : Fine
WB RGB Levels : 0.713402421 1 0.4958537619
User Profile : BW
JPEG Size : 5216x3472
Firmware Version : 1.196
Base ISO : 160
Sensor Width : 5270
Sensor Height : 3516
Sensor Bit Depth : 14
Camera Temperature : 27 C
Lens Type : Summicron-M 35mm f/2 ASPH.
Approximate F Number : 2.5
Measured LV : 0.63
External Sensor Brightness Value : -0.90
Scene Type : Directly photographed
Exposure Mode : Manual
Digital Zoom Ratio : 0
Focal Length In 35mm Format : 35 mm
Scene Capture Type : Standard
Serial Number : 3972134
Lens Model : Leica Summicron-M 35mm f/2 ASPH.
Maker Note Safety : Safe
Creator Tool : Adobe Photoshop Lightroom 4.1 (Macintosh)
Lens : Leica Summicron-M 35mm f/2 ASPH.
Date Created : 2013:12:15 16:00:51
Format : image/jpeg
Version : 7.1
Process Version : 6.7
Color Temperature : 2695
Tint : -8
Sharpness : 25
Luminance Smoothing : 0
Color Noise Reduction : 25
Vignette Amount : 0
Shadow Tint : 0
Red Hue : 0
Red Saturation : 0
Green Hue : 0
Green Saturation : 0
Blue Hue : 0
Blue Saturation : 0
Gray Mixer Red : -3
Gray Mixer Orange : -13
Gray Mixer Yellow : -17
Gray Mixer Green : -23
Gray Mixer Aqua : -20
Gray Mixer Blue : +5
Gray Mixer Purple : +13
Gray Mixer Magenta : +6
Split Toning Shadow Hue : 0
Split Toning Shadow Saturation : 0
Split Toning Highlight Hue : 0
Split Toning Highlight Saturation : 0
Split Toning Balance : 0
Parametric Shadows : 0
Parametric Darks : 0
Parametric Lights : 0
Parametric Highlights : 0
Parametric Shadow Split : 25
Parametric Midtone Split : 50
Parametric Highlight Split : 75
Sharpen Radius : +1.0
Sharpen Detail : 25
Sharpen Edge Masking : 0
Post Crop Vignette Amount : -32
Post Crop Vignette Midpoint : 50
Post Crop Vignette Feather : 50
Post Crop Vignette Roundness : 0
Post Crop Vignette Style : Highlight Priority
Post Crop Vignette Highlight Contrast : 0
Grain Amount : 0
Color Noise Reduction Detail : 50
Lens Profile Enable : 0
Lens Manual Distortion Amount : 0
Perspective Vertical : 0
Perspective Horizontal : 0
Perspective Rotate : 0.0
Perspective Scale : 100
Auto Lateral CA : 0
Exposure 2012 : +1.60
Contrast 2012 : +77
Highlights 2012 : -41
Shadows 2012 : +39
Whites 2012 : 0
Blacks 2012 : 0
Clarity 2012 : +60
Convert To Grayscale : True
Tone Curve Name 2012 : Linear
Camera Profile : Adobe Standard
Lens Profile Setup : LensDefaults
Has Settings : True
Crop Top : 0.111111
Crop Left : 0.041924
Crop Bottom : 1
Crop Right : 0.706535
Crop Angle : 0
Crop Constrain To Warp : 0
Crop Width : 3464
Crop Height : 3083
Crop Unit : pixels
Has Crop : True
Already Applied : True
Tone Curve PV2012 : 0, 0, 255, 255
Tone Curve PV2012 Red : 0, 0, 255, 255
Tone Curve PV2012 Green : 0, 0, 255, 255
Tone Curve PV2012 Blue : 0, 0, 255, 255
Image Width : 300
Image Height : 267
Bits Per Sample : 8
Color Components : 1
Aperture : 2.4
Blue Balance : 0.495854
Image Size : 300x267
Lens ID : Leica Summicron-M 35mm f/2 ASPH.
Megapixels : 0.080
Red Balance : 0.713402
Scale Factor To 35 mm Equivalent : 1.0
Shutter Speed : 1/15
Circle Of Confusion : 0.030 mm
Field Of View : 54.4 deg
Focal Length : 35.0 mm (35 mm equivalent: 35.0 mm)
Hyperfocal Distance : 16.99 m
Light Value : 4.1