Uber Exif Photo
Keywords : 35mm, skyhigh
Make : FUJIFILM
Camera Model Name : X-E1
Software : Adobe Photoshop Lightroom 5.0 (Macintosh)
Modify Date : 2013:11:10 20:21:12
Exposure Time : 1/70
F Number : 1.0
Exposure Program : Aperture-priority AE
ISO : 200
Sensitivity Type : Standard Output Sensitivity
Date/Time Original : 2013:09:29 17:36:29
Create Date : 2013:09:29 17:36:29
Shutter Speed Value : 1/70
Aperture Value : 1.0
Brightness Value : -0.19
Exposure Compensation : -0.33
Metering Mode : Average
Light Source : Unknown
Flash : Off, Did not fire
Focal Length : 21.0 mm
Sensing Method : One-chip color area
Scene Type : Directly photographed
Custom Rendered : Normal
Exposure Mode : Auto
White Balance : Auto
Focal Length In 35mm Format : 32 mm
Scene Capture Type : Standard
Sharpness : Normal
Subject Distance Range : Unknown
Lens Info : 21mm f/?
Lens Model : 21.0 mm
Profile Description : sRGB IEC61966-2.1
Creator Tool : Adobe Photoshop Lightroom 5.0 (Macintosh)
Lens : 21.0 mm
Date Created : 2013:09:29 17:36:29
Format : image/jpeg
Version : 8.2
Process Version : 6.7
Auto White Version : 134348800
Color Temperature : 4700
Tint : +22
Saturation : 0
Luminance Smoothing : 0
Color Noise Reduction : 25
Vignette Amount : 0
Shadow Tint : 0
Red Hue : 0
Red Saturation : 0
Green Hue : 0
Green Saturation : 0
Blue Hue : 0
Blue Saturation : 0
Vibrance : +24
Hue Adjustment Red : 0
Hue Adjustment Orange : 0
Hue Adjustment Yellow : 0
Hue Adjustment Green : 0
Hue Adjustment Aqua : 0
Hue Adjustment Blue : 0
Hue Adjustment Purple : 0
Hue Adjustment Magenta : 0
Saturation Adjustment Red : +100
Saturation Adjustment Orange : +53
Saturation Adjustment Yellow : +78
Saturation Adjustment Green : +40
Saturation Adjustment Aqua : +50
Saturation Adjustment Blue : +29
Saturation Adjustment Purple : -14
Saturation Adjustment Magenta : -1
Luminance Adjustment Red : 0
Luminance Adjustment Orange : 0
Luminance Adjustment Yellow : 0
Luminance Adjustment Green : 0
Luminance Adjustment Aqua : 0
Luminance Adjustment Blue : 0
Luminance Adjustment Purple : 0
Luminance Adjustment Magenta : 0
Split Toning Shadow Hue : 0
Split Toning Shadow Saturation : 0
Split Toning Highlight Hue : 0
Split Toning Highlight Saturation : 0
Split Toning Balance : 0
Parametric Shadows : 0
Parametric Darks : 0
Parametric Lights : 0
Parametric Highlights : 0
Parametric Shadow Split : 25
Parametric Midtone Split : 50
Parametric Highlight Split : 75
Sharpen Radius : +1.0
Sharpen Detail : 25
Sharpen Edge Masking : 0
Post Crop Vignette Amount : 0
Grain Amount : 0
Color Noise Reduction Detail : 50
Color Noise Reduction Smoothness : 50
Lens Profile Enable : 0
Lens Manual Distortion Amount : 0
Perspective Vertical : 0
Perspective Horizontal : 0
Perspective Rotate : 0.0
Perspective Scale : 100
Perspective Aspect : 0
Perspective Upright : Off
Auto Lateral CA : 0
Exposure 2012 : -0.70
Contrast 2012 : +39
Highlights 2012 : -100
Shadows 2012 : -37
Whites 2012 : -52
Blacks 2012 : -26
Clarity 2012 : +43
Defringe Purple Amount : 0
Defringe Purple Hue Lo : 30
Defringe Purple Hue Hi : 70
Defringe Green Amount : 0
Defringe Green Hue Lo : 40
Defringe Green Hue Hi : 60
Convert To Grayscale : False
Tone Curve Name 2012 : Linear
Camera Profile : Adobe Standard
Lens Profile Setup : LensDefaults
Has Settings : True
Crop Top : 0
Crop Left : 0
Crop Bottom : 1
Crop Right : 0.788086
Crop Angle : 0
Crop Constrain To Warp : 0
Has Crop : True
Already Applied : True
Subject : 35mm, skyhigh
Tone Curve PV2012 : 0, 0, 255, 255
Tone Curve PV2012 Red : 0, 0, 255, 255
Tone Curve PV2012 Green : 0, 0, 255, 255
Tone Curve PV2012 Blue : 0, 0, 255, 255
Image Width : 300
Image Height : 254
Bits Per Sample : 8
Color Components : 3
Aperture : 1.0
Image Size : 300x254
Megapixels : 0.076
Scale Factor To 35 mm Equivalent : 1.5
Shutter Speed : 1/70
Circle Of Confusion : 0.020 mm
Field Of View : 58.7 deg
Focal Length : 21.0 mm (35 mm equivalent: 32.0 mm)
Hyperfocal Distance : 22.37 m
Light Value : 5.1
Lens ID : 21.0mm