Uber Exif Photo
Photometric Interpretation : RGB
Make : PENTAX
Camera Model Name : PENTAX 645D
Orientation : Horizontal (normal)
Planar Configuration : Chunky
Software : Adobe Photoshop CS5 Windows
Modify Date : 2014:02:13 21:20:01
Exposure Time : 1/125
F Number : 11.0
Exposure Program : Aperture-priority AE
ISO : 100
Date/Time Original : 2011:10:25 11:30:08
Create Date : 2011:10:25 11:30:08
Shutter Speed Value : 1/125
Aperture Value : 11.0
Exposure Compensation : -0.7
Metering Mode : Multi-segment
Flash : Off, Did not fire
Focal Length : 300.0 mm
Color Space : Uncalibrated
Exif Image Width : 7132
Exif Image Height : 1966
Sensing Method : One-chip color area
Custom Rendered : Normal
Exposure Mode : Manual
White Balance : Auto
Focal Length In 35mm Format : 236 mm
Scene Capture Type : Standard
Contrast : High
Saturation : Normal
Sharpness : Hard
Subject Distance Range : Distant
Lens Info : 300mm f/4
Lens Model : smc PENTAX-FA*645 300mm F4 ED [IF]
Profile Description : Adobe RGB (1998)
Rating : 0
Label :
Creator Tool : Adobe Photoshop CS5 Windows
Lens : smc PENTAX-FA*645 300mm F4 ED [IF]
Approximate Focus Distance : 32
Date Created : 2011:10:25 11:30:08
Color Mode : RGB
ICC Profile Name : Adobe RGB (1998)
Raw File Name : _IGP1029.DNG
Version : 6.5
Process Version : 5.7
Color Temperature : 5500
Tint : +18
Exposure : 0.00
Shadows : 5
Brightness : +50
Luminance Smoothing : 0
Color Noise Reduction : 25
Chromatic Aberration R : 0
Chromatic Aberration B : 0
Vignette Amount : 0
Shadow Tint : 0
Red Hue : 0
Red Saturation : 0
Green Hue : 0
Green Saturation : 0
Blue Hue : 0
Blue Saturation : 0
Fill Light : 0
Vibrance : +50
Highlight Recovery : 45
Clarity : +100
Defringe : 0
Hue Adjustment Red : 0
Hue Adjustment Orange : 0
Hue Adjustment Yellow : 0
Hue Adjustment Green : 0
Hue Adjustment Aqua : 0
Hue Adjustment Blue : 0
Hue Adjustment Purple : 0
Hue Adjustment Magenta : 0
Saturation Adjustment Red : 0
Saturation Adjustment Orange : 0
Saturation Adjustment Yellow : 0
Saturation Adjustment Green : 0
Saturation Adjustment Aqua : 0
Saturation Adjustment Blue : 0
Saturation Adjustment Purple : 0
Saturation Adjustment Magenta : 0
Luminance Adjustment Red : 0
Luminance Adjustment Orange : 0
Luminance Adjustment Yellow : 0
Luminance Adjustment Green : 0
Luminance Adjustment Aqua : 0
Luminance Adjustment Blue : 0
Luminance Adjustment Purple : 0
Luminance Adjustment Magenta : 0
Split Toning Shadow Hue : 0
Split Toning Shadow Saturation : 0
Split Toning Highlight Hue : 0
Split Toning Highlight Saturation : 0
Split Toning Balance : 0
Parametric Shadows : 0
Parametric Darks : 0
Parametric Lights : 0
Parametric Highlights : 0
Parametric Shadow Split : 25
Parametric Midtone Split : 50
Parametric Highlight Split : 75
Sharpen Radius : +1.0
Sharpen Detail : 61
Sharpen Edge Masking : 0
Post Crop Vignette Amount : 0
Grain Amount : 0
Color Noise Reduction Detail : 50
Lens Profile Enable : 0
Lens Manual Distortion Amount : 0
Perspective Vertical : 0
Perspective Horizontal : 0
Perspective Rotate : 0.0
Perspective Scale : 100
Convert To Grayscale : False
Tone Curve Name : Medium Contrast
Camera Profile : Adobe Standard
Lens Profile Setup : LensDefaults
Has Settings : True
Crop Top : 0.096115
Crop Left : 0
Crop Bottom : 0.466258
Crop Right : 1
Crop Angle : 0
Crop Constrain To Warp : 0
Has Crop : True
Already Applied : True
Format : image/jpeg
Tone Curve : 0, 0, 32, 22, 64, 56, 128, 128, 192, 196, 255, 255
Image Width : 300
Image Height : 83
Bits Per Sample : 8
Color Components : 3
Aperture : 11.0
Image Size : 300x83
Megapixels : 0.025
Scale Factor To 35 mm Equivalent : 0.8
Shutter Speed : 1/125
Circle Of Confusion : 0.038 mm
Depth Of Field : 9.68 m (27.87 - 37.56 m)
Field Of View : 8.7 deg
Focal Length : 300.0 mm (35 mm equivalent: 236.0 mm)
Hyperfocal Distance : 214.22 m
Light Value : 13.9
Lens ID : smc PENTAX-FA* 645 300mm F4 ED [IF]