Uber Exif Photo
Photometric Interpretation : RGB
Make : PENTAX
Camera Model Name : PENTAX 645D
Orientation : Horizontal (normal)
Planar Configuration : Chunky
Software : Adobe Photoshop CS5 Windows
Modify Date : 2014:02:13 21:16:59
Exposure Time : 0.3
F Number : 19.0
Exposure Program : Aperture-priority AE
ISO : 100
Date/Time Original : 2013:05:22 07:53:47
Create Date : 2013:05:22 07:53:47
Shutter Speed Value : 0.3
Aperture Value : 19.0
Exposure Compensation : 0
Metering Mode : Multi-segment
Flash : Off, Did not fire
Color Space : Uncalibrated
Exif Image Width : 6797
Exif Image Height : 2811
Sensing Method : One-chip color area
Custom Rendered : Normal
Exposure Mode : Auto
White Balance : Auto
Scene Capture Type : Standard
Contrast : Normal
Saturation : Normal
Sharpness : Normal
Subject Distance Range : Distant
Profile Description : Adobe RGB (1998)
Creator Tool : Adobe Photoshop CS5 Windows
Approximate Focus Distance : 4
Date Created : 2013:05:22 07:53:47
Color Mode : RGB
ICC Profile Name : Adobe RGB (1998)
Format : image/jpeg
Version : 7.4
Process Version : 6.7
Color Temperature : 6250
Tint : +20
Luminance Smoothing : 0
Color Noise Reduction : 25
Vignette Amount : 0
Shadow Tint : 0
Red Hue : 0
Red Saturation : 0
Green Hue : 0
Green Saturation : 0
Blue Hue : 0
Blue Saturation : 0
Vibrance : 0
Hue Adjustment Red : 0
Hue Adjustment Orange : 0
Hue Adjustment Yellow : 0
Hue Adjustment Green : 0
Hue Adjustment Aqua : 0
Hue Adjustment Blue : 0
Hue Adjustment Purple : 0
Hue Adjustment Magenta : 0
Saturation Adjustment Red : 0
Saturation Adjustment Orange : 0
Saturation Adjustment Yellow : 0
Saturation Adjustment Green : 0
Saturation Adjustment Aqua : 0
Saturation Adjustment Blue : 0
Saturation Adjustment Purple : 0
Saturation Adjustment Magenta : 0
Luminance Adjustment Red : 0
Luminance Adjustment Orange : 0
Luminance Adjustment Yellow : 0
Luminance Adjustment Green : 0
Luminance Adjustment Aqua : 0
Luminance Adjustment Blue : 0
Luminance Adjustment Purple : 0
Luminance Adjustment Magenta : 0
Split Toning Shadow Hue : 0
Split Toning Shadow Saturation : 0
Split Toning Highlight Hue : 0
Split Toning Highlight Saturation : 0
Split Toning Balance : 0
Parametric Shadows : 0
Parametric Darks : 0
Parametric Lights : 0
Parametric Highlights : 0
Parametric Shadow Split : 25
Parametric Midtone Split : 50
Parametric Highlight Split : 75
Sharpen Radius : +1.0
Sharpen Detail : 43
Sharpen Edge Masking : 0
Post Crop Vignette Amount : 0
Grain Amount : 0
Color Noise Reduction Detail : 50
Lens Profile Enable : 0
Lens Manual Distortion Amount : 0
Perspective Vertical : 0
Perspective Horizontal : 0
Perspective Rotate : +0.5
Perspective Scale : 100
Auto Lateral CA : 0
Exposure 2012 : 0.00
Contrast 2012 : 0
Highlights 2012 : -14
Shadows 2012 : +14
Whites 2012 : 0
Blacks 2012 : 0
Clarity 2012 : 0
Defringe Purple Amount : 0
Defringe Purple Hue Lo : 30
Defringe Purple Hue Hi : 70
Defringe Green Amount : 0
Defringe Green Hue Lo : 40
Defringe Green Hue Hi : 60
Convert To Grayscale : False
Tone Curve Name 2012 : Linear
Camera Profile : Adobe Standard
Lens Profile Setup : LensDefaults
Has Settings : True
Crop Top : 0
Crop Left : 0.009763
Crop Bottom : 0.523277
Crop Right : 1
Crop Angle : 0
Crop Constrain To Warp : 0
Crop Width : 7193
Crop Height : 2847
Crop Unit : pixels
Has Crop : True
Already Applied : True
Tone Curve PV2012 : 0, 0, 255, 255
Tone Curve PV2012 Red : 0, 0, 255, 255
Tone Curve PV2012 Green : 0, 0, 255, 255
Tone Curve PV2012 Blue : 0, 0, 255, 255
Image Width : 300
Image Height : 124
Bits Per Sample : 8
Color Components : 3
Aperture : 19.0
Image Size : 300x124
Megapixels : 0.037
Shutter Speed : 0.3
Light Value : 10.2
Lens ID : 645 A Series Lens