Uber Exif Photo
Copyright Flag : False
Make : Panasonic
Camera Model Name : DMC-FZ18
Orientation : Horizontal (normal)
Software : Adobe Photoshop CS3 Windows
Modify Date : 2014:02:14 18:59:02
Exposure Time : 1/30
F Number : 5.0
Exposure Program : Aperture-priority AE
ISO : 100
Date/Time Original : 2010:07:28 05:04:27
Create Date : 2010:07:28 05:04:27
Shutter Speed Value : 1/30
Aperture Value : 5.0
Exposure Compensation : 0
Max Aperture Value : 2.8
Metering Mode : Multi-segment
Light Source : Flash
Focal Length : 4.6 mm
Color Space : sRGB
Exif Image Width : 2000
Exif Image Height : 1623
Sensing Method : One-chip color area
Scene Type : Directly photographed
Custom Rendered : Normal
Exposure Mode : Auto
White Balance : Auto
Digital Zoom Ratio : 0
Focal Length In 35mm Format : 28 mm
Scene Capture Type : Standard
Gain Control : None
Contrast : Normal
Saturation : Normal
Sharpness : Normal
Date/Time Digitized : 2010:07:28 05:04:27+02:00
Creator Tool : Adobe Photoshop CS3 Windows
Rating : 0
Raw File Name : P1020130.JPG
Version : 4.4.1
Incremental Temperature : 0
Incremental Tint : 0
Exposure : 0.00
Shadows : 5
Brightness : +26
Luminance Smoothing : 0
Color Noise Reduction : 0
Chromatic Aberration R : 0
Chromatic Aberration B : 0
Vignette Amount : 0
Shadow Tint : 0
Red Hue : 0
Red Saturation : 0
Green Hue : 0
Green Saturation : 0
Blue Hue : 0
Blue Saturation : 0
Fill Light : 8
Vibrance : +11
Highlight Recovery : 51
Clarity : 49
Defringe : 0
Hue Adjustment Red : 0
Hue Adjustment Orange : 0
Hue Adjustment Yellow : 0
Hue Adjustment Green : 0
Hue Adjustment Aqua : 0
Hue Adjustment Blue : 0
Hue Adjustment Purple : 0
Hue Adjustment Magenta : 0
Saturation Adjustment Red : 0
Saturation Adjustment Orange : 0
Saturation Adjustment Yellow : 0
Saturation Adjustment Green : 0
Saturation Adjustment Aqua : 0
Saturation Adjustment Blue : 0
Saturation Adjustment Purple : 0
Saturation Adjustment Magenta : 0
Luminance Adjustment Red : 0
Luminance Adjustment Orange : 0
Luminance Adjustment Yellow : 0
Luminance Adjustment Green : 0
Luminance Adjustment Aqua : 0
Luminance Adjustment Blue : 0
Luminance Adjustment Purple : 0
Luminance Adjustment Magenta : 0
Split Toning Shadow Hue : 0
Split Toning Shadow Saturation : 0
Split Toning Highlight Hue : 0
Split Toning Highlight Saturation : 0
Split Toning Balance : 0
Parametric Shadows : 0
Parametric Darks : 0
Parametric Lights : 0
Parametric Highlights : 0
Parametric Shadow Split : 25
Parametric Midtone Split : 50
Parametric Highlight Split : 75
Sharpen Radius : +1.0
Sharpen Detail : 25
Sharpen Edge Masking : 0
Convert To Grayscale : False
Tone Curve Name : Linear
Camera Profile : Embedded
Has Settings : True
Has Crop : False
Already Applied : True
Format : image/jpeg
Color Mode : RGB
ICC Profile Name : sRGB IEC61966-2.1
Flash Fired : True
Flash Return : No return detection
Flash Mode : Auto
Flash Function : False
Flash Red Eye Mode : True
Tone Curve : 0, 0, 255, 255
Derived From :
Image Width : 300
Image Height : 243
Bits Per Sample : 8
Color Components : 1
Aperture : 5.0
Image Size : 300x243
Megapixels : 0.073
Scale Factor To 35 mm Equivalent : 6.1
Shutter Speed : 1/30
Flash : Auto, Fired, Red-eye reduction
Circle Of Confusion : 0.005 mm
Field Of View : 65.5 deg
Focal Length : 4.6 mm (35 mm equivalent: 28.0 mm)
Hyperfocal Distance : 0.86 m
Light Value : 9.6