Uber Exif Photo
Make : FUJIFILM
Camera Model Name : X-E1
Software : Adobe Photoshop Lightroom 5.3 (Macintosh)
Modify Date : 2014:02:27 21:55:17
Exposure Time : 1/480
F Number : 5.0
Exposure Program : Program AE
ISO : 200
Sensitivity Type : Standard Output Sensitivity
Date/Time Original : 2014:02:27 18:07:05
Create Date : 2014:02:27 18:07:05
Shutter Speed Value : 1/480
Aperture Value : 5.0
Brightness Value : 8.16
Exposure Compensation : 0
Max Aperture Value : 2.8
Metering Mode : Multi-segment
Light Source : Unknown
Flash : Off, Did not fire
Focal Length : 55.0 mm
Color Space : sRGB
Sensing Method : One-chip color area
Scene Type : Directly photographed
Custom Rendered : Normal
Exposure Mode : Auto
White Balance : Auto
Focal Length In 35mm Format : 83 mm
Scene Capture Type : Standard
Sharpness : Normal
Subject Distance Range : Unknown
Lens Info : 18-55mm f/2.8-4
Lens Make : FUJIFILM
Lens Model : XF18-55mmF2.8-4 R LM OIS
Lens Serial Number : 24A36621
Profile Description : sRGB IEC61966-2.1
Creator Tool : Adobe Photoshop Lightroom 5.3 (Macintosh)
Label : Red
Lens : XF18-55mmF2.8-4 R LM OIS
Date Created : 2014:02:27 18:07:05
Format : image/jpeg
Version : 8.3
Process Version : 6.7
Auto White Version : 134348800
Color Temperature : 5890
Tint : +20
Saturation : +11
Luminance Smoothing : 0
Color Noise Reduction : 25
Vignette Amount : 0
Shadow Tint : 0
Red Hue : 0
Red Saturation : 0
Green Hue : 0
Green Saturation : 0
Blue Hue : 0
Blue Saturation : 0
Vibrance : +17
Hue Adjustment Red : 0
Hue Adjustment Orange : 0
Hue Adjustment Yellow : 0
Hue Adjustment Green : 0
Hue Adjustment Aqua : 0
Hue Adjustment Blue : 0
Hue Adjustment Purple : 0
Hue Adjustment Magenta : 0
Saturation Adjustment Red : +5
Saturation Adjustment Orange : +8
Saturation Adjustment Yellow : +18
Saturation Adjustment Green : +10
Saturation Adjustment Aqua : 0
Saturation Adjustment Blue : +17
Saturation Adjustment Purple : +9
Saturation Adjustment Magenta : +14
Luminance Adjustment Red : +6
Luminance Adjustment Orange : +6
Luminance Adjustment Yellow : +33
Luminance Adjustment Green : +11
Luminance Adjustment Aqua : 0
Luminance Adjustment Blue : 0
Luminance Adjustment Purple : +20
Luminance Adjustment Magenta : +24
Split Toning Shadow Hue : 0
Split Toning Shadow Saturation : 0
Split Toning Highlight Hue : 0
Split Toning Highlight Saturation : 0
Split Toning Balance : 0
Parametric Shadows : 0
Parametric Darks : 0
Parametric Lights : +53
Parametric Highlights : 0
Parametric Shadow Split : 25
Parametric Midtone Split : 50
Parametric Highlight Split : 75
Sharpen Radius : +1.0
Sharpen Detail : 25
Sharpen Edge Masking : 0
Post Crop Vignette Amount : 0
Grain Amount : 0
Color Noise Reduction Detail : 50
Color Noise Reduction Smoothness : 50
Lens Profile Enable : 0
Lens Manual Distortion Amount : 0
Perspective Vertical : 0
Perspective Horizontal : 0
Perspective Rotate : 0.0
Perspective Scale : 100
Perspective Aspect : 0
Perspective Upright : Off
Auto Lateral CA : 0
Exposure 2012 : -0.35
Contrast 2012 : 0
Highlights 2012 : -64
Shadows 2012 : +94
Whites 2012 : -13
Blacks 2012 : -61
Clarity 2012 : -22
Defringe Purple Amount : 0
Defringe Purple Hue Lo : 30
Defringe Purple Hue Hi : 70
Defringe Green Amount : 0
Defringe Green Hue Lo : 40
Defringe Green Hue Hi : 60
Convert To Grayscale : False
Tone Curve Name 2012 : Linear
Camera Profile : Adobe Standard
Lens Profile Setup : LensDefaults
Has Settings : True
Crop Top : 0.061061
Crop Left : 0
Crop Bottom : 0.871133
Crop Right : 0.955584
Crop Angle : 0
Crop Constrain To Warp : 0
Has Crop : True
Already Applied : True
Tone Curve PV2012 : 0, 0, 255, 255
Tone Curve PV2012 Red : 0, 0, 255, 255
Tone Curve PV2012 Green : 0, 0, 255, 255
Tone Curve PV2012 Blue : 0, 0, 255, 255
Paint Correction What : Correction
Paint Correction Amount : 1.000000
Paint Correction Active : true
Paint Correction Saturation : 0.000000
Paint Correction Sharpness : 0.000000
Paint Correction Brightness : 0.000000
Paint Correction Toning Hue : 170.429993
Paint Correction Toning Saturation : 0.000000
Paint Correction Exposure 2012 : 0.070000
Paint Correction Contrast 2012 : 0.000000
Paint Correction Highlights 2012 : 0.000000
Paint Correction Shadows 2012 : 0.369945
Paint Correction Clarity 2012 : 0.000000
Paint Correction Luminance Noise : 0.000000
Paint Correction Moire : 0.000000
Paint Correction Defringe : 0.000000
Paint Correction Temperature : 0.149632
Paint Correction Tint : 0.000000
Paint Correction Mask What : Mask/Paint
Paint Correction Mask Value : 0.677487
Paint Correction Mask Radius : 0.003455
Paint Correction Mask Flow : 0.700000
Paint Correction Mask Center Weight : 0.037575
Circ Grad Based Corr What : Correction
Circ Grad Based Corr Amount : 1.000000
Circ Grad Based Corr Active : true
Circ Grad Based Corr Saturation : 0.000000
Circ Grad Based Corr Sharpness : 0.202022
Circ Grad Based Corr Brightness : 0.000000
Circ Grad Based Corr Toning Hue : 170.429993
Circ Grad Based Corr Toning Saturation : 0.000000
Circ Grad Based Corr Exposure 2012 : 0.120588
Circ Grad Based Corr Contrast 2012 : 0.000000
Circ Grad Based Corr Highlights 2012 : -0.518107
Circ Grad Based Corr Shadows 2012 : 0.814063
Circ Grad Based Corr Clarity 2012 : -0.457445
Circ Grad Based Corr Luminance Noise : 0.000000
Circ Grad Based Corr Moire : 0.000000
Circ Grad Based Corr Defringe : 0.000000
Circ Grad Based Corr Temperature : 0.339246
Circ Grad Based Corr Tint : 0.065074
Circ Grad Based Corr Mask What : Mask/CircularGradient
Circ Grad Based Corr Mask Value : 1.000000
Circ Grad Based Corr Mask Top : -0.478950
Circ Grad Based Corr Mask Left : -0.095272
Circ Grad Based Corr Mask Bottom : 0.765652
Circ Grad Based Corr Mask Right : 0.883647
Circ Grad Based Corr Mask Angle : 0.000000
Circ Grad Based Corr Mask Midpoint : +50
Circ Grad Based Corr Mask Roundness : 0
Circ Grad Based Corr Mask Feather : +50
Circ Grad Based Corr Mask Flipped : false
Circ Grad Based Corr Mask Version : +2
Image Width : 300
Image Height : 169
Bits Per Sample : 8
Color Components : 3
Aperture : 5.0
Image Size : 300x169
Megapixels : 0.051
Scale Factor To 35 mm Equivalent : 1.5
Shutter Speed : 1/480
Circle Of Confusion : 0.020 mm
Field Of View : 24.5 deg
Focal Length : 55.0 mm (35 mm equivalent: 83.0 mm)
Hyperfocal Distance : 30.39 m
Light Value : 12.6
Lens ID : XF18-55mm F2.8-4 R LM OIS