Uber Exif Photo
By-line : Big Anucha
Copyright Notice : Leica M
Make : Leica Camera AG
Camera Model Name : LEICA M (Typ 240)
Software : Adobe Photoshop Lightroom 5.3 (Windows)
Modify Date : 2014:03:31 13:58:39
Artist : Big Anucha
Copyright : Leica M
Exposure Time : 8
F Number : 16.0
Exposure Program : Manual
ISO : 100
Date/Time Original : 2014:03:30 06:55:26
Create Date : 2014:03:30 06:55:26
Shutter Speed Value : 8
Aperture Value : 16.0
Exposure Compensation : 0
Max Aperture Value : 3.4
Metering Mode : Center-weighted average
Light Source : Unknown
Flash : No Flash
Focal Length : 21.0 mm
Color Space : sRGB
Scene Type : Directly photographed
Custom Rendered : Normal
Exposure Mode : Manual
White Balance : Auto
Digital Zoom Ratio : 0
Scene Capture Type : Standard
Contrast : Normal
Saturation : Normal
Sharpness : Normal
Serial Number : 4809399
Lens Model : Super-Elmar-M 1:3.4/21 ASPH.
GPS Version ID : 2.2.0.0
GPS Altitude Ref : Above Sea Level
GPS Status : Measurement Void
GPS Dilution Of Precision : 0
GPS Speed : 0
GPS Track : 0
Profile Description : sRGB IEC61966-2.1
Format : image/jpeg
Creator Tool : Adobe Photoshop Lightroom 5.3 (Windows)
Lens : Super-Elmar-M 1:3.4/21 ASPH.
Date Created : 2014:03:30 06:55:26
Version : 8.3
Process Version : 6.7
Auto White Version : 134348800
Color Temperature : 4381
Tint : -5
Luminance Smoothing : 0
Color Noise Reduction : 25
Vignette Amount : 0
Shadow Tint : 0
Red Hue : 0
Red Saturation : 0
Green Hue : 0
Green Saturation : 0
Blue Hue : 0
Blue Saturation : 0
Vibrance : +36
Hue Adjustment Red : 0
Hue Adjustment Orange : 0
Hue Adjustment Yellow : 0
Hue Adjustment Green : 0
Hue Adjustment Aqua : 0
Hue Adjustment Blue : 0
Hue Adjustment Purple : 0
Hue Adjustment Magenta : 0
Saturation Adjustment Red : 0
Saturation Adjustment Orange : +7
Saturation Adjustment Yellow : +16
Saturation Adjustment Green : 0
Saturation Adjustment Aqua : +7
Saturation Adjustment Blue : +18
Saturation Adjustment Purple : 0
Saturation Adjustment Magenta : 0
Luminance Adjustment Red : 0
Luminance Adjustment Orange : 0
Luminance Adjustment Yellow : 0
Luminance Adjustment Green : 0
Luminance Adjustment Aqua : 0
Luminance Adjustment Blue : 0
Luminance Adjustment Purple : 0
Luminance Adjustment Magenta : 0
Split Toning Shadow Hue : 0
Split Toning Shadow Saturation : 0
Split Toning Highlight Hue : 0
Split Toning Highlight Saturation : 0
Split Toning Balance : 0
Parametric Shadows : 0
Parametric Darks : 0
Parametric Lights : 0
Parametric Highlights : 0
Parametric Shadow Split : 25
Parametric Midtone Split : 50
Parametric Highlight Split : 75
Sharpen Radius : +1.0
Sharpen Detail : 25
Sharpen Edge Masking : 0
Post Crop Vignette Amount : 0
Grain Amount : 0
Color Noise Reduction Detail : 50
Color Noise Reduction Smoothness : 50
Lens Profile Enable : 1
Lens Manual Distortion Amount : 0
Perspective Vertical : 0
Perspective Horizontal : 0
Perspective Rotate : 0.0
Perspective Scale : 100
Perspective Aspect : 0
Perspective Upright : Off
Auto Lateral CA : 0
Exposure 2012 : +1.07
Contrast 2012 : +40
Highlights 2012 : -95
Shadows 2012 : -5
Whites 2012 : 0
Blacks 2012 : -2
Clarity 2012 : +10
Defringe Purple Amount : 0
Defringe Purple Hue Lo : 30
Defringe Purple Hue Hi : 70
Defringe Green Amount : 0
Defringe Green Hue Lo : 40
Defringe Green Hue Hi : 60
Convert To Grayscale : False
Tone Curve Name 2012 : Linear
Camera Profile : Adobe Standard
Lens Profile Setup : Custom
Lens Profile Name : Adobe (Leica SUPER-ELMAR-M 21 mm f/3.4 ASPH.)
Lens Profile Filename : Leica Camera AG (Leica SUPER-ELMAR-M 21 mm f3.4 ASPH.) - RAW.lcp
Lens Profile Distortion Scale : 100
Lens Profile Chromatic Aberration Scale : 100
Lens Profile Vignetting Scale : 100
Has Settings : True
Crop Top : 0.404821
Crop Left : 0.418932
Crop Bottom : 0.769552
Crop Right : 0.783663
Crop Angle : 0
Crop Constrain To Warp : 0
Has Crop : True
Already Applied : True
Creator : Big Anucha
Rights : Leica M
Tone Curve PV2012 : 0, 0, 255, 255
Tone Curve PV2012 Red : 0, 0, 255, 255
Tone Curve PV2012 Green : 0, 0, 255, 255
Tone Curve PV2012 Blue : 0, 0, 255, 255
Image Width : 300
Image Height : 200
Bits Per Sample : 8
Color Components : 3
Aperture : 16.0
Image Size : 300x200
Megapixels : 0.060
Scale Factor To 35 mm Equivalent : 19.8
Shutter Speed : 8
GPS Altitude : 0 m Above Sea Level
Circle Of Confusion : 0.002 mm
Field Of View : 4.9 deg
Focal Length : 21.0 mm (35 mm equivalent: 416.6 mm)
Hyperfocal Distance : 18.20 m
Light Value : 5.0