Uber Exif Photo
Make : Nikon
Camera Model Name : Nikon SUPER COOLSCAN 8000 ED
Orientation : Horizontal (normal)
Software : Adobe Photoshop CS6 (Macintosh)
Modify Date : 2014:04:03 18:53:38
Create Date : 2006:10:23 17:19:01
Color Space : Uncalibrated
Exif Image Width : 9126
Exif Image Height : 3743
Color Mode : Grayscale
ICC Profile Name : Gray Gamma 2.2
Creator Tool : Adobe Photoshop CS Macintosh
Rating : 0
Format : image/jpeg
Raw File Name : Egertorget 4Akorr.tif
Version : 7.0
Process Version : 6.7
Exposure : 0.00
Shadows : 0
Brightness : 0
Contrast : 0
Sharpness : 0
Luminance Smoothing : 0
Vignette Amount : 0
Fill Light : 0
Highlight Recovery : 0
Clarity : 0
Split Toning Shadow Hue : 0
Split Toning Shadow Saturation : 0
Split Toning Highlight Hue : 0
Split Toning Highlight Saturation : 0
Split Toning Balance : 0
Parametric Shadows : 0
Parametric Darks : 0
Parametric Lights : 0
Parametric Highlights : 0
Parametric Shadow Split : 25
Parametric Midtone Split : 50
Parametric Highlight Split : 75
Sharpen Radius : +1.0
Sharpen Detail : 25
Sharpen Edge Masking : 0
Post Crop Vignette Amount : 0
Grain Amount : 0
Lens Profile Enable : 0
Lens Manual Distortion Amount : 0
Perspective Vertical : 0
Perspective Horizontal : 0
Perspective Rotate : 0.0
Perspective Scale : 100
Exposure 2012 : +0.15
Contrast 2012 : +24
Highlights 2012 : -22
Shadows 2012 : +77
Whites 2012 : 0
Blacks 2012 : 0
Clarity 2012 : 0
Tone Curve Name : Linear
Tone Curve Name 2012 : Linear
Lens Profile Setup : LensDefaults
Has Settings : True
Has Crop : False
Already Applied : True
Tone Curve : 0, 0, 255, 255
Tone Curve Red : 0, 0, 255, 255
Tone Curve Green : 0, 0, 255, 255
Tone Curve Blue : 0, 0, 255, 255
Tone Curve PV2012 : 0, 0, 255, 255
Tone Curve PV2012 Red : 0, 0, 255, 255
Tone Curve PV2012 Green : 0, 0, 255, 255
Tone Curve PV2012 Blue : 0, 0, 255, 255
Image Width : 300
Image Height : 123
Bits Per Sample : 8
Color Components : 1
Image Size : 300x123
Megapixels : 0.037