Uber Exif Photo
Caption-Abstract : Norma's dog - Emma has been her loyal companion for over 5 years now. The depend on each other for their love is mutual.
By-line : Gerry Figueroa
By-line Title : Photographer
Object Name : Norma and her dog Emma.
Province-State : Oklahoma
Country-Primary Location Name : USA
Keywords : pet, dog, companion, love, elderly, woman
Copyright Notice : photo©gerry.figueroa. Do not reproduce without written permission. Please contact: gerryfig@gmail.com
Copyright Flag : True
Image Description : Norma's dog - Emma has been her loyal companion for over 5 years now. The depend on each other for their love is mutual.
Make : Canon
Camera Model Name : Canon EOS 5D Mark II
Orientation : Horizontal (normal)
Software : Adobe Photoshop CS5.1 Macintosh
Modify Date : 2014:04:23 13:31:26
Artist : Gerry Figueroa
Copyright : photo©gerry.figueroa. Do not reproduce without written permission. Please contact: gerryfig@gmail.com
Exposure Time : 1/125
F Number : 1.4
Exposure Program : Manual
ISO : 2000
Date/Time Original : 2013:01:25 12:47:17
Create Date : 2013:01:25 12:47:17
Shutter Speed Value : 1/125
Aperture Value : 1.4
Exposure Compensation : 0
Max Aperture Value : 1.4
Metering Mode : Spot
Flash : Off, Did not fire
Focal Length : 50.0 mm
Color Space : sRGB
Exif Image Width : 1600
Exif Image Height : 1067
Custom Rendered : Normal
Exposure Mode : Manual
White Balance : Auto
Scene Capture Type : Standard
Owner Name : Gerry Figueroa
Serial Number : 322318771
Lens Info : 50mm f/?
Lens Model : EF50mm f/1.4 USM
Profile Description : sRGB IEC61966-2.1
Rating : 0
Label :
Creator Tool : Adobe Photoshop CS5.1 Macintosh
Lens : EF50mm f/1.4 USM
Image Number : 0
Flash Compensation : 0
Firmware : 2.1.2
Format : image/jpeg
Date Created : 2013:12:06 12:47:17.046-05:00
Color Mode : RGB
ICC Profile Name : sRGB IEC61966-2.1
City : Tulsa
State : Oklahoma
Country : USA
Authors Position : Photographer
Raw File Name : 20130125-IMG_5359.CR2
Version : 6.7
Process Version : 6.7
Color Temperature : 2850
Tint : +4
Exposure : 0.00
Shadows : 5
Brightness : +50
Contrast : +25
Saturation : +20
Sharpness : 75
Luminance Smoothing : 0
Color Noise Reduction : 25
Vignette Amount : 0
Shadow Tint : 0
Red Hue : 0
Red Saturation : 0
Green Hue : 0
Green Saturation : 0
Blue Hue : 0
Blue Saturation : 0
Fill Light : 0
Vibrance : +20
Highlight Recovery : 0
Clarity : 0
Defringe : 0
Hue Adjustment Red : 0
Hue Adjustment Orange : 0
Hue Adjustment Yellow : 0
Hue Adjustment Green : 0
Hue Adjustment Aqua : 0
Hue Adjustment Blue : 0
Hue Adjustment Purple : 0
Hue Adjustment Magenta : 0
Saturation Adjustment Red : 0
Saturation Adjustment Orange : 0
Saturation Adjustment Yellow : 0
Saturation Adjustment Green : 0
Saturation Adjustment Aqua : 0
Saturation Adjustment Blue : 0
Saturation Adjustment Purple : 0
Saturation Adjustment Magenta : 0
Luminance Adjustment Red : 0
Luminance Adjustment Orange : 0
Luminance Adjustment Yellow : 0
Luminance Adjustment Green : 0
Luminance Adjustment Aqua : 0
Luminance Adjustment Blue : 0
Luminance Adjustment Purple : 0
Luminance Adjustment Magenta : 0
Split Toning Shadow Hue : 0
Split Toning Shadow Saturation : 0
Split Toning Highlight Hue : 0
Split Toning Highlight Saturation : 0
Split Toning Balance : 0
Parametric Shadows : 0
Parametric Darks : 0
Parametric Lights : 0
Parametric Highlights : 0
Parametric Shadow Split : 25
Parametric Midtone Split : 50
Parametric Highlight Split : 75
Sharpen Radius : +1.0
Sharpen Detail : 25
Sharpen Edge Masking : 0
Post Crop Vignette Amount : 0
Grain Amount : 0
Color Noise Reduction Detail : 50
Lens Profile Enable : 0
Lens Manual Distortion Amount : 0
Perspective Vertical : 0
Perspective Horizontal : 0
Perspective Rotate : 0.0
Perspective Scale : 100
Auto Lateral CA : 0
Exposure 2012 : -0.10
Contrast 2012 : -25
Highlights 2012 : -50
Shadows 2012 : +50
Whites 2012 : +27
Blacks 2012 : +26
Clarity 2012 : +20
Convert To Grayscale : False
Tone Curve Name : Medium Contrast
Tone Curve Name 2012 : Linear
Camera Profile : Adobe Standard
Lens Profile Setup : LensDefaults
Has Settings : True
Crop Top : 0
Crop Left : 0
Crop Bottom : 1
Crop Right : 1
Crop Angle : 0
Crop Constrain To Warp : 0
Has Crop : True
Already Applied : True
Marked : True
Rights : photo©gerry.figueroa. Do not reproduce without written permission. Please contact: gerryfig@gmail.com
Title : Norma and her dog Emma.
Description : Norma's dog - Emma has been her loyal companion for over 5 years now. The depend on each other for their love is mutual.
Subject : pet, dog, companion, love, elderly, woman
Creator : Gerry Figueroa
Tone Curve : 0, 0, 32, 22, 64, 56, 128, 128, 192, 196, 255, 255
Tone Curve Red : 0, 0, 255, 255
Tone Curve Green : 0, 0, 255, 255
Tone Curve Blue : 0, 0, 255, 255
Tone Curve PV2012 : 0, 0, 255, 255
Tone Curve PV2012 Red : 0, 0, 255, 255
Tone Curve PV2012 Green : 0, 0, 255, 255
Tone Curve PV2012 Blue : 0, 0, 255, 255
Derived From :
Creator Work Email : gerryfig@gmail.com
Creator Work URL : www.gerryfig.com, www.pixitales.com, www.flickr.com/photos/gerryfig, www.500px.com/gerryfig
Image Width : 300
Image Height : 200
Bits Per Sample : 8
Color Components : 3
Aperture : 1.4
Image Size : 300x200
Megapixels : 0.060
Scale Factor To 35 mm Equivalent : 1.0
Shutter Speed : 1/125
Create Date : 2013:01:25 12:47:17.46
Date/Time Original : 2013:01:25 12:47:17.46
Modify Date : 2014:04:23 13:31:26.46
Circle Of Confusion : 0.031 mm
Field Of View : 40.5 deg
Focal Length : 50.0 mm (35 mm equivalent: 48.8 mm)
Hyperfocal Distance : 58.00 m
Light Value : 3.6
Lens ID : Canon EF 50mm f/1.4 USM