Uber Exif Photo
Photometric Interpretation : RGB
Make : Panasonic
Camera Model Name : DMC-GX7
Orientation : Horizontal (normal)
Software : Adobe Photoshop CC (Windows)
Modify Date : 2014:05:10 02:10:16
Exposure Time : 1/10
F Number : 5.3
Exposure Program : Aperture-priority AE
ISO : 3200
Date/Time Original : 2014:05:10 00:41:36
Create Date : 2014:05:10 00:41:36
Shutter Speed Value : 1/10
Aperture Value : 5.3
Exposure Compensation : -2
Max Aperture Value : 5.3
Metering Mode : Multi-segment
Light Source : Fine Weather
Flash : Off, Did not fire
Focal Length : 166.0 mm
Color Space : sRGB
Exif Image Width : 1590
Exif Image Height : 1200
Sensing Method : One-chip color area
Scene Type : Directly photographed
Custom Rendered : Normal
Exposure Mode : Auto
White Balance : Manual
Digital Zoom Ratio : 0
Focal Length In 35mm Format : 332 mm
Scene Capture Type : Standard
Gain Control : High gain up
Contrast : High
Saturation : High
Sharpness : Hard
Lens Model : LUMIX G VARIO 45-200/F4.0-5.6
Lens Serial Number : 13110401358
Profile Description : sRGB IEC61966-2.1
Lens : LUMIX G VARIO 45-200/F4.0-5.6
Creator Tool : Adobe Photoshop CC (Windows)
Date Created : 2014:05:10 00:41:36
Color Mode : RGB
ICC Profile Name : sRGB IEC61966-2.1
Format : image/jpeg
Version : 8.4
Process Version : 6.7
Auto White Version : 134348800
Color Temperature : 4800
Tint : +11
Luminance Smoothing : 0
Color Noise Reduction : 25
Vignette Amount : 0
Shadow Tint : 0
Red Hue : 0
Red Saturation : 0
Green Hue : 0
Green Saturation : 0
Blue Hue : 0
Blue Saturation : 0
Vibrance : 0
Hue Adjustment Red : 0
Hue Adjustment Orange : 0
Hue Adjustment Yellow : 0
Hue Adjustment Green : 0
Hue Adjustment Aqua : 0
Hue Adjustment Blue : 0
Hue Adjustment Purple : 0
Hue Adjustment Magenta : 0
Saturation Adjustment Red : 0
Saturation Adjustment Orange : 0
Saturation Adjustment Yellow : 0
Saturation Adjustment Green : 0
Saturation Adjustment Aqua : 0
Saturation Adjustment Blue : 0
Saturation Adjustment Purple : 0
Saturation Adjustment Magenta : 0
Luminance Adjustment Red : 0
Luminance Adjustment Orange : +47
Luminance Adjustment Yellow : 0
Luminance Adjustment Green : 0
Luminance Adjustment Aqua : 0
Luminance Adjustment Blue : 0
Luminance Adjustment Purple : 0
Luminance Adjustment Magenta : 0
Split Toning Shadow Hue : 0
Split Toning Shadow Saturation : 0
Split Toning Highlight Hue : 0
Split Toning Highlight Saturation : 0
Split Toning Balance : 0
Parametric Shadows : +15
Parametric Darks : +36
Parametric Lights : +44
Parametric Highlights : 0
Parametric Shadow Split : 25
Parametric Midtone Split : 50
Parametric Highlight Split : 75
Sharpen Radius : +1.0
Sharpen Detail : 25
Sharpen Edge Masking : 0
Post Crop Vignette Amount : 0
Grain Amount : 0
Color Noise Reduction Detail : 42
Color Noise Reduction Smoothness : 36
Lens Profile Enable : 0
Lens Manual Distortion Amount : 0
Perspective Vertical : 0
Perspective Horizontal : 0
Perspective Rotate : 0.0
Perspective Scale : 100
Perspective Aspect : 0
Perspective Upright : Auto
Auto Lateral CA : 0
Exposure 2012 : 0.00
Contrast 2012 : 0
Highlights 2012 : 0
Shadows 2012 : 0
Whites 2012 : 0
Blacks 2012 : 0
Clarity 2012 : +12
Defringe Purple Amount : 0
Defringe Purple Hue Lo : 30
Defringe Purple Hue Hi : 70
Defringe Green Amount : 0
Defringe Green Hue Lo : 40
Defringe Green Hue Hi : 60
Convert To Grayscale : False
Tone Curve Name : Linear
Tone Curve Name 2012 : Linear
Camera Profile : Adobe Standard
Lens Profile Setup : Auto
Has Settings : True
Crop Top : 0
Crop Left : 0.017596
Crop Bottom : 1
Crop Right : 0.982404
Crop Angle : 0.99033
Crop Constrain To Warp : 1
Has Crop : True
Already Applied : True
Tone Curve : 0, 0, 255, 255
Tone Curve Red : 0, 0, 255, 255
Tone Curve Green : 0, 0, 255, 255
Tone Curve Blue : 0, 0, 255, 255
Tone Curve PV2012 : 0, 0, 255, 255
Tone Curve PV2012 Red : 0, 0, 255, 255
Tone Curve PV2012 Green : 0, 0, 255, 255
Tone Curve PV2012 Blue : 0, 0, 255, 255
Image Width : 300
Image Height : 226
Bits Per Sample : 8
Color Components : 3
Aperture : 5.3
Image Size : 300x226
Megapixels : 0.068
Scale Factor To 35 mm Equivalent : 2.0
Shutter Speed : 1/10
Circle Of Confusion : 0.015 mm
Field Of View : 6.2 deg
Focal Length : 166.0 mm (35 mm equivalent: 332.0 mm)
Hyperfocal Distance : 346.08 m
Light Value : 3.1
Lens ID : LUMIX G VARIO 45-200mm F4.0-5.6