Uber Exif Photo
Photometric Interpretation : RGB
Make : Panasonic
Camera Model Name : DMC-GM1
Orientation : Horizontal (normal)
Software : Adobe Photoshop CC (Windows)
Modify Date : 2014:05:11 23:53:43
Exposure Time : 1
F Number : 16.0
Exposure Program : Aperture-priority AE
ISO : 200
Date/Time Original : 2014:05:11 20:42:10
Create Date : 2014:05:11 20:42:10
Shutter Speed Value : 1
Aperture Value : 16.0
Exposure Compensation : +1
Max Aperture Value : 2.8
Metering Mode : Multi-segment
Light Source : Unknown
Flash : Off, Did not fire
Focal Length : 45.0 mm
Color Space : sRGB
Exif Image Width : 1590
Exif Image Height : 1200
Sensing Method : One-chip color area
Scene Type : Directly photographed
Custom Rendered : Normal
Exposure Mode : Auto
White Balance : Auto
Digital Zoom Ratio : 0
Focal Length In 35mm Format : 90 mm
Scene Capture Type : Standard
Gain Control : Low gain up
Contrast : High
Saturation : High
Sharpness : Normal
Lens Model : LEICA DG MACRO-ELMARIT 45/F2.8
Lens Serial Number : 09110090478
Profile Description : sRGB IEC61966-2.1
Lens : LEICA DG MACRO-ELMARIT 45/F2.8
Creator Tool : Adobe Photoshop CC (Windows)
Date Created : 2014:05:11 20:42:10
Color Mode : RGB
ICC Profile Name : sRGB IEC61966-2.1
Format : image/jpeg
Version : 8.4
Process Version : 6.7
Auto White Version : 134348800
Color Temperature : 2450
Tint : -7
Luminance Smoothing : 0
Color Noise Reduction : 25
Vignette Amount : 0
Shadow Tint : 0
Red Hue : 0
Red Saturation : 0
Green Hue : 0
Green Saturation : 0
Blue Hue : 0
Blue Saturation : 0
Vibrance : +29
Hue Adjustment Red : 0
Hue Adjustment Orange : 0
Hue Adjustment Yellow : 0
Hue Adjustment Green : 0
Hue Adjustment Aqua : 0
Hue Adjustment Blue : 0
Hue Adjustment Purple : 0
Hue Adjustment Magenta : 0
Saturation Adjustment Red : 0
Saturation Adjustment Orange : 0
Saturation Adjustment Yellow : 0
Saturation Adjustment Green : 0
Saturation Adjustment Aqua : 0
Saturation Adjustment Blue : 0
Saturation Adjustment Purple : 0
Saturation Adjustment Magenta : 0
Luminance Adjustment Red : +38
Luminance Adjustment Orange : -4
Luminance Adjustment Yellow : -7
Luminance Adjustment Green : 0
Luminance Adjustment Aqua : 0
Luminance Adjustment Blue : 0
Luminance Adjustment Purple : 0
Luminance Adjustment Magenta : 0
Split Toning Shadow Hue : 0
Split Toning Shadow Saturation : 0
Split Toning Highlight Hue : 0
Split Toning Highlight Saturation : 0
Split Toning Balance : 0
Parametric Shadows : 0
Parametric Darks : +13
Parametric Lights : +22
Parametric Highlights : 0
Parametric Shadow Split : 25
Parametric Midtone Split : 50
Parametric Highlight Split : 75
Sharpen Radius : +1.0
Sharpen Detail : 25
Sharpen Edge Masking : 0
Post Crop Vignette Amount : 0
Grain Amount : 0
Color Noise Reduction Detail : 50
Color Noise Reduction Smoothness : 50
Lens Profile Enable : 0
Lens Manual Distortion Amount : 0
Perspective Vertical : 0
Perspective Horizontal : 0
Perspective Rotate : 0.0
Perspective Scale : 100
Perspective Aspect : 0
Perspective Upright : Off
Auto Lateral CA : 0
Exposure 2012 : +0.12
Contrast 2012 : 0
Highlights 2012 : 0
Shadows 2012 : 0
Whites 2012 : 0
Blacks 2012 : 0
Clarity 2012 : +14
Defringe Purple Amount : 0
Defringe Purple Hue Lo : 30
Defringe Purple Hue Hi : 70
Defringe Green Amount : 0
Defringe Green Hue Lo : 40
Defringe Green Hue Hi : 60
Convert To Grayscale : False
Tone Curve Name : Linear
Tone Curve Name 2012 : Linear
Camera Profile : Adobe Standard
Lens Profile Setup : LensDefaults
Has Settings : True
Has Crop : False
Already Applied : True
Tone Curve : 0, 0, 255, 255
Tone Curve Red : 0, 0, 255, 255
Tone Curve Green : 0, 0, 255, 255
Tone Curve Blue : 0, 0, 255, 255
Tone Curve PV2012 : 0, 0, 255, 255
Tone Curve PV2012 Red : 0, 0, 255, 255
Tone Curve PV2012 Green : 0, 0, 255, 255
Tone Curve PV2012 Blue : 0, 0, 255, 255
Image Width : 300
Image Height : 226
Bits Per Sample : 8
Color Components : 3
Aperture : 16.0
Image Size : 300x226
Megapixels : 0.068
Scale Factor To 35 mm Equivalent : 2.0
Shutter Speed : 1
Circle Of Confusion : 0.015 mm
Field Of View : 22.6 deg
Focal Length : 45.0 mm (35 mm equivalent: 90.0 mm)
Hyperfocal Distance : 8.42 m
Light Value : 7.0
Lens ID : LEICA DG MACRO-ELMARIT 45mm F2.8