Uber Exif Photo
Make : Canon
Camera Model Name : Canon PowerShot G9
Orientation : Horizontal (normal)
Software : Adobe Photoshop CS5 Macintosh
Modify Date : 2014:05:20 16:53:05
Exposure Time : 1/160
F Number : 4.8
ISO : 80
Date/Time Original : 2011:07:21 13:33:37
Create Date : 2011:07:21 13:33:37
Shutter Speed Value : 1/160
Aperture Value : 4.8
Exposure Compensation : -1/3
Max Aperture Value : 4.8
Subject Distance : 3.85 m
Metering Mode : Multi-segment
Flash : Off, Did not fire
Focal Length : 44.4 mm
Color Space : Uncalibrated
Exif Image Width : 1200
Exif Image Height : 1419
Sensing Method : One-chip color area
Custom Rendered : Normal
Exposure Mode : Manual
White Balance : Manual
Digital Zoom Ratio : 1
Scene Capture Type : Standard
Lens Info : 7.4-44.4mm f/?
Lens Model : 7.4-44.4 mm
Lens : 7.4-44.4 mm
Approximate Focus Distance : 3.85
Flash Compensation : 0
Firmware : 1.00
Rating : 0
Date Created : 2011:07:21 13:33:37
Color Mode : RGB
ICC Profile Name : eciRGB v2 ICCv4
Format : image/jpeg
Raw File Name : IMG_8241.CR2
Version : 6.7
Process Version : 5.7
Color Temperature : 7000
Tint : +6
Exposure : +0.55
Shadows : 25
Brightness : +90
Contrast : +14
Saturation : -100
Sharpness : 0
Luminance Smoothing : 0
Color Noise Reduction : 25
Vignette Amount : 0
Shadow Tint : 0
Red Hue : 0
Red Saturation : 0
Green Hue : 0
Green Saturation : 0
Blue Hue : 0
Blue Saturation : 0
Fill Light : 0
Vibrance : +20
Highlight Recovery : 100
Clarity : +29
Defringe : 0
Hue Adjustment Red : 0
Hue Adjustment Orange : 0
Hue Adjustment Yellow : -100
Hue Adjustment Green : -100
Hue Adjustment Aqua : -96
Hue Adjustment Blue : 0
Hue Adjustment Purple : 0
Hue Adjustment Magenta : 0
Saturation Adjustment Red : -30
Saturation Adjustment Orange : -30
Saturation Adjustment Yellow : -100
Saturation Adjustment Green : -100
Saturation Adjustment Aqua : -30
Saturation Adjustment Blue : -30
Saturation Adjustment Purple : -30
Saturation Adjustment Magenta : -30
Luminance Adjustment Red : -25
Luminance Adjustment Orange : -21
Luminance Adjustment Yellow : -23
Luminance Adjustment Green : -100
Luminance Adjustment Aqua : -100
Luminance Adjustment Blue : -100
Luminance Adjustment Purple : 0
Luminance Adjustment Magenta : 0
Split Toning Shadow Hue : 0
Split Toning Shadow Saturation : 0
Split Toning Highlight Hue : 0
Split Toning Highlight Saturation : 0
Split Toning Balance : 0
Parametric Shadows : 0
Parametric Darks : +46
Parametric Lights : 0
Parametric Highlights : 0
Parametric Shadow Split : 25
Parametric Midtone Split : 50
Parametric Highlight Split : 75
Sharpen Radius : +0.6
Sharpen Detail : 29
Sharpen Edge Masking : 0
Post Crop Vignette Amount : -52
Post Crop Vignette Midpoint : 50
Post Crop Vignette Feather : 50
Post Crop Vignette Roundness : 0
Post Crop Vignette Style : Highlight Priority
Post Crop Vignette Highlight Contrast : 0
Grain Amount : 0
Color Noise Reduction Detail : 50
Lens Profile Enable : 1
Lens Manual Distortion Amount : 0
Perspective Vertical : 0
Perspective Horizontal : 0
Perspective Rotate : 0.0
Perspective Scale : 100
Auto Lateral CA : 0
Exposure 2012 : 0.00
Contrast 2012 : 0
Highlights 2012 : 0
Shadows 2012 : 0
Whites 2012 : 0
Blacks 2012 : 0
Clarity 2012 : 0
Convert To Grayscale : False
Tone Curve Name : Custom
Tone Curve Name 2012 : Linear
Camera Profile : Adobe Standard
Lens Profile Setup : LensDefaults
Lens Profile Name : Adobe (Canon PowerShot G10)
Lens Profile Filename : Canon PowerShot G10 (Canon 6.1-30.5mm f2.8-4.5) - RAW.lcp
Lens Profile Distortion Scale : 100
Lens Profile Chromatic Aberration Scale : 100
Lens Profile Vignetting Scale : 100
Has Settings : True
Crop Top : 0
Crop Left : 0
Crop Bottom : 0.973561
Crop Right : 0.863477
Crop Angle : 0
Crop Constrain To Warp : 1
Has Crop : True
Already Applied : True
Tone Curve : 0, 0, 32, 22, 63, 46, 130, 114, 192, 196, 255, 255
Tone Curve Red : 0, 0, 255, 255
Tone Curve Green : 0, 0, 255, 255
Tone Curve Blue : 0, 0, 255, 255
Tone Curve PV2012 : 0, 0, 255, 255
Tone Curve PV2012 Red : 0, 0, 255, 255
Tone Curve PV2012 Green : 0, 0, 255, 255
Tone Curve PV2012 Blue : 0, 0, 255, 255
Image Width : 254
Image Height : 300
Bits Per Sample : 8
Color Components : 1
Aperture : 4.8
Image Size : 254x300
Megapixels : 0.076
Scale Factor To 35 mm Equivalent : 4.7
Shutter Speed : 1/160
Circle Of Confusion : 0.006 mm
Depth Of Field : 0.46 m (3.63 - 4.09 m)
Field Of View : 9.9 deg
Focal Length : 44.4 mm (35 mm equivalent: 207.7 mm)
Hyperfocal Distance : 63.93 m
Light Value : 12.2
Lens ID : 7.4-44.4mm