Uber Exif Photo
Make : LEICA
Camera Model Name : V-LUX 1
Orientation : Horizontal (normal)
Software : Adobe Photoshop CC (Macintosh)
Modify Date : 2014:05:07 12:38:24
Exposure Time : 1/500
F Number : 2.8
Exposure Program : Aperture-priority AE
ISO : 100
Date/Time Original : 2011:08:08 15:57:29
Create Date : 2011:08:08 15:57:29
Shutter Speed Value : 1/500
Aperture Value : 2.8
Exposure Compensation : -0.33
Max Aperture Value : 2.8
Metering Mode : Center-weighted average
Flash : Off, Did not fire
Focal Length : 7.4 mm
Color Space : Uncalibrated
Exif Image Width : 1800
Exif Image Height : 1665
Profile Description : Adobe RGB (1998)
Creator Tool : Adobe Photoshop CC (Macintosh)
Rating : 1
Date Created : 2011:08:08 15:57:29
Format : image/jpeg
Raw File Name : L1060555.RAW
Version : 8.4.1
Process Version : 6.7
White Balance : Auto
Auto White Version : 134348800
Color Temperature : 7100
Tint : +30
Saturation : 0
Sharpness : 25
Luminance Smoothing : 0
Color Noise Reduction : 25
Vignette Amount : 0
Shadow Tint : 0
Red Hue : 0
Red Saturation : 0
Green Hue : 0
Green Saturation : 0
Blue Hue : 0
Blue Saturation : 0
Vibrance : 0
Hue Adjustment Red : 0
Hue Adjustment Orange : 0
Hue Adjustment Yellow : 0
Hue Adjustment Green : 0
Hue Adjustment Aqua : 0
Hue Adjustment Blue : 0
Hue Adjustment Purple : 0
Hue Adjustment Magenta : 0
Saturation Adjustment Red : 0
Saturation Adjustment Orange : 0
Saturation Adjustment Yellow : 0
Saturation Adjustment Green : 0
Saturation Adjustment Aqua : 0
Saturation Adjustment Blue : 0
Saturation Adjustment Purple : 0
Saturation Adjustment Magenta : 0
Luminance Adjustment Red : +1
Luminance Adjustment Orange : 0
Luminance Adjustment Yellow : +11
Luminance Adjustment Green : -30
Luminance Adjustment Aqua : -34
Luminance Adjustment Blue : 0
Luminance Adjustment Purple : 0
Luminance Adjustment Magenta : +8
Split Toning Shadow Hue : 0
Split Toning Shadow Saturation : 0
Split Toning Highlight Hue : 0
Split Toning Highlight Saturation : 0
Split Toning Balance : 0
Parametric Shadows : 0
Parametric Darks : 0
Parametric Lights : 0
Parametric Highlights : 0
Parametric Shadow Split : 25
Parametric Midtone Split : 50
Parametric Highlight Split : 75
Sharpen Radius : +1.0
Sharpen Detail : 25
Sharpen Edge Masking : 0
Post Crop Vignette Amount : 0
Grain Amount : 0
Color Noise Reduction Detail : 50
Color Noise Reduction Smoothness : 50
Lens Profile Enable : 0
Lens Manual Distortion Amount : 0
Perspective Vertical : 0
Perspective Horizontal : 0
Perspective Rotate : 0.0
Perspective Scale : 100
Perspective Aspect : 0
Perspective Upright : Off
Auto Lateral CA : 0
Exposure 2012 : +0.75
Contrast 2012 : +1
Highlights 2012 : +11
Shadows 2012 : +9
Whites 2012 : +7
Blacks 2012 : -3
Clarity 2012 : +53
Defringe Purple Amount : 0
Defringe Purple Hue Lo : 30
Defringe Purple Hue Hi : 70
Defringe Green Amount : 0
Defringe Green Hue Lo : 40
Defringe Green Hue Hi : 60
Convert To Grayscale : False
Tone Curve Name : Medium Contrast
Tone Curve Name 2012 : Linear
Camera Profile : Adobe Standard
Lens Profile Setup : LensDefaults
Has Settings : True
Has Crop : False
Already Applied : True
Tone Curve : 0, 0, 32, 22, 64, 56, 128, 128, 192, 196, 255, 255
Tone Curve Red : 0, 0, 255, 255
Tone Curve Green : 0, 0, 255, 255
Tone Curve Blue : 0, 0, 255, 255
Tone Curve PV2012 : 0, 0, 255, 255
Tone Curve PV2012 Red : 0, 0, 255, 255
Tone Curve PV2012 Green : 0, 0, 255, 255
Tone Curve PV2012 Blue : 0, 0, 255, 255
Image Width : 300
Image Height : 278
Bits Per Sample : 8
Color Components : 3
Aperture : 2.8
Image Size : 300x278
Megapixels : 0.083
Shutter Speed : 1/500
Light Value : 11.9