Uber Exif Photo
Make : Canon
Camera Model Name : Canon PowerShot G9
Orientation : Horizontal (normal)
Software : Adobe Photoshop CS5 Macintosh
Modify Date : 2014:09:01 21:17:43
Exposure Time : 1/1000
F Number : 4.0
ISO : 80
Date/Time Original : 2014:09:01 11:55:38
Create Date : 2014:09:01 11:55:38
Shutter Speed Value : 1/1000
Aperture Value : 4.0
Exposure Compensation : -2/3
Max Aperture Value : 4.0
Subject Distance : 1.7 m
Metering Mode : Multi-segment
Flash : Off, Did not fire
Focal Length : 29.2 mm
Color Space : Uncalibrated
Exif Image Width : 927
Exif Image Height : 1200
Sensing Method : One-chip color area
Custom Rendered : Normal
Exposure Mode : Manual
White Balance : Manual
Digital Zoom Ratio : 1
Scene Capture Type : Standard
Lens Info : 7.4-44.4mm f/?
Lens Model : 7.4-44.4 mm
Profile Description : eciRGB v2 ICCv4
Lens : 7.4-44.4 mm
Approximate Focus Distance : 1.7
Flash Compensation : 0
Firmware : 1.00
Rating : 0
Creator Tool : Adobe Photoshop CS5 Macintosh
Date Created : 2014:09:01 11:55:38
Color Mode : RGB
ICC Profile Name : eciRGB v2 ICCv4
Format : image/jpeg
Raw File Name : IMG_1998.CR2
Version : 6.7
Process Version : 5.7
Color Temperature : 4900
Tint : +5
Exposure : 0.00
Shadows : 9
Brightness : +50
Contrast : +25
Saturation : +5
Sharpness : 0
Luminance Smoothing : 0
Color Noise Reduction : 25
Vignette Amount : 0
Shadow Tint : 0
Red Hue : 0
Red Saturation : 0
Green Hue : 0
Green Saturation : 0
Blue Hue : 0
Blue Saturation : 0
Fill Light : 0
Vibrance : +25
Highlight Recovery : 0
Clarity : +30
Defringe : 0
Hue Adjustment Red : 0
Hue Adjustment Orange : 0
Hue Adjustment Yellow : 0
Hue Adjustment Green : 0
Hue Adjustment Aqua : 0
Hue Adjustment Blue : 0
Hue Adjustment Purple : 0
Hue Adjustment Magenta : 0
Saturation Adjustment Red : 0
Saturation Adjustment Orange : 0
Saturation Adjustment Yellow : 0
Saturation Adjustment Green : 0
Saturation Adjustment Aqua : 0
Saturation Adjustment Blue : 0
Saturation Adjustment Purple : 0
Saturation Adjustment Magenta : 0
Luminance Adjustment Red : 0
Luminance Adjustment Orange : 0
Luminance Adjustment Yellow : 0
Luminance Adjustment Green : 0
Luminance Adjustment Aqua : 0
Luminance Adjustment Blue : 0
Luminance Adjustment Purple : 0
Luminance Adjustment Magenta : 0
Split Toning Shadow Hue : 0
Split Toning Shadow Saturation : 0
Split Toning Highlight Hue : 0
Split Toning Highlight Saturation : 0
Split Toning Balance : 0
Parametric Shadows : 0
Parametric Darks : 0
Parametric Lights : 0
Parametric Highlights : 0
Parametric Shadow Split : 25
Parametric Midtone Split : 50
Parametric Highlight Split : 75
Sharpen Radius : +0.5
Sharpen Detail : 0
Sharpen Edge Masking : 0
Post Crop Vignette Amount : -10
Post Crop Vignette Midpoint : 50
Post Crop Vignette Feather : 50
Post Crop Vignette Roundness : 0
Post Crop Vignette Style : Highlight Priority
Post Crop Vignette Highlight Contrast : 0
Grain Amount : 0
Color Noise Reduction Detail : 50
Lens Profile Enable : 1
Lens Manual Distortion Amount : 0
Perspective Vertical : 0
Perspective Horizontal : 0
Perspective Rotate : 0.0
Perspective Scale : 100
Auto Lateral CA : 1
Exposure 2012 : 0.00
Contrast 2012 : 0
Highlights 2012 : 0
Shadows 2012 : 0
Whites 2012 : 0
Blacks 2012 : 0
Clarity 2012 : 0
Convert To Grayscale : False
Tone Curve Name : Medium Contrast
Tone Curve Name 2012 : Linear
Camera Profile : Adobe Standard
Lens Profile Setup : LensDefaults
Lens Profile Name : Adobe (Canon PowerShot G10)
Lens Profile Filename : Canon PowerShot G10 (Canon 6.1-30.5mm f2.8-4.5) - RAW.lcp
Lens Profile Distortion Scale : 100
Lens Profile Chromatic Aberration Scale : 100
Lens Profile Vignetting Scale : 100
Has Settings : True
Crop Top : 0.021773
Crop Left : 0.053676
Crop Bottom : 0.970451
Crop Right : 0.974329
Crop Angle : 0
Crop Constrain To Warp : 1
Has Crop : True
Already Applied : True
Tone Curve : 0, 0, 32, 22, 64, 56, 128, 128, 192, 196, 255, 255
Tone Curve Red : 0, 0, 255, 255
Tone Curve Green : 0, 0, 255, 255
Tone Curve Blue : 0, 0, 255, 255
Tone Curve PV2012 : 0, 0, 255, 255
Tone Curve PV2012 Red : 0, 0, 255, 255
Tone Curve PV2012 Green : 0, 0, 255, 255
Tone Curve PV2012 Blue : 0, 0, 255, 255
Image Width : 232
Image Height : 300
Bits Per Sample : 8
Color Components : 3
Aperture : 4.0
Image Size : 232x300
Megapixels : 0.070
Scale Factor To 35 mm Equivalent : 4.7
Shutter Speed : 1/1000
Circle Of Confusion : 0.006 mm
Depth Of Field : 0.17 m (1.62 - 1.79 m)
Field Of View : 15.0 deg
Focal Length : 29.2 mm (35 mm equivalent: 136.4 mm)
Hyperfocal Distance : 33.11 m
Light Value : 14.3
Lens ID : 7.4-44.4mm