Uber Exif Photo
Copyright Notice : New York 2014
By-line : George Kalaydjian
Photometric Interpretation : RGB
Make : Leica Camera AG
Camera Model Name : LEICA M (Typ 240)
Orientation : Horizontal (normal)
Software : Adobe Photoshop CC 2014 (Macintosh)
Modify Date : 2014:12:12 23:06:28
Artist : George Kalaydjian
Copyright : New York 2014
Exposure Time : 1/60
F Number : 5.6
Exposure Program : Manual
ISO : 1250
Date/Time Original : 2014:11:19 01:23:04
Create Date : 2014:11:19 01:23:04
Shutter Speed Value : 1/60
Aperture Value : 5.6
Exposure Compensation : 0
Max Aperture Value : 2.8
Metering Mode : Multi-spot
Light Source : Unknown
Flash : No Flash
Focal Length : 28.0 mm
Color Space : sRGB
Exif Image Width : 1255
Exif Image Height : 595
Scene Type : Directly photographed
Custom Rendered : Normal
Exposure Mode : Manual
White Balance : Auto
Digital Zoom Ratio : 0
Scene Capture Type : Standard
Contrast : Normal
Saturation : Normal
Sharpness : Normal
Lens Info : 28mm f/2-22
Lens Make : Leica Camera AG
Lens Model : Elmarit-M 1:2.8/28 ASPH.
Lens Serial Number : -------
Profile Description : sRGB IEC61966-2.1
Sharpen Detail : 25
Blacks 2012 : 0
Luminance Adjustment Orange : 0
Hue Adjustment Yellow : 0
Saturation Adjustment Blue : 0
Parametric Highlight Split : 75
Lens Profile Enable : 0
Split Toning Shadow Saturation : 0
Convert To Grayscale : False
Contrast 2012 : 0
Highlights 2012 : 0
Split Toning Highlight Hue : 0
Saturation Adjustment Aqua : 0
Perspective Scale : 100
Luminance Noise Reduction Contrast : 0
Perspective Vertical : 0
Parametric Shadow Split : 25
Luminance Adjustment Green : 0
Perspective Rotate : 0.0
Split Toning Shadow Hue : 0
Luminance Adjustment Yellow : 0
Shadows 2012 : 0
Lens Profile Setup : LensDefaults
Whites 2012 : 0
Perspective Horizontal : 0
Camera Profile : Embedded
Saturation Adjustment Yellow : 0
Parametric Midtone Split : 50
Luminance Noise Reduction Detail : 50
Parametric Highlights : 0
Defringe Green Amount : 0
Parametric Darks : 0
Incremental Tint : 0
Sharpen Radius : +1.0
Vibrance : 0
Shadow Tint : 0
Has Crop : False
Luminance Smoothing : 38
Tone Curve Name 2012 : Linear
Split Toning Highlight Saturation : 0
Defringe Purple Hue Hi : 70
Saturation Adjustment Orange : 0
Sharpen Edge Masking : 0
Hue Adjustment Green : 0
Vignette Amount : 0
Blue Saturation : 0
Red Saturation : 0
Parametric Lights : 0
Red Hue : 0
Split Toning Balance : 0
Hue Adjustment Purple : 0
Exposure 2012 : 0.00
Tone Curve Name : Linear
Saturation Adjustment Green : 0
Hue Adjustment Blue : 0
Luminance Adjustment Purple : 0
Perspective Aspect : 0
Perspective Upright : Off
Parametric Shadows : 0
Post Crop Vignette Amount : 0
Blue Hue : 0
Clarity 2012 : 0
Auto Lateral CA : 0
Grain Amount : 0
Hue Adjustment Aqua : 0
Process Version : 6.7
Already Applied : True
Auto White Version : 134348800
Luminance Adjustment Blue : 0
Luminance Adjustment Red : 0
Incremental Temperature : 0
Color Noise Reduction : 0
Green Hue : 0
Hue Adjustment Magenta : 0
Has Settings : True
Saturation Adjustment Red : 0
Hue Adjustment Red : 0
Hue Adjustment Orange : 0
Lens Manual Distortion Amount : 0
Green Saturation : 0
Defringe Purple Hue Lo : 30
Defringe Green Hue Hi : 60
Saturation Adjustment Purple : 0
Saturation Adjustment Magenta : 0
Luminance Adjustment Aqua : 0
Version : 8.7
Defringe Green Hue Lo : 40
Defringe Purple Amount : 0
Luminance Adjustment Magenta : 0
Creator Tool : Adobe Photoshop CC 2014 (Macintosh)
Transformation : Perspective
Virtual Image Y Center : 0.238746
Virtual Focal Length : 0.357229
Virtual Image X Center : 0.769284
ICC Profile Name : sRGB IEC61966-2.1
Date Created : 2014:11:19 01:23:04
Color Mode : RGB
Serial Number : 4824753
Lens : Elmarit-M 1:2.8/28 ASPH.
Format : image/jpeg
Tone Curve Blue : 0, 0, 255, 255
Tone Curve Green : 0, 0, 255, 255
Paint Correction Defringe : 0.000000
Paint Correction Highlights 2012 : 0.000000
Paint Correction Clarity 2012 : -1.000000
Paint Correction Temperature : 0.000000
Paint Correction Saturation : 0.003160
Paint Correction What : Correction
Paint Correction Tint : 0.000000
Paint Correction Brightness : 0.000000
Paint Correction Shadows 2012 : 0.000000
Paint Correction Sharpness : 1.000000
Paint Correction Toning Saturation : 0.000000
Paint Correction Amount : 1.000000
Paint Correction Toning Hue : 240.000000
Paint Correction Active : true
Paint Correction Contrast 2012 : 0.000000
Paint Correction Luminance Noise : 0.000000
Paint Correction Exposure 2012 : 0.000000
Paint Correction Moire : 0.000000
Paint Correction Mask What : Mask/Paint
Paint Correction Mask Radius : 0.055374
Paint Correction Mask Value : 0.278202
Paint Correction Mask Flow : 0.857212
Paint Correction Mask Center Weight : 0.000000
Tone Curve PV2012 Red : 0, 0, 255, 255
Tone Curve PV2012 : 0, 0, 255, 255
Tone Curve : 0, 0, 255, 255
Gradient Based Corr Defringe : 0.000000
Gradient Based Corr Highlights 2012 : 0.000000
Gradient Based Corr Clarity 2012 : -1.000000
Gradient Based Corr Temperature : 0.000000
Gradient Based Corr Saturation : 0.003160
Gradient Based Corr What : Correction
Gradient Based Corr Tint : 0.000000
Gradient Based Corr Brightness : 0.000000
Gradient Based Corr Shadows 2012 : 0.000000
Gradient Based Corr Sharpness : 1.000000
Gradient Based Corr Toning Saturation : 0.000000
Gradient Based Corr Amount : 1.000000
Gradient Based Corr Toning Hue : 240.000000
Gradient Based Corr Active : true
Gradient Based Corr Contrast 2012 : 0.218048
Gradient Based Corr Luminance Noise : 0.000000
Gradient Based Corr Exposure 2012 : 0.183901
Gradient Based Corr Moire : 0.000000
Gradient Based Corr Mask Full Y : 1.032550
Gradient Based Corr Mask What : Mask/Gradient
Gradient Based Corr Mask Zero Y : 0.137914
Gradient Based Corr Mask Value : 1.000000
Gradient Based Corr Mask Zero X : 0.489037
Gradient Based Corr Mask Full X : 0.487632
Tone Curve Red : 0, 0, 255, 255
Tone Curve PV2012 Green : 0, 0, 255, 255
Tone Curve PV2012 Blue : 0, 0, 255, 255
Creator : George Kalaydjian
Rights : New York 2014
Image Width : 255
Image Height : 121
Bits Per Sample : 8
Color Components : 3
Aperture : 5.6
Image Size : 255x121
Megapixels : 0.031
Shutter Speed : 1/60
Light Value : 7.2