Uber Exif Photo
Photometric Interpretation : RGB
Make : Canon
Camera Model Name : Canon EOS-1D Mark IV
Orientation : Horizontal (normal)
Samples Per Pixel : 3
Software : Adobe Photoshop CS5 Windows
Modify Date : 2015:01:22 18:44:13
Exposure Time : 1/125
F Number : 6.3
Exposure Program : Manual
ISO : 400
Date/Time Original : 2012:04:10 13:32:04
Create Date : 2012:04:10 13:32:04
Shutter Speed Value : 1/125
Aperture Value : 6.3
Exposure Compensation : 0
Max Aperture Value : 4.0
Subject Distance : 0.72 m
Metering Mode : Multi-segment
Flash : No Flash
Focal Length : 17.0 mm
Color Space : sRGB
Exif Image Width : 800
Exif Image Height : 533
Custom Rendered : Normal
Exposure Mode : Manual
White Balance : Auto
Scene Capture Type : Standard
Serial Number : 330302535
Lens Info : 17mm f/?
Lens Model : TS-E17mm f/4L
Profile Description : sRGB IEC61966-2.1
Lens : TS-E17mm f/4L
Image Number : 0
Approximate Focus Distance : 0.72
Flash Compensation : 0
Firmware : 1.1.0
Creator Tool : Adobe Photoshop CS5 Windows
Date Created : 2012:04:10 13:32:04.016
Color Mode : RGB
ICC Profile Name : sRGB IEC61966-2.1
Format : image/jpeg
Raw File Name : 10Apr2012_1458.CR2
Version : 6.6
Process Version : 5.7
Color Temperature : 5150
Tint : +41
Exposure : -0.60
Shadows : 5
Brightness : +50
Contrast : +33
Saturation : 0
Sharpness : 25
Luminance Smoothing : 0
Color Noise Reduction : 25
Chromatic Aberration R : 0
Chromatic Aberration B : 0
Vignette Amount : 0
Shadow Tint : 0
Red Hue : 0
Red Saturation : 0
Green Hue : 0
Green Saturation : 0
Blue Hue : 0
Blue Saturation : 0
Fill Light : 23
Vibrance : +5
Highlight Recovery : 42
Clarity : +31
Defringe : 0
Hue Adjustment Red : 0
Hue Adjustment Orange : 0
Hue Adjustment Yellow : 0
Hue Adjustment Green : 0
Hue Adjustment Aqua : 0
Hue Adjustment Blue : 0
Hue Adjustment Purple : 0
Hue Adjustment Magenta : 0
Saturation Adjustment Red : 0
Saturation Adjustment Orange : 0
Saturation Adjustment Yellow : 0
Saturation Adjustment Green : 0
Saturation Adjustment Aqua : 0
Saturation Adjustment Blue : 0
Saturation Adjustment Purple : 0
Saturation Adjustment Magenta : 0
Luminance Adjustment Red : 0
Luminance Adjustment Orange : 0
Luminance Adjustment Yellow : 0
Luminance Adjustment Green : 0
Luminance Adjustment Aqua : 0
Luminance Adjustment Blue : 0
Luminance Adjustment Purple : 0
Luminance Adjustment Magenta : 0
Split Toning Shadow Hue : 0
Split Toning Shadow Saturation : 0
Split Toning Highlight Hue : 0
Split Toning Highlight Saturation : 0
Split Toning Balance : 0
Parametric Shadows : 0
Parametric Darks : 0
Parametric Lights : 0
Parametric Highlights : 0
Parametric Shadow Split : 25
Parametric Midtone Split : 50
Parametric Highlight Split : 75
Sharpen Radius : +1.0
Sharpen Detail : 25
Sharpen Edge Masking : 0
Post Crop Vignette Amount : 0
Grain Amount : 0
Color Noise Reduction Detail : 50
Lens Profile Enable : 0
Lens Manual Distortion Amount : 0
Perspective Vertical : 0
Perspective Horizontal : 0
Perspective Rotate : 0.0
Perspective Scale : 100
Convert To Grayscale : False
Tone Curve Name : Medium Contrast
Camera Profile : Adobe Standard
Lens Profile Setup : LensDefaults
Has Settings : True
Has Crop : False
Already Applied : True
Tone Curve : 0, 0, 32, 22, 64, 56, 128, 128, 192, 196, 255, 255
Image Width : 255
Image Height : 170
Bits Per Sample : 8
Color Components : 3
Aperture : 6.3
Image Size : 255x170
Megapixels : 0.043
Scale Factor To 35 mm Equivalent : 1.1
Shutter Speed : 1/125
Create Date : 2012:04:10 13:32:04.16
Date/Time Original : 2012:04:10 13:32:04.16
Circle Of Confusion : 0.027 mm
Depth Of Field : 0.72 m (0.51 - 1.23 m)
Field Of View : 87.4 deg
Focal Length : 17.0 mm (35 mm equivalent: 18.8 mm)
Hyperfocal Distance : 1.69 m
Light Value : 10.3
Lens ID : Canon TS-E 17mm f/4L