Uber Exif Photo
Photometric Interpretation : RGB
Make : Canon
Camera Model Name : Canon EOS-1D Mark IV
Orientation : Horizontal (normal)
Samples Per Pixel : 3
Software : Adobe Photoshop CS5 Windows
Modify Date : 2015:01:23 23:23:25
Exposure Time : 1/40
F Number : 8.0
Exposure Program : Aperture-priority AE
ISO : 2000
Date/Time Original : 2011:11:26 14:20:34
Create Date : 2011:11:26 14:20:34
Shutter Speed Value : 1/40
Aperture Value : 8.0
Exposure Compensation : -2
Max Aperture Value : 2.8
Subject Distance : 0.43 m
Metering Mode : Multi-segment
Flash : No Flash
Focal Length : 100.0 mm
Color Space : sRGB
Exif Image Width : 800
Exif Image Height : 479
Custom Rendered : Normal
Exposure Mode : Auto
White Balance : Auto
Scene Capture Type : Standard
Serial Number : 330302535
Lens Info : 100mm f/?
Lens Model : EF100mm f/2.8 Macro USM
Profile Description : sRGB IEC61966-2.1
Lens : EF100mm f/2.8 Macro USM
Image Number : 0
Approximate Focus Distance : 0.43
Flash Compensation : 0
Firmware : 1.1.0
Creator Tool : Adobe Photoshop CS5 Windows
Date Created : 2011:11:26 14:20:34.081
Color Mode : RGB
ICC Profile Name : sRGB IEC61966-2.1
Format : image/jpeg
Raw File Name : H15D3629_0096.CR2
Version : 6.5
Process Version : 5.7
Color Temperature : 6350
Tint : +29
Exposure : -0.45
Shadows : 5
Brightness : +50
Contrast : +25
Saturation : 0
Sharpness : 25
Luminance Smoothing : 0
Color Noise Reduction : 25
Chromatic Aberration R : 0
Chromatic Aberration B : 0
Vignette Amount : 0
Shadow Tint : 0
Red Hue : 0
Red Saturation : 0
Green Hue : 0
Green Saturation : 0
Blue Hue : 0
Blue Saturation : 0
Fill Light : 0
Vibrance : +17
Highlight Recovery : 0
Clarity : +28
Defringe : 0
Hue Adjustment Red : 0
Hue Adjustment Orange : 0
Hue Adjustment Yellow : 0
Hue Adjustment Green : 0
Hue Adjustment Aqua : 0
Hue Adjustment Blue : 0
Hue Adjustment Purple : 0
Hue Adjustment Magenta : 0
Saturation Adjustment Red : 0
Saturation Adjustment Orange : 0
Saturation Adjustment Yellow : 0
Saturation Adjustment Green : 0
Saturation Adjustment Aqua : 0
Saturation Adjustment Blue : 0
Saturation Adjustment Purple : 0
Saturation Adjustment Magenta : 0
Luminance Adjustment Red : 0
Luminance Adjustment Orange : 0
Luminance Adjustment Yellow : 0
Luminance Adjustment Green : 0
Luminance Adjustment Aqua : 0
Luminance Adjustment Blue : 0
Luminance Adjustment Purple : 0
Luminance Adjustment Magenta : 0
Split Toning Shadow Hue : 0
Split Toning Shadow Saturation : 0
Split Toning Highlight Hue : 0
Split Toning Highlight Saturation : 0
Split Toning Balance : 0
Parametric Shadows : 0
Parametric Darks : 0
Parametric Lights : 0
Parametric Highlights : 0
Parametric Shadow Split : 25
Parametric Midtone Split : 50
Parametric Highlight Split : 75
Sharpen Radius : +1.0
Sharpen Detail : 25
Sharpen Edge Masking : 0
Post Crop Vignette Amount : 0
Grain Amount : 0
Color Noise Reduction Detail : 50
Lens Profile Enable : 0
Lens Manual Distortion Amount : 0
Perspective Vertical : 0
Perspective Horizontal : 0
Perspective Rotate : 0.0
Perspective Scale : 100
Convert To Grayscale : False
Tone Curve Name : Medium Contrast
Camera Profile : Adobe Standard
Lens Profile Setup : LensDefaults
Has Settings : True
Has Crop : False
Already Applied : True
Tone Curve : 0, 0, 32, 22, 64, 56, 128, 128, 192, 196, 255, 255
Image Width : 255
Image Height : 153
Bits Per Sample : 8
Color Components : 3
Aperture : 8.0
Image Size : 255x153
Megapixels : 0.039
Scale Factor To 35 mm Equivalent : 1.1
Shutter Speed : 1/40
Create Date : 2011:11:26 14:20:34.81
Date/Time Original : 2011:11:26 14:20:34.81
Circle Of Confusion : 0.027 mm
Depth Of Field : 0.006 m (0.427 - 0.433 m)
Field Of View : 18.5 deg
Focal Length : 100.0 mm (35 mm equivalent: 110.8 mm)
Hyperfocal Distance : 46.10 m
Light Value : 7.0
Lens ID : Canon EF 100mm f/2.8 Macro USM