Uber Exif Photo
By-line : cedric muscat `15
Copyright Notice : ced.muscat
Make : Canon
Camera Model Name : Canon PowerShot G16
Orientation : Horizontal (normal)
Software : Adobe Photoshop CS6 (Macintosh)
Modify Date : 2015:05:13 22:43:09
Artist : cedric muscat `15
Copyright : ced.muscat
Exposure Time : 1/1600
F Number : 2.8
ISO : 80
Sensitivity Type : Standard Output Sensitivity and Recommended Exposure Index
Date/Time Original : 2015:05:13 16:40:59
Create Date : 2015:05:13 16:40:59
Shutter Speed Value : 1/1600
Aperture Value : 2.8
Exposure Compensation : -1/3
Max Aperture Value : 2.8
Metering Mode : Multi-segment
Flash : On, Did not fire
Focal Length : 30.5 mm
Color Space : Uncalibrated
Exif Image Width : 1920
Exif Image Height : 1440
Sensing Method : One-chip color area
Custom Rendered : Normal
Exposure Mode : Manual
White Balance : Manual
Digital Zoom Ratio : 1
Scene Capture Type : Standard
Owner Name : Cedric Muscat. Belgium
Lens Info : 6.1-30.5mm f/?
Lens Model : 6.1-30.5 mm
Profile Description : eciRGB v2 ICCv4
Rating : 0
Format : image/jpeg
Lens : 6.1-30.5 mm
Approximate Focus Distance : 26.2
Flash Compensation : 0
Firmware : 1.01
Date Created : 2015:05:13 16:40:59
Color Mode : RGB
ICC Profile Name : eciRGB v2 ICCv4
Raw File Name : IMG_0748.CR2
Version : 8.7.1
Process Version : 6.7
Auto White Version : 134348800
Color Temperature : 5250
Tint : 0
Saturation : 0
Sharpness : 0
Luminance Smoothing : 0
Color Noise Reduction : 25
Vignette Amount : 0
Shadow Tint : 0
Red Hue : 0
Red Saturation : 0
Green Hue : 0
Green Saturation : 0
Blue Hue : 0
Blue Saturation : 0
Vibrance : +20
Hue Adjustment Red : 0
Hue Adjustment Orange : 0
Hue Adjustment Yellow : 0
Hue Adjustment Green : 0
Hue Adjustment Aqua : 0
Hue Adjustment Blue : 0
Hue Adjustment Purple : 0
Hue Adjustment Magenta : 0
Saturation Adjustment Red : 0
Saturation Adjustment Orange : 0
Saturation Adjustment Yellow : 0
Saturation Adjustment Green : 0
Saturation Adjustment Aqua : 0
Saturation Adjustment Blue : 0
Saturation Adjustment Purple : 0
Saturation Adjustment Magenta : 0
Luminance Adjustment Red : 0
Luminance Adjustment Orange : 0
Luminance Adjustment Yellow : 0
Luminance Adjustment Green : 0
Luminance Adjustment Aqua : 0
Luminance Adjustment Blue : 0
Luminance Adjustment Purple : 0
Luminance Adjustment Magenta : 0
Split Toning Shadow Hue : 0
Split Toning Shadow Saturation : 0
Split Toning Highlight Hue : 0
Split Toning Highlight Saturation : 0
Split Toning Balance : 0
Parametric Shadows : 0
Parametric Darks : 0
Parametric Lights : 0
Parametric Highlights : 0
Parametric Shadow Split : 25
Parametric Midtone Split : 50
Parametric Highlight Split : 75
Sharpen Radius : +0.5
Sharpen Detail : 0
Sharpen Edge Masking : 0
Post Crop Vignette Amount : -18
Post Crop Vignette Midpoint : 50
Post Crop Vignette Feather : 50
Post Crop Vignette Roundness : 0
Post Crop Vignette Style : Highlight Priority
Post Crop Vignette Highlight Contrast : 0
Grain Amount : 0
Color Noise Reduction Detail : 50
Color Noise Reduction Smoothness : 50
Lens Profile Enable : 1
Lens Manual Distortion Amount : 0
Perspective Vertical : 0
Perspective Horizontal : 0
Perspective Rotate : 0.0
Perspective Scale : 100
Perspective Aspect : 0
Perspective Upright : Off
Auto Lateral CA : 1
Exposure 2012 : +0.10
Contrast 2012 : 0
Highlights 2012 : -50
Shadows 2012 : +52
Whites 2012 : +46
Blacks 2012 : -44
Clarity 2012 : +30
Defringe Purple Amount : 1
Defringe Purple Hue Lo : 30
Defringe Purple Hue Hi : 70
Defringe Green Amount : 0
Defringe Green Hue Lo : 40
Defringe Green Hue Hi : 60
Convert To Grayscale : False
Tone Curve Name : Medium Contrast
Tone Curve Name 2012 : Medium Contrast
Camera Profile : CPS_G16_NV.1
Lens Profile Setup : Custom
Lens Profile Name : Adobe (Canon PowerShot G15)
Lens Profile Filename : Canon PowerShot G15 - RAW.lcp
Lens Profile Distortion Scale : 100
Lens Profile Chromatic Aberration Scale : 100
Lens Profile Vignetting Scale : 100
Has Settings : True
Has Crop : False
Already Applied : True
Creator : cedric muscat `15
Rights : ced.muscat
Tone Curve : 0, 0, 32, 22, 64, 56, 128, 128, 192, 196, 255, 255
Tone Curve Red : 0, 0, 255, 255
Tone Curve Green : 0, 0, 255, 255
Tone Curve Blue : 0, 0, 255, 255
Tone Curve PV2012 : 0, 0, 32, 22, 64, 56, 128, 128, 192, 196, 255, 255
Tone Curve PV2012 Red : 0, 0, 255, 255
Tone Curve PV2012 Green : 0, 0, 255, 255
Tone Curve PV2012 Blue : 0, 0, 255, 255
Image Width : 255
Image Height : 191
Bits Per Sample : 8
Color Components : 3
Aperture : 2.8
Image Size : 255x191
Megapixels : 0.049
Scale Factor To 35 mm Equivalent : 9.7
Shutter Speed : 1/1600
Circle Of Confusion : 0.003 mm
Depth Of Field : 13.61 m (21.06 - 34.66 m)
Field Of View : 7.0 deg
Focal Length : 30.5 mm (35 mm equivalent: 295.6 mm)
Hyperfocal Distance : 107.17 m
Light Value : 13.9
Lens ID : 6.1-30.5mm