Uber Exif Photo
Copyright Flag : False
Make : Leica Camera AG
Camera Model Name : M8 Digital Camera
Orientation : Horizontal (normal)
Software : Adobe Photoshop CS Windows
Modify Date : 2015:06:16 22:20:46
Exposure Time : 1/125
F Number : 2.8
Exposure Program : Aperture-priority AE
ISO : 640
Date/Time Original : 2015:06:06 19:21:03
Create Date : 2015:06:06 19:21:03
Shutter Speed Value : 1/125
Aperture Value : 2.8
Exposure Compensation : +0.332
Max Aperture Value : 2.0
Metering Mode : Center-weighted average
Light Source : Unknown
Focal Length : 50.0 mm
Color Space : sRGB
Exif Image Width : 1515
Exif Image Height : 1010
Scene Type : Directly photographed
White Balance : Auto
Digital Zoom Ratio : 0
Focal Length In 35mm Format : 67 mm
Scene Capture Type : Standard
Serial Number : 3109179
Lens Model : Leica Summicron-M 50mm f/2 (IV, V)
Profile Description : sRGB IEC61966-2.1
Version : 6.5
Process Version : 5.7
Color Temperature : 5450
Tint : +9
Exposure : +0.32
Shadows : 6
Brightness : +19
Contrast : +9
Saturation : +1
Sharpness : 31
Luminance Smoothing : 0
Color Noise Reduction : 25
Chromatic Aberration R : 0
Chromatic Aberration B : 0
Vignette Amount : 0
Shadow Tint : 0
Red Hue : 0
Red Saturation : 0
Green Hue : 0
Green Saturation : 0
Blue Hue : 0
Blue Saturation : 0
Fill Light : 0
Vibrance : 0
Highlight Recovery : 11
Clarity : +22
Defringe : 0
Hue Adjustment Red : 0
Hue Adjustment Orange : 0
Hue Adjustment Yellow : 0
Hue Adjustment Green : 0
Hue Adjustment Aqua : 0
Hue Adjustment Blue : 0
Hue Adjustment Purple : 0
Hue Adjustment Magenta : 0
Saturation Adjustment Red : 0
Saturation Adjustment Orange : +13
Saturation Adjustment Yellow : +23
Saturation Adjustment Green : +10
Saturation Adjustment Aqua : +50
Saturation Adjustment Blue : +82
Saturation Adjustment Purple : +23
Saturation Adjustment Magenta : 0
Luminance Adjustment Red : 0
Luminance Adjustment Orange : 0
Luminance Adjustment Yellow : 0
Luminance Adjustment Green : 0
Luminance Adjustment Aqua : 0
Luminance Adjustment Blue : +52
Luminance Adjustment Purple : 0
Luminance Adjustment Magenta : 0
Split Toning Shadow Hue : 0
Split Toning Shadow Saturation : 0
Split Toning Highlight Hue : 0
Split Toning Highlight Saturation : 0
Split Toning Balance : 0
Parametric Shadows : -16
Parametric Darks : -16
Parametric Lights : -12
Parametric Highlights : -5
Parametric Shadow Split : 25
Parametric Midtone Split : 50
Parametric Highlight Split : 75
Sharpen Radius : +1.0
Sharpen Detail : 31
Sharpen Edge Masking : 0
Post Crop Vignette Amount : 0
Grain Amount : 0
Color Noise Reduction Detail : 50
Lens Profile Enable : 0
Lens Manual Distortion Amount : 0
Perspective Vertical : 0
Perspective Horizontal : 0
Perspective Rotate : 0.0
Perspective Scale : 100
Convert To Grayscale : False
Tone Curve Name : Linear
Camera Profile : Adobe Standard
Lens Profile Setup : LensDefaults
Has Settings : True
Crop Top : 0.016055
Crop Left : 0.01173
Crop Bottom : 0.995571
Crop Right : 1
Crop Angle : 0
Crop Constrain To Warp : 0
Crop Width : 3870
Crop Height : 2580
Crop Unit : pixels
Has Crop : True
Already Applied : True
Tone Curve : 0, 0, 255, 255
Date/Time Digitized : 2015:06:06 19:21:03+02:00
Flash Fired : False
Flash Return : No return detection
Flash Mode : Auto
Flash Function : False
Flash Red Eye Mode : False
Lens : Leica Summicron-M 50mm f/2 (IV, V)
Date Created : 2015:06:06
Creator Tool : Adobe Photoshop CS Windows
Format : image/jpeg
Image Width : 263
Image Height : 178
Bits Per Sample : 8
Color Components : 3
Aperture : 2.8
Image Size : 263x178
Megapixels : 0.047
Scale Factor To 35 mm Equivalent : 1.3
Shutter Speed : 1/125
Flash : Auto, Did not fire
Circle Of Confusion : 0.022 mm
Field Of View : 30.1 deg
Focal Length : 50.0 mm (35 mm equivalent: 67.0 mm)
Hyperfocal Distance : 39.82 m
Light Value : 7.3
Lens ID : Summicron-M 50mm f/2 (IV, V)