Uber Exif Photo
Make : Leica Camera AG
Camera Model Name : LEICA M (Typ 240)
Orientation : Horizontal (normal)
Software : Adobe Photoshop Lightroom 6.0 (Windows)
Modify Date : 2015:06:28 17:29:00
Exposure Time : 1/60
F Number : 8.0
Exposure Program : Aperture-priority AE
ISO : 200
Date/Time Original : 2015:06:27 15:13:25
Create Date : 2015:06:27 15:13:25
Shutter Speed Value : 1/60
Aperture Value : 8.0
Exposure Compensation : 0
Max Aperture Value : 1.4
Metering Mode : Multi-spot
Light Source : Unknown
Flash : No Flash
Focal Length : 35.0 mm
Color Space : sRGB
Scene Type : Directly photographed
Custom Rendered : Normal
Exposure Mode : Auto
White Balance : Auto
Digital Zoom Ratio : 0
Scene Capture Type : Standard
Contrast : Normal
Saturation : Normal
Sharpness : Hard
Serial Number : 4903232
Lens Info : 35mm f/1-16
Lens Make : Leica Camera AG
Lens Model : Summilux-M 1:1.4/35 ASPH.
Lens Serial Number : -------
Creator Tool : Adobe Photoshop Lightroom 6.0 (Windows)
Lens : Summilux-M 1:1.4/35 ASPH.
Date Created : 2015:06:27 15:13:25
Format : image/jpeg
Version : 9.0
Process Version : 6.7
Auto White Version : 134348800
Color Temperature : 4850
Tint : +3
Luminance Smoothing : 0
Color Noise Reduction : 25
Vignette Amount : 0
Shadow Tint : 0
Red Hue : 0
Red Saturation : 0
Green Hue : 0
Green Saturation : 0
Blue Hue : 0
Blue Saturation : 0
Gray Mixer Red : -9
Gray Mixer Orange : -18
Gray Mixer Yellow : -22
Gray Mixer Green : -26
Gray Mixer Aqua : -19
Gray Mixer Blue : +8
Gray Mixer Purple : +15
Gray Mixer Magenta : +4
Split Toning Shadow Hue : 0
Split Toning Shadow Saturation : 0
Split Toning Highlight Hue : 0
Split Toning Highlight Saturation : 0
Split Toning Balance : 0
Parametric Shadows : 0
Parametric Darks : 0
Parametric Lights : 0
Parametric Highlights : 0
Parametric Shadow Split : 25
Parametric Midtone Split : 50
Parametric Highlight Split : 75
Sharpen Radius : +1.0
Sharpen Detail : 25
Sharpen Edge Masking : 0
Post Crop Vignette Amount : 0
Grain Amount : 0
Color Noise Reduction Detail : 50
Color Noise Reduction Smoothness : 50
Lens Profile Enable : 0
Lens Manual Distortion Amount : 0
Perspective Vertical : 0
Perspective Horizontal : 0
Perspective Rotate : 0.0
Perspective Scale : 100
Perspective Aspect : 0
Perspective Upright : Off
Auto Lateral CA : 0
Exposure 2012 : 0.00
Contrast 2012 : 0
Highlights 2012 : -50
Shadows 2012 : +15
Whites 2012 : 0
Blacks 2012 : 0
Clarity 2012 : 0
Convert To Grayscale : True
Tone Curve Name : Linear
Tone Curve Name 2012 : Strong Contrast
Camera Profile : Adobe Standard
Lens Profile Setup : LensDefaults
Has Settings : True
Has Crop : False
Already Applied : True
Raw File Name : L1007960.jpg
Tone Curve : 0, 0, 255, 255
Tone Curve Red : 0, 0, 255, 255
Tone Curve Green : 0, 0, 255, 255
Tone Curve Blue : 0, 0, 255, 255
Tone Curve PV2012 : 0, 0, 32, 16, 64, 50, 128, 128, 192, 202, 255, 255
Tone Curve PV2012 Red : 0, 0, 255, 255
Tone Curve PV2012 Green : 0, 0, 255, 255
Tone Curve PV2012 Blue : 0, 0, 255, 255
Image Width : 255
Image Height : 170
Bits Per Sample : 8
Color Components : 1
Aperture : 8.0
Image Size : 255x170
Megapixels : 0.043
Scale Factor To 35 mm Equivalent : 23.3
Shutter Speed : 1/60
Circle Of Confusion : 0.001 mm
Field Of View : 2.5 deg
Focal Length : 35.0 mm (35 mm equivalent: 816.9 mm)
Hyperfocal Distance : 118.95 m
Light Value : 10.9
Lens ID : Summilux-M 1:1.4/35 ASPH.