Uber Exif Photo
By-line : leeseunghwan@gmail.com
Copyright Notice : Seunghwan Lee
Make : NIKON CORPORATION
Camera Model Name : NIKON D810
Software : PhotoScape
Modify Date : 2015:06:07 04:38:04
Artist : leeseunghwan@gmail.com
Copyright : Seunghwan Lee
Exif Image Width : 1281
Exif Image Height : 1920
Related Image Width : 3035
Related Image Height : 4548
Creator Tool : Adobe Photoshop Lightroom 6.0 (Macintosh)
Create Date : 2015:05:15 14:22:27.59
Format : image/jpeg
Serial Number : 5503605
Lens Info : 50mm f/1.8
Lens : 50.0 mm f/1.8
Image Number : 82
Approximate Focus Distance : 5.01
Date Created : 2015:05:15 14:22:27.59
Version : 9.0
Process Version : 6.7
White Balance : As Shot
Auto White Version : 134348800
Color Temperature : 4950
Tint : +1
Saturation : 0
Sharpness : 25
Luminance Smoothing : 0
Color Noise Reduction : 25
Vignette Amount : 0
Shadow Tint : 0
Red Hue : 0
Red Saturation : 0
Green Hue : 0
Green Saturation : 0
Blue Hue : 0
Blue Saturation : 0
Vibrance : 0
Hue Adjustment Red : 0
Hue Adjustment Orange : 0
Hue Adjustment Yellow : 0
Hue Adjustment Green : 0
Hue Adjustment Aqua : 0
Hue Adjustment Blue : 0
Hue Adjustment Purple : 0
Hue Adjustment Magenta : 0
Saturation Adjustment Red : 0
Saturation Adjustment Orange : 0
Saturation Adjustment Yellow : 0
Saturation Adjustment Green : 0
Saturation Adjustment Aqua : 0
Saturation Adjustment Blue : 0
Saturation Adjustment Purple : 0
Saturation Adjustment Magenta : 0
Luminance Adjustment Red : 0
Luminance Adjustment Orange : 0
Luminance Adjustment Yellow : 0
Luminance Adjustment Green : 0
Luminance Adjustment Aqua : 0
Luminance Adjustment Blue : 0
Luminance Adjustment Purple : 0
Luminance Adjustment Magenta : 0
Split Toning Shadow Hue : 0
Split Toning Shadow Saturation : 0
Split Toning Highlight Hue : 0
Split Toning Highlight Saturation : 0
Split Toning Balance : 0
Parametric Shadows : 0
Parametric Darks : 0
Parametric Lights : 0
Parametric Highlights : 0
Parametric Shadow Split : 25
Parametric Midtone Split : 50
Parametric Highlight Split : 75
Sharpen Radius : +1.0
Sharpen Detail : 25
Sharpen Edge Masking : 0
Post Crop Vignette Amount : 0
Grain Amount : 0
Color Noise Reduction Detail : 50
Color Noise Reduction Smoothness : 50
Lens Profile Enable : 1
Lens Manual Distortion Amount : 0
Perspective Vertical : 0
Perspective Horizontal : 0
Perspective Rotate : 0.0
Perspective Scale : 100
Perspective Aspect : 0
Perspective Upright : Level
Auto Lateral CA : 0
Exposure 2012 : +0.50
Contrast 2012 : -3
Highlights 2012 : -28
Shadows 2012 : +28
Whites 2012 : +20
Blacks 2012 : -46
Clarity 2012 : 0
Defringe Purple Amount : 0
Defringe Purple Hue Lo : 30
Defringe Purple Hue Hi : 70
Defringe Green Amount : 0
Defringe Green Hue Lo : 40
Defringe Green Hue Hi : 60
Convert To Grayscale : False
Tone Curve Name : Linear
Tone Curve Name 2012 : Medium Contrast
Camera Profile : Camera Standard
Lens Profile Setup : LensDefaults
Lens Profile Name : Adobe (Nikon AF-S NIKKOR 50mm f/1.8G)
Lens Profile Filename : NIKON D3X (Nikon AF-S NIKKOR 50mm f1.8G) - RAW.lcp
Lens Profile Distortion Scale : 100
Lens Profile Chromatic Aberration Scale : 100
Lens Profile Vignetting Scale : 0
Has Settings : True
Crop Top : 0
Crop Left : 0.286388
Crop Bottom : 0.925958
Crop Right : 0.698821
Crop Angle : 0
Crop Constrain To Warp : 0
Has Crop : True
Already Applied : True
Raw File Name : DSC_0078_20150515.jpg
Creator : leeseunghwan@gmail.com
Rights : Seunghwan Lee
Tone Curve : 0, 0, 255, 255
Tone Curve Red : 0, 0, 255, 255
Tone Curve Green : 0, 0, 255, 255
Tone Curve Blue : 0, 0, 255, 255
Tone Curve PV2012 : 0, 0, 32, 22, 64, 56, 128, 128, 192, 196, 255, 255
Tone Curve PV2012 Red : 0, 0, 255, 255
Tone Curve PV2012 Green : 0, 0, 255, 255
Tone Curve PV2012 Blue : 0, 0, 255, 255
Image Width : 255
Image Height : 382
Bits Per Sample : 8
Color Components : 3
Image Size : 255x382
Megapixels : 0.097
Date/Time Original : 2015:05:15 14:22:27+00:00
Lens ID : AF-S Nikkor 50mm f/1.8G