Uber Exif Photo
By-line : SEUNGHWAN LEE
Copyright Notice : (c)SEUNGHWAN LEE [leeseunghwan@gmail.com]
Make : NIKON CORPORATION
Camera Model Name : NIKON D3
Software : PhotoScape
Modify Date : 2014:05:12 21:18:14
Artist : SEUNGHWAN LEE
Copyright : (c)SEUNGHWAN LEE [leeseunghwan@gmail.com]
Exposure Time : 1/125
F Number : 5.6
Exposure Program : Program AE
ISO : 200
Date/Time Original : 2008:08:06 11:31:25
Create Date : 2008:08:06 11:31:25
Shutter Speed Value : 1/125
Aperture Value : 5.6
Exposure Compensation : +1/3
Max Aperture Value : 2.8
Subject Distance : 2 m
Metering Mode : Multi-segment
Light Source : Unknown
Focal Length : 70.0 mm
User Comment : SEUNGHWAN LEE PHOTOGRAPHY
Exif Image Width : 1277
Exif Image Height : 1920
Related Image Width : 2655
Related Image Height : 3989
Sensing Method : One-chip color area
Scene Type : Directly photographed
CFA Pattern : [Red,Green][Green,Blue]
Custom Rendered : Normal
Exposure Mode : Auto
White Balance : Auto
Digital Zoom Ratio : 1
Focal Length In 35mm Format : 70 mm
Scene Capture Type : Portrait
Gain Control : None
Contrast : Normal
Saturation : Normal
Sharpness : Normal
Subject Distance Range : Unknown
Creator Tool : Adobe Photoshop Lightroom
Serial Number : 2038422
Lens Info : 24-70mm f/2.8
Lens : 24.0-70.0 mm f/2.8
Image Number : 3954
Version : 6.1
Process Version : 5.7
Color Temperature : 4300
Tint : +2
Exposure : 0.00
Shadows : 4
Brightness : +33
Luminance Smoothing : 0
Color Noise Reduction : 25
Chromatic Aberration R : 0
Chromatic Aberration B : 0
Vignette Amount : 0
Shadow Tint : 0
Red Hue : 0
Red Saturation : 0
Green Hue : 0
Green Saturation : 0
Blue Hue : 0
Blue Saturation : 0
Fill Light : 0
Vibrance : 0
Highlight Recovery : 31
Clarity : 0
Defringe : 0
Hue Adjustment Red : 0
Hue Adjustment Orange : 0
Hue Adjustment Yellow : 0
Hue Adjustment Green : 0
Hue Adjustment Aqua : 0
Hue Adjustment Blue : 0
Hue Adjustment Purple : 0
Hue Adjustment Magenta : 0
Saturation Adjustment Red : 0
Saturation Adjustment Orange : 0
Saturation Adjustment Yellow : 0
Saturation Adjustment Green : 0
Saturation Adjustment Aqua : 0
Saturation Adjustment Blue : 0
Saturation Adjustment Purple : 0
Saturation Adjustment Magenta : 0
Luminance Adjustment Red : 0
Luminance Adjustment Orange : 0
Luminance Adjustment Yellow : 0
Luminance Adjustment Green : 0
Luminance Adjustment Aqua : 0
Luminance Adjustment Blue : 0
Luminance Adjustment Purple : 0
Luminance Adjustment Magenta : 0
Split Toning Shadow Hue : 0
Split Toning Shadow Saturation : 0
Split Toning Highlight Hue : 0
Split Toning Highlight Saturation : 0
Split Toning Balance : 0
Parametric Shadows : 0
Parametric Darks : 0
Parametric Lights : 0
Parametric Highlights : 0
Parametric Shadow Split : 25
Parametric Midtone Split : 50
Parametric Highlight Split : 75
Sharpen Radius : +1.0
Sharpen Detail : 25
Sharpen Edge Masking : 0
Post Crop Vignette Amount : 0
Grain Amount : 0
Color Noise Reduction Detail : 50
Lens Profile Enable : 0
Lens Manual Distortion Amount : 0
Perspective Vertical : 0
Perspective Horizontal : 0
Perspective Rotate : 0.0
Perspective Scale : 100
Convert To Grayscale : False
Tone Curve Name : Medium Contrast
Camera Profile : Adobe Standard
Lens Profile Setup : LensDefaults
Has Settings : True
Crop Top : 0
Crop Left : 0.045892
Crop Bottom : 1
Crop Right : 0.954108
Crop Angle : 2.58843
Crop Constrain To Warp : 0
Crop Width : 3989
Crop Height : 2655
Crop Unit : pixels
Has Crop : True
Already Applied : True
Flash Fired : False
Flash Return : No return detection
Flash Mode : Unknown
Flash Function : False
Flash Red Eye Mode : False
Tone Curve : 0, 0, 32, 22, 64, 56, 128, 128, 192, 196, 255, 255
Creator : SEUNGHWAN LEE
Rights : (c)SEUNGHWAN LEE [leeseunghwan@gmail.com]
Image Width : 255
Image Height : 383
Bits Per Sample : 8
Color Components : 3
Aperture : 5.6
Image Size : 255x383
Megapixels : 0.098
Scale Factor To 35 mm Equivalent : 1.0
Shutter Speed : 1/125
Create Date : 2008:08:06 11:31:25.42
Date/Time Original : 2008:08:06 11:31:25.42
Flash : No Flash
Circle Of Confusion : 0.030 mm
Depth Of Field : 0.27 m (1.88 - 2.14 m)
Field Of View : 28.8 deg
Focal Length : 70.0 mm (35 mm equivalent: 70.0 mm)
Hyperfocal Distance : 29.12 m
Light Value : 10.9
Lens ID : AF-S Zoom-Nikkor 24-70mm f/2.8G ED