Uber Exif Photo
Make : LEICA CAMERA AG
Camera Model Name : LEICA X2
Orientation : Horizontal (normal)
Software : ViewNX-i 1.0 W
Modify Date : 2015:07:15 22:58:31
Exposure Time : 1/400
F Number : 5.6
Exposure Program : Program AE
ISO : 200
Date/Time Original : 2015:07:12 08:51:38
Create Date : 2015:07:12 08:51:38
Shutter Speed Value : 1.3
Aperture Value : 5.6
Exposure Compensation : 0
Max Aperture Value : 2.8
Metering Mode : Multi-segment
Light Source : Unknown
Flash : Off, Did not fire
Focal Length : 24.0 mm
Maker Note Version : 2.11
Image Data Size : 795298
Nikon Capture Version : ViewNX-i 1.0 W
IFD0 Offset : 1077
Preview IFD Offset : 977
NEF Bit Depth : 8 x 3
Color Space : Uncalibrated
Exif Image Width : 1000
Exif Image Height : 875
Sensing Method : One-chip color area
Custom Rendered : Normal
White Balance : Auto
Digital Zoom Ratio : 1
Focal Length In 35mm Format : 36 mm
Scene Capture Type : Landscape
Contrast : Normal
Saturation : Normal
Sharpness : Hard
Serial Number : 000004322344
Lens Info : 24mm f/2.8
Lens Model : 24.0 mm f/2.8
Profile Description : sRGB IEC61966-2.1
Creator Tool : Adobe Photoshop Camera Raw 9.1 (Windows)
Lens : 24.0 mm f/2.8
Approximate Focus Distance : 7
Lateral Chromatic Aberration Correction Already Applied:
True
Date Created : 2015:07:12 08:51:38
Color Mode : RGB
ICC Profile Name : sRGB IEC61966-2.1
Format : image/tiff
Raw File Name : L9690718.DNG
Version : 9.1
Process Version : 6.7
Auto White Version : 134348800
Color Temperature : 5450
Tint : +10
Luminance Smoothing : 0
Color Noise Reduction : 25
Vignette Amount : 0
Shadow Tint : 0
Red Hue : 0
Red Saturation : 0
Green Hue : 0
Green Saturation : 0
Blue Hue : 0
Blue Saturation : 0
Vibrance : 0
Hue Adjustment Red : 0
Hue Adjustment Orange : 0
Hue Adjustment Yellow : 0
Hue Adjustment Green : 0
Hue Adjustment Aqua : 0
Hue Adjustment Blue : 0
Hue Adjustment Purple : 0
Hue Adjustment Magenta : 0
Saturation Adjustment Red : +18
Saturation Adjustment Orange : +28
Saturation Adjustment Yellow : +15
Saturation Adjustment Green : +27
Saturation Adjustment Aqua : +35
Saturation Adjustment Blue : +17
Saturation Adjustment Purple : +31
Saturation Adjustment Magenta : 0
Luminance Adjustment Red : 0
Luminance Adjustment Orange : 0
Luminance Adjustment Yellow : 0
Luminance Adjustment Green : 0
Luminance Adjustment Aqua : 0
Luminance Adjustment Blue : 0
Luminance Adjustment Purple : 0
Luminance Adjustment Magenta : 0
Split Toning Shadow Hue : 0
Split Toning Shadow Saturation : 0
Split Toning Highlight Hue : 0
Split Toning Highlight Saturation : 0
Split Toning Balance : 0
Parametric Shadows : +38
Parametric Darks : +1
Parametric Lights : +33
Parametric Highlights : -85
Parametric Shadow Split : 25
Parametric Midtone Split : 50
Parametric Highlight Split : 75
Sharpen Radius : +1.0
Sharpen Detail : 25
Sharpen Edge Masking : 0
Post Crop Vignette Amount : 0
Grain Amount : 0
Color Noise Reduction Detail : 50
Color Noise Reduction Smoothness : 50
Lens Profile Enable : 0
Lens Manual Distortion Amount : 0
Perspective Vertical : 0
Perspective Horizontal : 0
Perspective Rotate : 0.0
Perspective Scale : 100
Perspective Aspect : 0
Perspective Upright : Off
Auto Lateral CA : 0
Exposure 2012 : -0.65
Contrast 2012 : +2
Highlights 2012 : -86
Shadows 2012 : +53
Whites 2012 : +28
Blacks 2012 : -59
Clarity 2012 : +21
Defringe Purple Amount : 0
Defringe Purple Hue Lo : 30
Defringe Purple Hue Hi : 70
Defringe Green Amount : 0
Defringe Green Hue Lo : 40
Defringe Green Hue Hi : 60
Dehaze : 0
Tone Map Strength : 0
Convert To Grayscale : False
Tone Curve Name : Medium Contrast
Tone Curve Name 2012 : Linear
Camera Profile : Adobe Standard
Lens Profile Setup : LensDefaults
Has Settings : True
Crop Top : 0.049451
Crop Left : 0.258182
Crop Bottom : 0.895604
Crop Right : 0.86303
Crop Angle : 0
Crop Constrain To Warp : 1
Has Crop : True
Already Applied : True
Tone Curve : 0, 0, 32, 22, 64, 56, 128, 128, 192, 196, 255, 255
Tone Curve Red : 0, 0, 255, 255
Tone Curve Green : 0, 0, 255, 255
Tone Curve Blue : 0, 0, 255, 255
Tone Curve PV2012 : 0, 0, 255, 255
Tone Curve PV2012 Red : 0, 0, 255, 255
Tone Curve PV2012 Green : 0, 0, 255, 255
Tone Curve PV2012 Blue : 0, 0, 255, 255
Image Width : 263
Image Height : 231
Bits Per Sample : 8
Color Components : 3
Aperture : 5.6
Image Size : 263x231
Megapixels : 0.061
Scale Factor To 35 mm Equivalent : 1.5
Shutter Speed : 1/400
Circle Of Confusion : 0.020 mm
Depth Of Field : inf (2.97 m - inf)
Field Of View : 53.1 deg
Focal Length : 24.0 mm (35 mm equivalent: 36.0 mm)
Hyperfocal Distance : 5.13 m
Light Value : 12.6
Lens ID : 24.0mm f/2.8