Uber Exif Photo
Copyright Flag : False
Orientation : Horizontal (normal)
Software : Adobe Photoshop CS Windows
Modify Date : 2015:07:21 23:52:10
Color Space : sRGB
Exif Image Width : 644
Exif Image Height : 964
Profile Description : sRGB IEC61966-2.1
Version : 6.5
Process Version : 5.7
White Balance : As Shot
Incremental Temperature : 0
Incremental Tint : 0
Exposure : +0.41
Shadows : 0
Brightness : +36
Contrast : -3
Sharpness : 0
Luminance Smoothing : 0
Color Noise Reduction : 0
Chromatic Aberration R : 0
Chromatic Aberration B : 0
Vignette Amount : 0
Shadow Tint : 0
Red Hue : 0
Red Saturation : 0
Green Hue : 0
Green Saturation : 0
Blue Hue : 0
Blue Saturation : 0
Fill Light : 6
Highlight Recovery : 18
Clarity : -36
Defringe : 0
Gray Mixer Red : -9
Gray Mixer Orange : -18
Gray Mixer Yellow : -22
Gray Mixer Green : -26
Gray Mixer Aqua : -17
Gray Mixer Blue : +10
Gray Mixer Purple : +16
Gray Mixer Magenta : +4
Split Toning Shadow Hue : 0
Split Toning Shadow Saturation : 0
Split Toning Highlight Hue : 0
Split Toning Highlight Saturation : 0
Split Toning Balance : 0
Parametric Shadows : +5
Parametric Darks : 0
Parametric Lights : -5
Parametric Highlights : +1
Parametric Shadow Split : 25
Parametric Midtone Split : 50
Parametric Highlight Split : 75
Sharpen Radius : +1.0
Sharpen Detail : 25
Sharpen Edge Masking : 0
Post Crop Vignette Amount : 0
Grain Amount : 0
Lens Profile Enable : 0
Lens Manual Distortion Amount : 0
Perspective Vertical : 0
Perspective Horizontal : 0
Perspective Rotate : 0.0
Perspective Scale : 100
Convert To Grayscale : True
Tone Curve Name : Linear
Camera Profile : Embedded
Lens Profile Setup : LensDefaults
Has Settings : True
Has Crop : False
Already Applied : True
Tone Curve : 0, 0, 255, 255
Creator Tool : Adobe Photoshop CS Windows
Create Date : 2015:07:21 23:47:47+02:00
Format : image/jpeg
Image Width : 263
Image Height : 390
Bits Per Sample : 8
Color Components : 3
Image Size : 263x390
Megapixels : 0.103