Uber Exif Photo
Make : LEICA CAMERA AG
Camera Model Name : LEICA X2
Orientation : Horizontal (normal)
Software : ViewNX-i 1.0 W
Modify Date : 2015:07:28 15:11:55
Exposure Time : 1/80
F Number : 4.0
Exposure Program : Program AE
ISO : 400
Date/Time Original : 2015:07:19 08:26:49
Create Date : 2015:07:19 08:26:49
Shutter Speed Value : 0.3
Aperture Value : 4.0
Exposure Compensation : 0
Max Aperture Value : 2.8
Metering Mode : Multi-segment
Light Source : Unknown
Flash : Off, Did not fire
Focal Length : 24.0 mm
Original File Name : L9691204.DNG
Original Directory : 969LEICA
Focus Distance : 5.5 m
Exposure Mode : Program AE
File Index : 1204
Film Mode : Standard *
WB RGB Levels : 0.431703204 1.001956947 0.6754617414
Internal Serial Number : 000000000000
Color Space : Uncalibrated
Exif Image Width : 1000
Exif Image Height : 630
Sensing Method : One-chip color area
Custom Rendered : Normal
White Balance : Auto
Digital Zoom Ratio : 1
Focal Length In 35mm Format : 36 mm
Scene Capture Type : Landscape
Contrast : Normal
Saturation : Normal
Sharpness : Hard
Serial Number : 000004322344
Lens Info : 24mm f/2.8
Lens Model : 24.0 mm f/2.8
Maker Note Safety : Safe
Creator Tool : Adobe Photoshop Camera Raw 9.1 (Windows)
Lens : 24.0 mm f/2.8
Approximate Focus Distance : 5.5
Lateral Chromatic Aberration Correction Already Applied:
True
Date Created : 2015:07:19 08:26:49
Format : image/tiff
Raw File Name : L9691204.DNG
Version : 9.1
Process Version : 6.7
Auto White Version : 134348800
Color Temperature : 5800
Tint : +6
Luminance Smoothing : 19
Color Noise Reduction : 25
Vignette Amount : 0
Shadow Tint : 0
Red Hue : 0
Red Saturation : 0
Green Hue : 0
Green Saturation : 0
Blue Hue : 0
Blue Saturation : 0
Gray Mixer Red : +19
Gray Mixer Orange : +29
Gray Mixer Yellow : -59
Gray Mixer Green : -100
Gray Mixer Aqua : +65
Gray Mixer Blue : +46
Gray Mixer Purple : +39
Gray Mixer Magenta : +60
Split Toning Shadow Hue : 0
Split Toning Shadow Saturation : 0
Split Toning Highlight Hue : 0
Split Toning Highlight Saturation : 0
Split Toning Balance : 0
Parametric Shadows : -42
Parametric Darks : -25
Parametric Lights : +41
Parametric Highlights : +37
Parametric Shadow Split : 25
Parametric Midtone Split : 50
Parametric Highlight Split : 75
Sharpen Radius : +1.0
Sharpen Detail : 25
Sharpen Edge Masking : 0
Post Crop Vignette Amount : 0
Grain Amount : 0
Luminance Noise Reduction Detail : 50
Color Noise Reduction Detail : 50
Luminance Noise Reduction Contrast : 0
Color Noise Reduction Smoothness : 50
Lens Profile Enable : 0
Lens Manual Distortion Amount : 0
Perspective Vertical : 0
Perspective Horizontal : 0
Perspective Rotate : 0.0
Perspective Scale : 100
Perspective Aspect : 0
Perspective Upright : Off
Auto Lateral CA : 0
Exposure 2012 : -1.25
Contrast 2012 : +1
Highlights 2012 : -93
Shadows 2012 : +60
Whites 2012 : +62
Blacks 2012 : -18
Clarity 2012 : +13
Dehaze : 0
Tone Map Strength : 0
Convert To Grayscale : True
Tone Curve Name : Medium Contrast
Tone Curve Name 2012 : Linear
Camera Profile : Adobe Standard
Lens Profile Setup : LensDefaults
Has Settings : True
Crop Top : 0.159544
Crop Left : 0
Crop Bottom : 0.845442
Crop Right : 0.791216
Crop Angle : -2.359626
Crop Constrain To Warp : 1
Has Crop : True
Already Applied : True
Tone Curve : 0, 0, 32, 22, 64, 56, 128, 128, 192, 196, 255, 255
Tone Curve Red : 0, 0, 255, 255
Tone Curve Green : 0, 0, 255, 255
Tone Curve Blue : 0, 0, 255, 255
Tone Curve PV2012 : 0, 0, 255, 255
Tone Curve PV2012 Red : 0, 0, 255, 255
Tone Curve PV2012 Green : 0, 0, 255, 255
Tone Curve PV2012 Blue : 0, 0, 255, 255
Gradient Based Corr What : Correction
Gradient Based Corr Amount : 1.000000
Gradient Based Corr Active : true
Gradient Based Corr Exposure : 0.000000
Gradient Based Corr Saturation : 0.000000
Gradient Based Corr Contrast : 0.000000
Gradient Based Corr Clarity : 0.000000
Gradient Based Corr Sharpness : -0.690000
Gradient Based Corr Brightness : 0.000000
Gradient Based Corr Toning Hue : 0.000000
Gradient Based Corr Toning Saturation : 0.000000
Gradient Based Corr Exposure 2012 : -0.700000
Gradient Based Corr Contrast 2012 : -0.600000
Gradient Based Corr Highlights 2012 : 0.570000
Gradient Based Corr Shadows 2012 : 0.530000
Gradient Based Corr Whites 2012 : 0.000000
Gradient Based Corr Blacks 2012 : 0.000000
Gradient Based Corr Clarity 2012 : 0.390000
Gradient Based Corr Luminance Noise : -0.690000
Gradient Based Corr Moire : 0.000000
Gradient Based Corr Defringe : 0.000000
Gradient Based Corr Temperature : 0.030000
Gradient Based Corr Tint : 0.000000
Gradient Based Corr Mask What : Mask/Gradient
Gradient Based Corr Mask Value : 1.000000
Gradient Based Corr Mask Zero X : 0.444848
Gradient Based Corr Mask Zero Y : 0.454212
Gradient Based Corr Mask Full X : 0.444848
Gradient Based Corr Mask Full Y : -0.005495
Image Width : 263
Image Height : 169
Bits Per Sample : 8
Color Components : 1
Aperture : 4.0
Blue Balance : 0.674142
Image Size : 263x169
Megapixels : 0.044
Red Balance : 0.43086
Scale Factor To 35 mm Equivalent : 1.5
Shutter Speed : 1/80
Circle Of Confusion : 0.020 mm
Depth Of Field : 19.96 m (3.12 - 23.08 m)
Field Of View : 52.9 deg (5.48 m)
Focal Length : 24.0 mm (35 mm equivalent: 36.0 mm)
Hyperfocal Distance : 7.19 m
Light Value : 8.3
Lens ID : 24.0mm f/2.8