Uber Exif Photo
By-line : Kack Cheung
Copyright Notice : All right reserv~
Make : Leica Camera AG
Camera Model Name : LEICA M (Typ 240)
Software : Adobe Photoshop Lightroom 4.4 (Macintosh)
Modify Date : 2014:10:08 06:40:41
Artist : Kack Cheung
Copyright : All right reserv~
Exposure Time : 1/750
F Number : 8.0
Exposure Program : Aperture-priority AE
ISO : 200
Date/Time Original : 2014:10:04 17:23:19
Create Date : 2014:10:04 17:23:19
Shutter Speed Value : 1/750
Aperture Value : 8.0
Exposure Compensation : 0
Max Aperture Value : 2.0
Metering Mode : Center-weighted average
Light Source : Unknown
Flash : No Flash
Focal Length : 50.0 mm
Scene Type : Directly photographed
Custom Rendered : Normal
Exposure Mode : Auto
White Balance : Auto
Digital Zoom Ratio : 0
Scene Capture Type : Standard
Contrast : Normal
Saturation : Normal
Sharpness : Normal
Serial Number : 4786435
Lens Info : 50mm f/2-16
Lens Make : Leica Camera AG
Lens Model : Apo-Summicron-M 1:2/50 ASPH.
Lens Serial Number : -------
Format : image/jpeg
Creator Tool : Adobe Photoshop Lightroom 4.4 (Macintosh)
Lens : Apo-Summicron-M 1:2/50 ASPH.
Date Created : 2014:10:04 17:23:19
Version : 7.4
Process Version : 6.7
Color Temperature : 6347
Tint : +122
Luminance Smoothing : 0
Color Noise Reduction : 25
Vignette Amount : +73
Vignette Midpoint : 17
Shadow Tint : 0
Red Hue : 0
Red Saturation : +49
Green Hue : 0
Green Saturation : +55
Blue Hue : 0
Blue Saturation : +46
Vibrance : 0
Hue Adjustment Red : 0
Hue Adjustment Orange : 0
Hue Adjustment Yellow : 0
Hue Adjustment Green : 0
Hue Adjustment Aqua : 0
Hue Adjustment Blue : 0
Hue Adjustment Purple : 0
Hue Adjustment Magenta : 0
Saturation Adjustment Red : 0
Saturation Adjustment Orange : 0
Saturation Adjustment Yellow : 0
Saturation Adjustment Green : 0
Saturation Adjustment Aqua : 0
Saturation Adjustment Blue : 0
Saturation Adjustment Purple : 0
Saturation Adjustment Magenta : 0
Luminance Adjustment Red : 0
Luminance Adjustment Orange : 0
Luminance Adjustment Yellow : 0
Luminance Adjustment Green : 0
Luminance Adjustment Aqua : 0
Luminance Adjustment Blue : 0
Luminance Adjustment Purple : 0
Luminance Adjustment Magenta : 0
Split Toning Shadow Hue : 0
Split Toning Shadow Saturation : 0
Split Toning Highlight Hue : 0
Split Toning Highlight Saturation : 0
Split Toning Balance : 0
Parametric Shadows : +71
Parametric Darks : +10
Parametric Lights : +54
Parametric Highlights : -22
Parametric Shadow Split : 25
Parametric Midtone Split : 50
Parametric Highlight Split : 75
Sharpen Radius : +0.5
Sharpen Detail : 0
Sharpen Edge Masking : 0
Post Crop Vignette Amount : 0
Grain Amount : 0
Color Noise Reduction Detail : 50
Lens Profile Enable : 0
Lens Manual Distortion Amount : 0
Perspective Vertical : 0
Perspective Horizontal : 0
Perspective Rotate : 0.0
Perspective Scale : 100
Auto Lateral CA : 0
Exposure 2012 : -0.25
Contrast 2012 : +27
Highlights 2012 : 0
Shadows 2012 : +46
Whites 2012 : +6
Blacks 2012 : +80
Clarity 2012 : +100
Defringe Purple Amount : 0
Defringe Purple Hue Lo : 30
Defringe Purple Hue Hi : 70
Defringe Green Amount : 0
Defringe Green Hue Lo : 40
Defringe Green Hue Hi : 60
Convert To Grayscale : False
Tone Curve Name 2012 : Linear
Camera Profile : Adobe Standard
Lens Profile Setup : LensDefaults
Has Settings : True
Has Crop : False
Already Applied : True
Creator : Kack Cheung
Rights : All right reserv~
Tone Curve PV2012 : 0, 0, 255, 255
Tone Curve PV2012 Red : 0, 0, 255, 255
Tone Curve PV2012 Green : 0, 0, 255, 255
Tone Curve PV2012 Blue : 0, 0, 255, 255
Image Width : 255
Image Height : 382
Bits Per Sample : 8
Color Components : 1
Aperture : 8.0
Image Size : 255x382
Megapixels : 0.097
Scale Factor To 35 mm Equivalent : 15.6
Shutter Speed : 1/750
Circle Of Confusion : 0.002 mm
Field Of View : 2.6 deg
Focal Length : 50.0 mm (35 mm equivalent: 778.7 mm)
Hyperfocal Distance : 161.99 m
Light Value : 14.6
Lens ID : Apo-Summicron-M 1:2/50 ASPH.