Uber Exif Photo
Make : FUJIFILM
Camera Model Name : X-T1
Software : Adobe Photoshop Lightroom 4.4 (Macintosh)
Modify Date : 2014:07:27 22:54:48
Exposure Time : 1/60
F Number : 2.0
Exposure Program : Shutter speed priority AE
ISO : 2000
Sensitivity Type : Standard Output Sensitivity
Date/Time Original : 2014:03:30 20:25:17
Create Date : 2014:03:30 20:25:17
Shutter Speed Value : 1/60
Aperture Value : 2.0
Brightness Value : -0.96
Exposure Compensation : 0
Max Aperture Value : 2.0
Metering Mode : Multi-segment
Light Source : Unknown
Flash : Off, Did not fire
Focal Length : 18.0 mm
Sensing Method : One-chip color area
Scene Type : Directly photographed
Custom Rendered : Normal
Exposure Mode : Auto
White Balance : Auto
Focal Length In 35mm Format : 27 mm
Scene Capture Type : Standard
Sharpness : Hard
Subject Distance Range : Unknown
Lens Info : 18mm f/2
Lens Make : FUJIFILM
Lens Model : XF18mmF2 R
Lens Serial Number : 21A07424
Creator Tool : Adobe Photoshop Lightroom 4.4 (Macintosh)
Lens : XF18mmF2 R
Date Created : 2014:03:30 20:25:17
Format : image/jpeg
Version : 7.4
Process Version : 6.7
Incremental Temperature : +1
Incremental Tint : -11
Luminance Smoothing : 0
Color Noise Reduction : 0
Vignette Amount : 0
Shadow Tint : 0
Red Hue : 0
Red Saturation : 0
Green Hue : 0
Green Saturation : 0
Blue Hue : 0
Blue Saturation : 0
Gray Mixer Red : -4
Gray Mixer Orange : -11
Gray Mixer Yellow : -14
Gray Mixer Green : -20
Gray Mixer Aqua : -19
Gray Mixer Blue : +4
Gray Mixer Purple : +10
Gray Mixer Magenta : +3
Split Toning Shadow Hue : 0
Split Toning Shadow Saturation : 0
Split Toning Highlight Hue : 0
Split Toning Highlight Saturation : 0
Split Toning Balance : 0
Parametric Shadows : 0
Parametric Darks : 0
Parametric Lights : 0
Parametric Highlights : 0
Parametric Shadow Split : 25
Parametric Midtone Split : 50
Parametric Highlight Split : 75
Sharpen Radius : +1.0
Sharpen Detail : 25
Sharpen Edge Masking : 0
Post Crop Vignette Amount : 0
Grain Amount : 0
Lens Profile Enable : 0
Lens Manual Distortion Amount : 0
Perspective Vertical : 0
Perspective Horizontal : 0
Perspective Rotate : 0.0
Perspective Scale : 100
Auto Lateral CA : 0
Exposure 2012 : +0.10
Contrast 2012 : 0
Highlights 2012 : 0
Shadows 2012 : 0
Whites 2012 : +39
Blacks 2012 : -39
Clarity 2012 : 0
Convert To Grayscale : True
Tone Curve Name 2012 : Linear
Camera Profile : Embedded
Lens Profile Setup : LensDefaults
Has Settings : True
Crop Top : 0.152165
Crop Left : 0
Crop Bottom : 1
Crop Right : 1
Crop Angle : 0
Crop Constrain To Warp : 0
Crop Width : 4896
Crop Height : 2767
Crop Unit : pixels
Has Crop : True
Already Applied : True
Tone Curve PV2012 : 0, 0, 255, 255
Tone Curve PV2012 Red : 0, 0, 255, 255
Tone Curve PV2012 Green : 0, 0, 255, 255
Tone Curve PV2012 Blue : 0, 0, 255, 255
Image Width : 255
Image Height : 144
Bits Per Sample : 8
Color Components : 1
Aperture : 2.0
Image Size : 255x144
Megapixels : 0.037
Scale Factor To 35 mm Equivalent : 1.5
Shutter Speed : 1/60
Circle Of Confusion : 0.020 mm
Field Of View : 67.4 deg
Focal Length : 18.0 mm (35 mm equivalent: 27.0 mm)
Hyperfocal Distance : 8.09 m
Light Value : 3.6
Lens ID : XF18mm F2 R