Uber Exif Photo
Copyright Notice :
Copyright Flag : False
Make : FUJIFILM
Camera Model Name : X-E1
Orientation : Horizontal (normal)
Software : Adobe Photoshop CS Windows
Modify Date : 2015:11:20 12:42:10
Copyright :
Exposure Time : 1/50
F Number : 4.0
Exposure Program : Aperture-priority AE
ISO : 3200
Sensitivity Type : Standard Output Sensitivity
Date/Time Original : 2015:11:10 14:56:44
Create Date : 2015:11:20 00:22:34
Shutter Speed Value : 1/50
Aperture Value : 4.0
Brightness Value : 0.39
Exposure Compensation : +0.33
Max Aperture Value : 2.8
Metering Mode : Multi-segment
Light Source : Unknown
Focal Length : 22.3 mm
Color Space : sRGB
Exif Image Width : 1888
Exif Image Height : 1350
Sensing Method : One-chip color area
Scene Type : Directly photographed
Custom Rendered : Normal
Exposure Mode : Auto
White Balance : Manual
Focal Length In 35mm Format : 33 mm
Scene Capture Type : Standard
Sharpness : Normal
Subject Distance Range : Unknown
Lens Info : 18-55mm f/2.8-4
Lens Make : FUJIFILM
Lens Model : XF18-55mmF2.8-4 R LM OIS
Lens Serial Number : 24A22467
Profile Description : sRGB IEC61966-2.1
Version : 6.5
Process Version : 5.7
Incremental Temperature : -9
Incremental Tint : -18
Exposure : +0.05
Shadows : 0
Brightness : +2
Contrast : 0
Saturation : -18
Luminance Smoothing : 0
Color Noise Reduction : 0
Chromatic Aberration R : 0
Chromatic Aberration B : 0
Vignette Amount : 0
Shadow Tint : 0
Red Hue : 0
Red Saturation : 0
Green Hue : 0
Green Saturation : 0
Blue Hue : 0
Blue Saturation : 0
Fill Light : 0
Vibrance : +24
Highlight Recovery : 12
Clarity : +42
Defringe : 0
Hue Adjustment Red : 0
Hue Adjustment Orange : 0
Hue Adjustment Yellow : 0
Hue Adjustment Green : 0
Hue Adjustment Aqua : 0
Hue Adjustment Blue : 0
Hue Adjustment Purple : 0
Hue Adjustment Magenta : 0
Saturation Adjustment Red : 0
Saturation Adjustment Orange : 0
Saturation Adjustment Yellow : 0
Saturation Adjustment Green : 0
Saturation Adjustment Aqua : 0
Saturation Adjustment Blue : 0
Saturation Adjustment Purple : 0
Saturation Adjustment Magenta : 0
Luminance Adjustment Red : 0
Luminance Adjustment Orange : 0
Luminance Adjustment Yellow : 0
Luminance Adjustment Green : 0
Luminance Adjustment Aqua : 0
Luminance Adjustment Blue : 0
Luminance Adjustment Purple : 0
Luminance Adjustment Magenta : 0
Split Toning Shadow Hue : 0
Split Toning Shadow Saturation : 0
Split Toning Highlight Hue : 0
Split Toning Highlight Saturation : 0
Split Toning Balance : 0
Parametric Shadows : 0
Parametric Darks : 0
Parametric Lights : +12
Parametric Highlights : 0
Parametric Shadow Split : 25
Parametric Midtone Split : 50
Parametric Highlight Split : 75
Sharpen Radius : +1.1
Sharpen Detail : 21
Sharpen Edge Masking : 0
Post Crop Vignette Amount : -18
Post Crop Vignette Midpoint : 42
Post Crop Vignette Feather : 50
Post Crop Vignette Roundness : -17
Post Crop Vignette Style : Highlight Priority
Post Crop Vignette Highlight Contrast : 0
Grain Amount : 0
Lens Profile Enable : 0
Lens Manual Distortion Amount : 0
Perspective Vertical : +12
Perspective Horizontal : +1
Perspective Rotate : 0.0
Perspective Scale : 100
Convert To Grayscale : False
Tone Curve Name : Linear
Camera Profile : Embedded
Lens Profile Setup : LensDefaults
Has Settings : True
Crop Top : 0.028278
Crop Left : 0.12864
Crop Bottom : 0.940301
Crop Right : 0.979863
Crop Angle : 0
Crop Constrain To Warp : 0
Crop Width : 4168
Crop Height : 2977
Crop Unit : pixels
Has Crop : True
Already Applied : True
Tone Curve : 0, 0, 255, 255
Compressed Bits Per Pixel : 3.2
Date/Time Digitized : 2015:11:20 00:22:34+02:00
Flash Fired : False
Flash Return : No return detection
Flash Mode : Off
Flash Function : False
Flash Red Eye Mode : False
Lens : XF18-55mmF2.8-4 R LM OIS
Date Created : 2015:11:10
Creator Tool : Adobe Photoshop CS Windows
Format : image/jpeg
Rights :
Image Width : 263
Image Height : 190
Bits Per Sample : 8
Color Components : 3
Aperture : 4.0
Image Size : 263x190
Megapixels : 0.050
Scale Factor To 35 mm Equivalent : 1.5
Shutter Speed : 1/50
Flash : Off, Did not fire
Circle Of Confusion : 0.020 mm
Field Of View : 57.2 deg
Focal Length : 22.3 mm (35 mm equivalent: 33.0 mm)
Hyperfocal Distance : 6.12 m
Light Value : 4.6
Lens ID : XF18-55mm F2.8-4 R LM OIS