Uber Exif Photo
Copyright Notice :
Copyright Flag : False
Make : FUJIFILM
Camera Model Name : X-E1
Orientation : Horizontal (normal)
Software : Adobe Photoshop CS Windows
Modify Date : 2015:11:25 12:47:00
Copyright :
Exposure Time : 1/75
F Number : 4.5
Exposure Program : Aperture-priority AE
ISO : 3200
Sensitivity Type : Standard Output Sensitivity
Date/Time Original : 2015:11:11 12:18:15
Create Date : 2015:11:25 01:00:37
Shutter Speed Value : 1/75
Aperture Value : 4.5
Brightness Value : 1.1
Exposure Compensation : +0.33
Max Aperture Value : 2.8
Metering Mode : Multi-segment
Light Source : Unknown
Focal Length : 27.7 mm
Color Space : sRGB
Exif Image Width : 1228
Exif Image Height : 1839
Sensing Method : One-chip color area
Scene Type : Directly photographed
Custom Rendered : Normal
Exposure Mode : Auto
White Balance : Manual
Focal Length In 35mm Format : 42 mm
Scene Capture Type : Standard
Sharpness : Normal
Subject Distance Range : Unknown
Lens Info : 18-55mm f/2.8-4
Lens Make : FUJIFILM
Lens Model : XF18-55mmF2.8-4 R LM OIS
Lens Serial Number : 24A22467
Profile Description : sRGB IEC61966-2.1
Version : 6.5
Process Version : 5.7
Incremental Temperature : 0
Incremental Tint : -3
Exposure : +0.05
Shadows : 0
Brightness : +2
Contrast : -16
Saturation : -6
Luminance Smoothing : 0
Color Noise Reduction : 0
Chromatic Aberration R : 0
Chromatic Aberration B : 0
Vignette Amount : 0
Shadow Tint : 0
Red Hue : 0
Red Saturation : 0
Green Hue : 0
Green Saturation : 0
Blue Hue : 0
Blue Saturation : 0
Fill Light : 0
Vibrance : +24
Highlight Recovery : 36
Clarity : +12
Defringe : 0
Hue Adjustment Red : 0
Hue Adjustment Orange : 0
Hue Adjustment Yellow : 0
Hue Adjustment Green : 0
Hue Adjustment Aqua : 0
Hue Adjustment Blue : 0
Hue Adjustment Purple : 0
Hue Adjustment Magenta : 0
Saturation Adjustment Red : 0
Saturation Adjustment Orange : 0
Saturation Adjustment Yellow : 0
Saturation Adjustment Green : 0
Saturation Adjustment Aqua : 0
Saturation Adjustment Blue : 0
Saturation Adjustment Purple : 0
Saturation Adjustment Magenta : 0
Luminance Adjustment Red : 0
Luminance Adjustment Orange : 0
Luminance Adjustment Yellow : 0
Luminance Adjustment Green : 0
Luminance Adjustment Aqua : 0
Luminance Adjustment Blue : 0
Luminance Adjustment Purple : 0
Luminance Adjustment Magenta : 0
Split Toning Shadow Hue : 0
Split Toning Shadow Saturation : 0
Split Toning Highlight Hue : 0
Split Toning Highlight Saturation : 0
Split Toning Balance : 0
Parametric Shadows : 0
Parametric Darks : 0
Parametric Lights : -9
Parametric Highlights : -3
Parametric Shadow Split : 25
Parametric Midtone Split : 50
Parametric Highlight Split : 75
Sharpen Radius : +1.1
Sharpen Detail : 21
Sharpen Edge Masking : 0
Post Crop Vignette Amount : -15
Post Crop Vignette Midpoint : 50
Post Crop Vignette Feather : 30
Post Crop Vignette Roundness : 0
Post Crop Vignette Style : Highlight Priority
Post Crop Vignette Highlight Contrast : 0
Grain Amount : 0
Lens Profile Enable : 0
Lens Manual Distortion Amount : 0
Perspective Vertical : 0
Perspective Horizontal : 0
Perspective Rotate : 0.0
Perspective Scale : 100
Convert To Grayscale : False
Tone Curve Name : Linear
Camera Profile : Embedded
Lens Profile Setup : LensDefaults
Has Settings : True
Crop Top : 0.001272
Crop Left : 0.007634
Crop Bottom : 0.993638
Crop Right : 1
Crop Angle : 0
Crop Constrain To Warp : 0
Crop Width : 3239
Crop Height : 4859
Crop Unit : pixels
Has Crop : True
Already Applied : True
Tone Curve : 0, 0, 255, 255
Compressed Bits Per Pixel : 3.2
Date/Time Digitized : 2015:11:25 01:00:37+02:00
Flash Fired : False
Flash Return : No return detection
Flash Mode : Off
Flash Function : False
Flash Red Eye Mode : False
Lens : XF18-55mmF2.8-4 R LM OIS
Date Created : 2015:11:11
Creator Tool : Adobe Photoshop CS Windows
Format : image/jpeg
Rights :
Image Width : 263
Image Height : 390
Bits Per Sample : 8
Color Components : 3
Aperture : 4.5
Image Size : 263x390
Megapixels : 0.103
Scale Factor To 35 mm Equivalent : 1.5
Shutter Speed : 1/75
Flash : Off, Did not fire
Circle Of Confusion : 0.020 mm
Field Of View : 46.4 deg
Focal Length : 27.7 mm (35 mm equivalent: 42.0 mm)
Hyperfocal Distance : 8.60 m
Light Value : 5.6
Lens ID : XF18-55mm F2.8-4 R LM OIS