Uber Exif Photo
Copyright Flag : False
Make : FUJIFILM
Camera Model Name : X-E1
Orientation : Horizontal (normal)
Software : Adobe Photoshop CS Windows
Modify Date : 2015:12:08 01:34:04
Exposure Time : 1/900
F Number : 4.0
Exposure Program : Aperture-priority AE
ISO : 1250
Sensitivity Type : Standard Output Sensitivity
Date/Time Original : 2015:11:11 12:55:07
Create Date : 2015:11:11 12:55:07
Shutter Speed Value : 1/900
Aperture Value : 4.0
Brightness Value : 4.84
Exposure Compensation : -0.67
Max Aperture Value : 2.8
Metering Mode : Multi-segment
Light Source : Unknown
Focal Length : 31.5 mm
Color Space : sRGB
Exif Image Width : 1715
Exif Image Height : 1227
Sensing Method : One-chip color area
Scene Type : Directly photographed
Custom Rendered : Normal
Exposure Mode : Auto
White Balance : Auto
Focal Length In 35mm Format : 47 mm
Scene Capture Type : Standard
Sharpness : Normal
Subject Distance Range : Unknown
Lens Info : 18-55mm f/2.8-4
Lens Make : FUJIFILM
Lens Model : XF18-55mmF2.8-4 R LM OIS
Lens Serial Number : 24A22467
Profile Description : sRGB IEC61966-2.1
Version : 9.0
Process Version : 6.7
Auto White Version : 134348800
Incremental Temperature : +7
Incremental Tint : +5
Saturation : -18
Luminance Smoothing : 0
Color Noise Reduction : 25
Vignette Amount : 0
Shadow Tint : 0
Red Hue : 0
Red Saturation : 0
Green Hue : 0
Green Saturation : 0
Blue Hue : 0
Blue Saturation : -15
Vibrance : +36
Hue Adjustment Red : 0
Hue Adjustment Orange : 0
Hue Adjustment Yellow : 0
Hue Adjustment Green : 0
Hue Adjustment Aqua : 0
Hue Adjustment Blue : 0
Hue Adjustment Purple : 0
Hue Adjustment Magenta : 0
Saturation Adjustment Red : -8
Saturation Adjustment Orange : -19
Saturation Adjustment Yellow : -14
Saturation Adjustment Green : -20
Saturation Adjustment Aqua : -24
Saturation Adjustment Blue : -55
Saturation Adjustment Purple : -17
Saturation Adjustment Magenta : -18
Luminance Adjustment Red : 0
Luminance Adjustment Orange : 0
Luminance Adjustment Yellow : 0
Luminance Adjustment Green : 0
Luminance Adjustment Aqua : 0
Luminance Adjustment Blue : 0
Luminance Adjustment Purple : 0
Luminance Adjustment Magenta : 0
Split Toning Shadow Hue : 0
Split Toning Shadow Saturation : 0
Split Toning Highlight Hue : 0
Split Toning Highlight Saturation : 0
Split Toning Balance : 0
Parametric Shadows : -3
Parametric Darks : -9
Parametric Lights : -17
Parametric Highlights : -9
Parametric Shadow Split : 25
Parametric Midtone Split : 50
Parametric Highlight Split : 75
Sharpen Radius : +1.1
Sharpen Detail : 22
Sharpen Edge Masking : 0
Post Crop Vignette Amount : -9
Post Crop Vignette Midpoint : 44
Post Crop Vignette Feather : 50
Post Crop Vignette Roundness : 0
Post Crop Vignette Style : Highlight Priority
Post Crop Vignette Highlight Contrast : 0
Grain Amount : 0
Color Noise Reduction Detail : 50
Color Noise Reduction Smoothness : 50
Lens Profile Enable : 0
Lens Manual Distortion Amount : 0
Perspective Vertical : 0
Perspective Horizontal : 0
Perspective Rotate : +1.1
Perspective Scale : 100
Perspective Aspect : 0
Perspective Upright : Off
Auto Lateral CA : 0
Exposure 2012 : 0.00
Contrast 2012 : -9
Highlights 2012 : -9
Shadows 2012 : 0
Whites 2012 : 0
Blacks 2012 : -5
Clarity 2012 : +9
Defringe Purple Amount : 0
Defringe Purple Hue Lo : 30
Defringe Purple Hue Hi : 70
Defringe Green Amount : 0
Defringe Green Hue Lo : 40
Defringe Green Hue Hi : 60
Convert To Grayscale : False
Tone Curve Name : Linear
Tone Curve Name 2012 : Linear
Camera Profile : Embedded
Lens Profile Setup : LensDefaults
Has Settings : True
Crop Top : 0.02291
Crop Left : 0.091218
Crop Bottom : 0.986254
Crop Right : 0.990339
Crop Angle : 0
Crop Constrain To Warp : 0
Has Crop : True
Already Applied : True
Raw File Name : RKD-98.psd
Tone Curve : 0, 0, 255, 255
Tone Curve Red : 0, 0, 255, 255
Tone Curve Green : 0, 0, 255, 255
Tone Curve Blue : 0, 0, 255, 255
Tone Curve PV2012 : 0, 0, 255, 255
Tone Curve PV2012 Red : 0, 0, 255, 255
Tone Curve PV2012 Green : 0, 0, 255, 255
Tone Curve PV2012 Blue : 0, 0, 255, 255
Date/Time Digitized : 2015:11:11 12:55:07+02:00
Flash Fired : False
Flash Return : No return detection
Flash Mode : Off
Flash Function : False
Flash Red Eye Mode : False
Lens : XF18-55mmF2.8-4 R LM OIS
Date Created : 2015:11:11
Creator Tool : Adobe Photoshop CS Windows
Format : image/jpeg
Image Width : 263
Image Height : 190
Bits Per Sample : 8
Color Components : 3
Aperture : 4.0
Image Size : 263x190
Megapixels : 0.050
Scale Factor To 35 mm Equivalent : 1.5
Shutter Speed : 1/900
Flash : Off, Did not fire
Circle Of Confusion : 0.020 mm
Field Of View : 41.9 deg
Focal Length : 31.5 mm (35 mm equivalent: 47.0 mm)
Hyperfocal Distance : 12.32 m
Light Value : 10.2
Lens ID : XF18-55mm F2.8-4 R LM OIS