Uber Exif Photo
Date Created : 2012:02:22
Photometric Interpretation : RGB
Make : Canon
Camera Model Name : Canon EOS-1D Mark IV
Orientation : Horizontal (normal)
Samples Per Pixel : 3
Software : Adobe Photoshop CS5 Windows
Modify Date : 2016:01:27 00:09:51
Exposure Time : 1/3200
F Number : 4.0
Exposure Program : Aperture-priority AE
ISO : 100
Date/Time Original : 2012:02:22 14:54:50
Create Date : 2012:02:22 14:54:50
Shutter Speed Value : 1/3200
Aperture Value : 4.0
Exposure Compensation : -2/3
Max Aperture Value : 2.8
Subject Distance : 6.67 m
Metering Mode : Multi-segment
Focal Length : 66.0 mm
Image Number : 0
Color Space : sRGB
Exif Image Width : 720
Exif Image Height : 274
Custom Rendered : Normal
Exposure Mode : Auto
White Balance : Auto
Scene Capture Type : Standard
Contrast : High
Saturation : High
Sharpness : Hard
Serial Number : 330302535
Lens Info : 24-70mm f/?
Lens Model : EF24-70mm f/2.8L USM
Approximate Focus Distance : 6.67
Firmware : 1.1.0
Flash Compensation : 0
Lens : EF24-70mm f/2.8L USM
Format : image/jpeg
Flash Fired : False
Flash Function : False
Flash Mode : Off
Flash Red Eye Mode : False
Flash Return : No return detection
Color Mode : RGB
ICC Profile Name : sRGB IEC61966-2.1
Creator Tool : Adobe Photoshop CS5 Windows
Already Applied : True
Blue Hue : 0
Blue Saturation : 0
Brightness : +50
Camera Profile : Adobe Standard
Chromatic Aberration B : 0
Chromatic Aberration R : 0
Clarity : +2
Color Noise Reduction : 25
Color Noise Reduction Detail : 50
Convert To Grayscale : False
Defringe : 0
Exposure : -0.35
Fill Light : 24
Grain Amount : 0
Green Hue : 0
Green Saturation : 0
Has Crop : False
Has Settings : True
Highlight Recovery : 0
Hue Adjustment Aqua : 0
Hue Adjustment Blue : 0
Hue Adjustment Green : 0
Hue Adjustment Magenta : 0
Hue Adjustment Orange : 0
Hue Adjustment Purple : 0
Hue Adjustment Red : 0
Hue Adjustment Yellow : 0
Lens Manual Distortion Amount : 0
Lens Profile Enable : 0
Lens Profile Setup : LensDefaults
Luminance Adjustment Aqua : 0
Luminance Adjustment Blue : 0
Luminance Adjustment Green : 0
Luminance Adjustment Magenta : 0
Luminance Adjustment Orange : 0
Luminance Adjustment Purple : 0
Luminance Adjustment Red : 0
Luminance Adjustment Yellow : 0
Luminance Smoothing : 0
Parametric Darks : 0
Parametric Highlight Split : 75
Parametric Highlights : 0
Parametric Lights : 0
Parametric Midtone Split : 50
Parametric Shadow Split : 25
Parametric Shadows : 0
Perspective Horizontal : 0
Perspective Rotate : 0.0
Perspective Scale : 100
Perspective Vertical : 0
Post Crop Vignette Amount : 0
Process Version : 5.7
Raw File Name : 22Feb2012_1036.CR2
Red Hue : 0
Red Saturation : 0
Saturation Adjustment Aqua : 0
Saturation Adjustment Blue : 0
Saturation Adjustment Green : 0
Saturation Adjustment Magenta : 0
Saturation Adjustment Orange : 0
Saturation Adjustment Purple : 0
Saturation Adjustment Red : 0
Saturation Adjustment Yellow : 0
Shadow Tint : 0
Shadows : 5
Sharpen Detail : 25
Sharpen Edge Masking : 0
Sharpen Radius : +1.0
Split Toning Balance : 0
Split Toning Highlight Hue : 0
Split Toning Highlight Saturation : 0
Split Toning Shadow Hue : 0
Split Toning Shadow Saturation : 0
Tint : +33
Tone Curve : 0, 0, 32, 22, 64, 56, 128, 128, 192, 196, 255, 255
Tone Curve Name : Medium Contrast
Version : 6.6
Vibrance : +36
Vignette Amount : 0
Image Width : 300
Image Height : 114
Bits Per Sample : 8
Color Components : 3
Aperture : 4.0
Image Size : 300x114
Megapixels : 0.034
Shutter Speed : 1/3200
Create Date : 2012:02:22 14:54:50.15
Date/Time Original : 2012:02:22 14:54:50.15
Flash : Off, Did not fire
Light Value : 15.6
Lens ID : EF24-70mm f/2.8L USM