Uber Exif Photo
By-line : Dimitris V. Georgopoulos
By-line Title : Photographer at Large
Copyright Notice : © 2015 Dimitris V. Georgopoulos
Copyright Flag : True
URL : © 2015 Dimitris V. Georgopoulos. All Rights Reserved
Make : Leica Camera AG
Camera Model Name : LEICA M MONOCHROM (Typ 246)
Software : Adobe Photoshop Lightroom 6.4 (Macintosh)
Modify Date : 2016:03:28 00:21:20
Artist : Dimitris V. Georgopoulos
Copyright : © 2015 Dimitris V. Georgopoulos
Exposure Time : 1/60
F Number : 6.8
Exposure Program : Aperture-priority AE
ISO : 320
Date/Time Original : 2015:10:22 11:32:49
Create Date : 2015:10:22 11:32:49
Shutter Speed Value : 1/60
Aperture Value : 6.8
Exposure Compensation : -0.332
Max Aperture Value : 1.4
Metering Mode : Center-weighted average
Light Source : Unknown
Flash : No Flash
Focal Length : 50.0 mm
Scene Type : Directly photographed
Custom Rendered : Normal
Exposure Mode : Auto
Digital Zoom Ratio : 0
Scene Capture Type : Standard
Contrast : High
Sharpness : Hard
Serial Number : 4830367
Lens Info : 50mm f/1.4-16
Lens Make : Leica Camera AG
Lens Model : Summilux-M 1:1.4/50 ASPH.
Lens Serial Number : -------
Rating : 4
Label : Blue
Creator Tool : Adobe Photoshop Lightroom 6.4 (Macintosh)
Lens : Summilux-M 1:1.4/50 ASPH.
Distortion Correction Already Applied : True
Lateral Chromatic Aberration Correction Already Applied:
True
Date Created : 2015:10:22 11:32:49
Authors Position : Photographer at Large
Format : image/jpeg
Marked : True
Web Statement : © 2015 Dimitris V. Georgopoulos. All Rights Reserved
Property Release Status : Unknown (nil)
PLUS Version : 1.2.0
Digital Source Type : nil
Version : 9.4
Process Version : 6.7
White Balance : As Shot
Auto White Version : 134348800
Incremental Temperature : 0
Incremental Tint : 0
Saturation : 0
Luminance Smoothing : 0
Color Noise Reduction : 0
Vignette Amount : 0
Shadow Tint : 0
Red Hue : 0
Red Saturation : 0
Green Hue : 0
Green Saturation : 0
Blue Hue : 0
Blue Saturation : 0
Vibrance : 0
Hue Adjustment Red : 0
Hue Adjustment Orange : 0
Hue Adjustment Yellow : 0
Hue Adjustment Green : 0
Hue Adjustment Aqua : 0
Hue Adjustment Blue : 0
Hue Adjustment Purple : 0
Hue Adjustment Magenta : 0
Saturation Adjustment Red : 0
Saturation Adjustment Orange : 0
Saturation Adjustment Yellow : 0
Saturation Adjustment Green : 0
Saturation Adjustment Aqua : 0
Saturation Adjustment Blue : 0
Saturation Adjustment Purple : 0
Saturation Adjustment Magenta : 0
Luminance Adjustment Red : 0
Luminance Adjustment Orange : 0
Luminance Adjustment Yellow : 0
Luminance Adjustment Green : 0
Luminance Adjustment Aqua : 0
Luminance Adjustment Blue : 0
Luminance Adjustment Purple : 0
Luminance Adjustment Magenta : 0
Split Toning Shadow Hue : 0
Split Toning Shadow Saturation : 0
Split Toning Highlight Hue : 0
Split Toning Highlight Saturation : 0
Split Toning Balance : 0
Parametric Shadows : 0
Parametric Darks : 0
Parametric Lights : 0
Parametric Highlights : 0
Parametric Shadow Split : 25
Parametric Midtone Split : 50
Parametric Highlight Split : 75
Sharpen Radius : +1.0
Sharpen Detail : 37
Sharpen Edge Masking : 0
Post Crop Vignette Amount : -17
Post Crop Vignette Midpoint : 51
Post Crop Vignette Feather : 80
Post Crop Vignette Roundness : +56
Post Crop Vignette Style : Paint Overlay
Grain Amount : 0
Lens Profile Enable : 0
Lens Manual Distortion Amount : 0
Perspective Vertical : 0
Perspective Horizontal : 0
Perspective Rotate : 0.0
Perspective Scale : 100
Perspective Aspect : 0
Perspective Upright : Off
Auto Lateral CA : 0
Exposure 2012 : 0.00
Contrast 2012 : +13
Highlights 2012 : 0
Shadows 2012 : 0
Whites 2012 : 0
Blacks 2012 : 0
Clarity 2012 : +15
Defringe Purple Amount : 0
Defringe Purple Hue Lo : 30
Defringe Purple Hue Hi : 70
Defringe Green Amount : 0
Defringe Green Hue Lo : 40
Defringe Green Hue Hi : 60
Dehaze : 0
Tone Map Strength : 0
Convert To Grayscale : False
Tone Curve Name : Linear
Tone Curve Name 2012 : Linear
Camera Profile : Embedded
Lens Profile Setup : LensDefaults
Has Settings : True
Has Crop : False
Already Applied : True
Creator : Dimitris V. Georgopoulos
Rights : © 2015 Dimitris V. Georgopoulos
Usage Terms : All Rights Reserved
Creator Postal Code : 15341
Creator Work Email : dvggeorg@otenet.gr
Creator City : Athens
Creator Work URL : dvgphotography.net
Tone Curve : 0, 0, 255, 255
Tone Curve Red : 0, 0, 255, 255
Tone Curve Green : 0, 0, 255, 255
Tone Curve Blue : 0, 0, 255, 255
Tone Curve PV2012 : 0, 0, 255, 255
Tone Curve PV2012 Red : 0, 0, 255, 255
Tone Curve PV2012 Green : 0, 0, 255, 255
Tone Curve PV2012 Blue : 0, 0, 255, 255
Image Width : 300
Image Height : 200
Bits Per Sample : 8
Color Components : 1
Aperture : 6.8
Image Size : 300x200
Megapixels : 0.060
Scale Factor To 35 mm Equivalent : 19.8
Shutter Speed : 1/60
Circle Of Confusion : 0.002 mm
Field Of View : 2.1 deg
Focal Length : 50.0 mm (35 mm equivalent: 992.0 mm)
Hyperfocal Distance : 242.76 m
Light Value : 9.8
Lens ID : Summilux-M 1:1.4/50 ASPH.