Uber Exif Photo
By-line : Dimitris V. Georgopoulos
By-line Title : Photographer at Large
Copyright Notice : © 2015 Dimitris V. Georgopoulos
Copyright Flag : True
URL : © 2015 Dimitris V. Georgopoulos. All Rights Reserved
Make : Leica Camera AG
Camera Model Name : LEICA M MONOCHROM (Typ 246)
Software : Adobe Photoshop Lightroom 6.4 (Macintosh)
Modify Date : 2016:03:28 00:21:45
Artist : Dimitris V. Georgopoulos
Copyright : © 2015 Dimitris V. Georgopoulos
Exposure Time : 1/25
F Number : 16.0
Exposure Program : Manual
ISO : 400
Date/Time Original : 2016:03:14 13:24:47
Create Date : 2016:03:14 13:24:47
Shutter Speed Value : 1/25
Aperture Value : 16.0
Exposure Compensation : -1
Max Aperture Value : 2.8
Metering Mode : Multi-spot
Light Source : Unknown
Flash : No Flash
Focal Length : 15.0 mm
Scene Type : Directly photographed
Custom Rendered : Normal
Exposure Mode : Manual
Digital Zoom Ratio : 0
Scene Capture Type : Standard
Contrast : Normal
Sharpness : Normal
Serial Number : 4974327
Lens Info : 15mm f/2.8-22
Lens Make : Leica Camera AG
Lens Model : Super-Elmarit-R 1:2.8/15mm
Lens Serial Number : -------
Rating : 3
Label : Blue
Creator Tool : Adobe Photoshop Lightroom 6.4 (Macintosh)
Format : image/jpeg
Lens : Super-Elmarit-R 1:2.8/15mm
Date Created : 2016:03:14 13:24:47
Authors Position : Photographer at Large
Marked : True
Web Statement : © 2015 Dimitris V. Georgopoulos. All Rights Reserved
Property Release Status : Unknown (nil)
PLUS Version : 1.2.0
Digital Source Type : nil
Version : 9.4
Process Version : 6.7
White Balance : Custom
Auto White Version : 134348800
Incremental Temperature : +13
Incremental Tint : 0
Luminance Smoothing : 0
Color Noise Reduction : 0
Vignette Amount : 0
Shadow Tint : 0
Red Hue : 0
Red Saturation : 0
Green Hue : 0
Green Saturation : 0
Blue Hue : 0
Blue Saturation : 0
Gray Mixer Red : -10
Gray Mixer Orange : -19
Gray Mixer Yellow : -23
Gray Mixer Green : -27
Gray Mixer Aqua : -18
Gray Mixer Blue : +9
Gray Mixer Purple : +15
Gray Mixer Magenta : +4
Split Toning Shadow Hue : 0
Split Toning Shadow Saturation : 0
Split Toning Highlight Hue : 0
Split Toning Highlight Saturation : 0
Split Toning Balance : 0
Parametric Shadows : 0
Parametric Darks : 0
Parametric Lights : 0
Parametric Highlights : 0
Parametric Shadow Split : 25
Parametric Midtone Split : 50
Parametric Highlight Split : 75
Sharpen Radius : +1.0
Sharpen Detail : 25
Sharpen Edge Masking : 0
Post Crop Vignette Amount : 0
Grain Amount : 0
Lens Profile Enable : 0
Lens Manual Distortion Amount : 0
Perspective Vertical : 0
Perspective Horizontal : 0
Perspective Rotate : 0.0
Perspective Scale : 100
Perspective Aspect : 0
Perspective Upright : Off
Auto Lateral CA : 0
Exposure 2012 : 0.00
Contrast 2012 : 0
Highlights 2012 : 0
Shadows 2012 : 0
Whites 2012 : 0
Blacks 2012 : 0
Clarity 2012 : +2
Dehaze : 0
Tone Map Strength : 0
Convert To Grayscale : True
Tone Curve Name : Linear
Tone Curve Name 2012 : Linear
Camera Profile : Embedded
Lens Profile Setup : LensDefaults
Has Settings : True
Has Crop : False
Already Applied : True
Creator : Dimitris V. Georgopoulos
Rights : © 2015 Dimitris V. Georgopoulos
Usage Terms : All Rights Reserved
Creator Postal Code : 15341
Creator Work Email : dvggeorg@otenet.gr
Creator City : Athens
Creator Work URL : dvgphotography.net
Tone Curve : 0, 0, 255, 255
Tone Curve Red : 0, 0, 255, 255
Tone Curve Green : 0, 0, 255, 255
Tone Curve Blue : 0, 0, 255, 255
Tone Curve PV2012 : 0, 0, 255, 255
Tone Curve PV2012 Red : 0, 0, 255, 255
Tone Curve PV2012 Green : 0, 0, 255, 255
Tone Curve PV2012 Blue : 0, 0, 255, 255
Image Width : 300
Image Height : 215
Bits Per Sample : 8
Color Components : 1
Aperture : 16.0
Image Size : 300x215
Megapixels : 0.065
Scale Factor To 35 mm Equivalent : 19.4
Shutter Speed : 1/25
Circle Of Confusion : 0.002 mm
Field Of View : 7.1 deg
Focal Length : 15.0 mm (35 mm equivalent: 290.7 mm)
Hyperfocal Distance : 9.07 m
Light Value : 10.6
Lens ID : Super-Elmarit-R 1:2.8/15mm