Uber Exif Photo
Copyright Flag : False
Make : Leica Camera AG
Camera Model Name : M8 Digital Camera
Orientation : Horizontal (normal)
Software : Adobe Photoshop CC 2015 (Macintosh)
Modify Date : 2016:08:29 00:30:09
Exposure Time : 1/60
Exposure Program : Manual
ISO : 160
Date/Time Original : 2009:02:10 21:45:24
Create Date : 2009:02:10 21:45:24
Shutter Speed Value : 1/60
Exposure Compensation : 0
Max Aperture Value : 4.0
Metering Mode : Center-weighted average
Light Source : Unknown
Flash : On, Did not fire
Color Space : Uncalibrated
Exif Image Width : 1394
Exif Image Height : 819
Scene Type : Unknown (0)
Custom Rendered : Normal
White Balance : Auto
Scene Capture Type : Standard
Contrast : Normal
Saturation : Normal
Sharpness : Normal
Profile Description : Adobe RGB (1998)
Creator Tool : Adobe Photoshop CS3 Macintosh
Rating : 0
Format : image/jpeg
Date Created : 2009:02:10 21:45:24
Color Mode : RGB
ICC Profile Name : Adobe RGB (1998)
Marked : False
Photographic Sensitivity : 160
Raw File Name : UluLangat-Pano_MAR09-R01.tif
Version : 9.6.1
Process Version : 6.7
Auto White Version : 134348800
Incremental Temperature : +16
Incremental Tint : +21
Luminance Smoothing : 0
Color Noise Reduction : 0
Vignette Amount : 0
Shadow Tint : 0
Red Hue : 0
Red Saturation : 0
Green Hue : 0
Green Saturation : 0
Blue Hue : 0
Blue Saturation : 0
Vibrance : 0
Hue Adjustment Red : 0
Hue Adjustment Orange : 0
Hue Adjustment Yellow : 0
Hue Adjustment Green : 0
Hue Adjustment Aqua : 0
Hue Adjustment Blue : 0
Hue Adjustment Purple : 0
Hue Adjustment Magenta : 0
Saturation Adjustment Red : 0
Saturation Adjustment Orange : 0
Saturation Adjustment Yellow : 0
Saturation Adjustment Green : 0
Saturation Adjustment Aqua : 0
Saturation Adjustment Blue : 0
Saturation Adjustment Purple : 0
Saturation Adjustment Magenta : 0
Luminance Adjustment Red : 0
Luminance Adjustment Orange : 0
Luminance Adjustment Yellow : 0
Luminance Adjustment Green : 0
Luminance Adjustment Aqua : 0
Luminance Adjustment Blue : 0
Luminance Adjustment Purple : 0
Luminance Adjustment Magenta : 0
Split Toning Shadow Hue : 0
Split Toning Shadow Saturation : 0
Split Toning Highlight Hue : 0
Split Toning Highlight Saturation : 0
Split Toning Balance : 0
Parametric Shadows : 0
Parametric Darks : 0
Parametric Lights : 0
Parametric Highlights : 0
Parametric Shadow Split : 25
Parametric Midtone Split : 50
Parametric Highlight Split : 75
Sharpen Radius : +1.0
Sharpen Detail : 25
Sharpen Edge Masking : 0
Post Crop Vignette Amount : 0
Grain Amount : 0
Lens Profile Enable : 0
Lens Manual Distortion Amount : 0
Perspective Vertical : 0
Perspective Horizontal : 0
Perspective Rotate : 0.0
Perspective Scale : 100
Perspective Aspect : 0
Perspective Upright : Off
Perspective X : 0.00
Perspective Y : 0.00
Auto Lateral CA : 0
Exposure 2012 : 0.00
Contrast 2012 : 0
Highlights 2012 : 0
Shadows 2012 : 0
Whites 2012 : 0
Blacks 2012 : 0
Clarity 2012 : 0
Defringe Purple Amount : 0
Defringe Purple Hue Lo : 30
Defringe Purple Hue Hi : 70
Defringe Green Amount : 0
Defringe Green Hue Lo : 40
Defringe Green Hue Hi : 60
Dehaze : 0
Tone Map Strength : 0
Convert To Grayscale : False
Tone Curve Name : Linear
Tone Curve Name 2012 : Linear
Camera Profile : Embedded
Lens Profile Setup : LensDefaults
Has Settings : True
Has Crop : False
Already Applied : True
Tone Curve : 0, 0, 255, 255
Tone Curve Red : 0, 0, 255, 255
Tone Curve Green : 0, 0, 255, 255
Tone Curve Blue : 0, 0, 255, 255
Tone Curve PV2012 : 0, 0, 255, 255
Tone Curve PV2012 Red : 0, 0, 255, 255
Tone Curve PV2012 Green : 0, 0, 255, 255
Tone Curve PV2012 Blue : 0, 0, 255, 255
Paint Correction What : Correction
Paint Correction Amount : 1.000000
Paint Correction Active : true
Paint Correction Exposure : 0.000000
Paint Correction Saturation : 0.000000
Paint Correction Contrast : 0.000000
Paint Correction Clarity : 0.000000
Paint Correction Sharpness : 0.000000
Paint Correction Brightness : 0.000000
Paint Correction Toning Hue : 0.000000
Paint Correction Toning Saturation : 0.000000
Paint Correction Exposure 2012 : 0.187500
Paint Correction Contrast 2012 : 0.000000
Paint Correction Highlights 2012 : 0.000000
Paint Correction Shadows 2012 : 0.000000
Paint Correction Whites 2012 : 0.000000
Paint Correction Blacks 2012 : 0.000000
Paint Correction Clarity 2012 : 0.000000
Paint Correction Dehaze : 0.000000
Paint Correction Luminance Noise : 0.000000
Paint Correction Moire : 0.000000
Paint Correction Defringe : 0.000000
Paint Correction Temperature : 0.000000
Paint Correction Tint : 0.000000
Paint Correction Mask What : Mask/Paint
Paint Correction Mask Value : 0.540000
Paint Correction Mask Radius : 0.151409
Paint Correction Mask Flow : 0.888889
Paint Correction Mask Center Weight : 0.000000
Image Width : 308
Image Height : 184
Bits Per Sample : 8
Color Components : 3
Image Size : 308x184
Megapixels : 0.057
Shutter Speed : 1/60