Uber Exif Photo
Copyright Flag : False
Make : Leica Camera AG
Camera Model Name : M8 Digital Camera
Orientation : Horizontal (normal)
Software : Adobe Photoshop CS Windows
Modify Date : 2016:08:30 22:44:39
Exposure Time : 1/60
F Number : 8.0
Exposure Program : Manual
ISO : 320
Date/Time Original : 2016:08:28 05:25:00
Create Date : 2016:08:28 05:25:00
Shutter Speed Value : 1/60
Aperture Value : 8.0
Exposure Compensation : +0.332
Max Aperture Value : 1.0
Metering Mode : Center-weighted average
Light Source : Unknown
Color Space : sRGB
Exif Image Width : 2039
Exif Image Height : 3049
Scene Type : Directly photographed
White Balance : Auto
Digital Zoom Ratio : 0
Scene Capture Type : Standard
Serial Number : 3109179
Profile Description : sRGB IEC61966-2.1
Version : 6.5
Process Version : 5.7
Color Temperature : 4400
Tint : -74
Exposure : +0.97
Shadows : 5
Brightness : +48
Contrast : -9
Saturation : -100
Sharpness : 41
Luminance Smoothing : 0
Color Noise Reduction : 25
Chromatic Aberration R : 0
Chromatic Aberration B : 0
Vignette Amount : 0
Shadow Tint : -56
Red Hue : +100
Red Saturation : -25
Green Hue : +43
Green Saturation : +100
Blue Hue : -100
Blue Saturation : +5
Fill Light : 3
Vibrance : 0
Highlight Recovery : 0
Clarity : +31
Defringe : 0
Hue Adjustment Red : 0
Hue Adjustment Orange : 0
Hue Adjustment Yellow : 0
Hue Adjustment Green : 0
Hue Adjustment Aqua : 0
Hue Adjustment Blue : 0
Hue Adjustment Purple : 0
Hue Adjustment Magenta : 0
Saturation Adjustment Red : 0
Saturation Adjustment Orange : 0
Saturation Adjustment Yellow : 0
Saturation Adjustment Green : 0
Saturation Adjustment Aqua : 0
Saturation Adjustment Blue : 0
Saturation Adjustment Purple : 0
Saturation Adjustment Magenta : 0
Luminance Adjustment Red : 0
Luminance Adjustment Orange : 0
Luminance Adjustment Yellow : 0
Luminance Adjustment Green : 0
Luminance Adjustment Aqua : 0
Luminance Adjustment Blue : 0
Luminance Adjustment Purple : 0
Luminance Adjustment Magenta : 0
Split Toning Shadow Hue : 0
Split Toning Shadow Saturation : 0
Split Toning Highlight Hue : 0
Split Toning Highlight Saturation : 0
Split Toning Balance : 0
Parametric Shadows : -5
Parametric Darks : -3
Parametric Lights : +3
Parametric Highlights : +3
Parametric Shadow Split : 25
Parametric Midtone Split : 50
Parametric Highlight Split : 75
Sharpen Radius : +1.1
Sharpen Detail : 21
Sharpen Edge Masking : 0
Post Crop Vignette Amount : -15
Post Crop Vignette Midpoint : 48
Post Crop Vignette Feather : 48
Post Crop Vignette Roundness : 0
Post Crop Vignette Style : Highlight Priority
Post Crop Vignette Highlight Contrast : 0
Grain Amount : 0
Color Noise Reduction Detail : 50
Lens Profile Enable : 0
Lens Manual Distortion Amount : +6
Perspective Vertical : +6
Perspective Horizontal : 0
Perspective Rotate : -2.0
Perspective Scale : 100
Convert To Grayscale : False
Tone Curve Name : Linear
Camera Profile : Adobe Standard
Lens Profile Setup : LensDefaults
Has Settings : True
Crop Top : 0.089439
Crop Left : 0.037605
Crop Bottom : 0.982148
Crop Right : 0.938292
Crop Angle : 0
Crop Constrain To Warp : 0
Crop Width : 3527
Crop Height : 2351
Crop Unit : pixels
Has Crop : True
Already Applied : True
Tone Curve : 0, 0, 255, 255
Date/Time Digitized : 2016:08:28 05:25:00+02:00
Flash Fired : False
Flash Return : No return detection
Flash Mode : On
Flash Function : False
Flash Red Eye Mode : False
Date Created : 2016:08:28
Creator Tool : Adobe Photoshop CS Windows
Format : image/jpeg
Image Width : 308
Image Height : 457
Bits Per Sample : 8
Color Components : 3
Aperture : 8.0
Image Size : 308x457
Megapixels : 0.141
Scale Factor To 35 mm Equivalent : 1.7
Shutter Speed : 1/60
Flash : On, Did not fire
Circle Of Confusion : 0.017 mm
Light Value : 10.2