Uber Exif Photo
Make : LEICA
Camera Model Name : D-LUX 3
Software : Adobe Photoshop Lightroom 5.7.1 (Macintosh)
Modify Date : 2017:02:19 11:26:50
Exposure Time : 1/400
F Number : 8.0
Exposure Program : Program AE
ISO : 400
Date/Time Original : 2016:10:29 09:51:21
Create Date : 2016:10:29 09:51:21
Shutter Speed Value : 1/400
Aperture Value : 8.0
Exposure Compensation : 0
Max Aperture Value : 2.8
Metering Mode : Multi-segment
Light Source : Unknown
Flash : Off, Did not fire
Focal Length : 6.3 mm
Color Space : sRGB
Sensing Method : One-chip color area
Scene Type : Directly photographed
Custom Rendered : Custom
Exposure Mode : Auto
White Balance : Auto
Digital Zoom Ratio : 0
Focal Length In 35mm Format : 28 mm
Scene Capture Type : Standard
Gain Control : High gain up
Contrast : High
Saturation : Normal
Sharpness : Hard
Profile Description : sRGB IEC61966-2.1
Creator Tool : Adobe Photoshop Lightroom 5.7.1 (Macintosh)
Date Created : 2016:10:29 09:51:21
Format : image/jpeg
Version : 8.7.1
Process Version : 6.7
Auto White Version : 134348800
Incremental Temperature : -75
Incremental Tint : +67
Luminance Smoothing : 0
Color Noise Reduction : 44
Vignette Amount : +50
Vignette Midpoint : 18
Shadow Tint : 0
Red Hue : 0
Red Saturation : 0
Green Hue : 0
Green Saturation : 0
Blue Hue : 0
Blue Saturation : 0
Gray Mixer Red : -16
Gray Mixer Orange : -27
Gray Mixer Yellow : -32
Gray Mixer Green : -32
Gray Mixer Aqua : -8
Gray Mixer Blue : +32
Gray Mixer Purple : +31
Gray Mixer Magenta : +7
Split Toning Shadow Hue : 50
Split Toning Shadow Saturation : 34
Split Toning Highlight Hue : 50
Split Toning Highlight Saturation : 11
Split Toning Balance : 0
Parametric Shadows : 0
Parametric Darks : 0
Parametric Lights : 0
Parametric Highlights : 0
Parametric Shadow Split : 25
Parametric Midtone Split : 50
Parametric Highlight Split : 75
Sharpen Radius : +1.0
Sharpen Detail : 25
Sharpen Edge Masking : 0
Post Crop Vignette Amount : -13
Post Crop Vignette Midpoint : 50
Post Crop Vignette Feather : 52
Post Crop Vignette Roundness : 0
Post Crop Vignette Style : Highlight Priority
Post Crop Vignette Highlight Contrast : 52
Grain Amount : 0
Color Noise Reduction Detail : 50
Color Noise Reduction Smoothness : 50
Lens Profile Enable : 0
Lens Manual Distortion Amount : 0
Perspective Vertical : 0
Perspective Horizontal : 0
Perspective Rotate : 0.0
Perspective Scale : 100
Perspective Aspect : 0
Perspective Upright : Off
Auto Lateral CA : 1
Exposure 2012 : +1.10
Contrast 2012 : +51
Highlights 2012 : -29
Shadows 2012 : +31
Whites 2012 : 0
Blacks 2012 : +1
Clarity 2012 : 0
Convert To Grayscale : True
Tone Curve Name : Linear
Tone Curve Name 2012 : Linear
Camera Profile : Embedded
Lens Profile Setup : LensDefaults
Has Settings : True
Crop Top : 0.007587
Crop Left : 0.10563
Crop Bottom : 1
Crop Right : 0.947317
Crop Angle : 0.451243
Crop Constrain To Warp : 0
Has Crop : True
Already Applied : True
Tone Curve : 0, 0, 255, 255
Tone Curve Red : 0, 0, 255, 255
Tone Curve Green : 0, 0, 255, 255
Tone Curve Blue : 0, 0, 255, 255
Tone Curve PV2012 : 0, 0, 255, 255
Tone Curve PV2012 Red : 0, 0, 255, 255
Tone Curve PV2012 Green : 0, 0, 255, 255
Tone Curve PV2012 Blue : 0, 0, 255, 255
Gradient Based Corr What : Correction
Gradient Based Corr Amount : 1.000000
Gradient Based Corr Active : true
Gradient Based Corr Saturation : 0.000000
Gradient Based Corr Sharpness : 0.000000
Gradient Based Corr Brightness : 0.000000
Gradient Based Corr Toning Hue : 218.000000
Gradient Based Corr Toning Saturation : 0.205000
Gradient Based Corr Exposure 2012 : -0.250000
Gradient Based Corr Contrast 2012 : 0.000000
Gradient Based Corr Highlights 2012 : 0.000000
Gradient Based Corr Shadows 2012 : 0.000000
Gradient Based Corr Clarity 2012 : 0.000000
Gradient Based Corr Luminance Noise : 0.000000
Gradient Based Corr Moire : 0.000000
Gradient Based Corr Defringe : 0.000000
Gradient Based Corr Temperature : 0.000000
Gradient Based Corr Tint : 0.000000
Gradient Based Corr Mask What : Mask/Gradient
Gradient Based Corr Mask Value : 1.000000
Gradient Based Corr Mask Zero X : 0.568528
Gradient Based Corr Mask Zero Y : 0.696701
Gradient Based Corr Mask Full X : 0.565990
Gradient Based Corr Mask Full Y : -0.002538
Image Width : 300
Image Height : 196
Bits Per Sample : 8
Color Components : 3
Aperture : 8.0
Image Size : 300x196
Megapixels : 0.059
Scale Factor To 35 mm Equivalent : 4.4
Shutter Speed : 1/400
Circle Of Confusion : 0.007 mm
Field Of View : 65.5 deg
Focal Length : 6.3 mm (35 mm equivalent: 28.0 mm)
Hyperfocal Distance : 0.73 m
Light Value : 12.6