Uber Exif Photo
Copyright Flag : False
Make : FUJIFILM
Camera Model Name : X-E1
Orientation : Horizontal (normal)
Software : Adobe Photoshop CS Windows
Modify Date : 2017:08:08 22:30:11
Exposure Time : 1/30
F Number : 8.0
Exposure Program : Aperture-priority AE
ISO : 1250
Sensitivity Type : Standard Output Sensitivity
Date/Time Original : 2017:08:05 12:15:37
Create Date : 2017:08:05 12:15:37
Shutter Speed Value : 1/30
Aperture Value : 8.0
Brightness Value : 2.88
Exposure Compensation : +0.67
Max Aperture Value : 2.8
Metering Mode : Spot
Light Source : Unknown
Focal Length : 40.7 mm
Color Space : sRGB
Exif Image Width : 3012
Exif Image Height : 2029
Sensing Method : One-chip color area
Scene Type : Directly photographed
Custom Rendered : Custom
Exposure Mode : Auto
White Balance : Auto
Focal Length In 35mm Format : 61 mm
Scene Capture Type : Standard
Sharpness : Hard
Subject Distance Range : Unknown
Lens Info : 18-55mm f/2.8-4
Lens Make : FUJIFILM
Lens Model : XF18-55mmF2.8-4 R LM OIS
Lens Serial Number : 24A22467
Profile Description : sRGB IEC61966-2.1
Version : 6.5
Process Version : 5.7
Incremental Temperature : 0
Incremental Tint : 0
Exposure : 0.00
Shadows : 6
Brightness : 0
Contrast : 0
Saturation : 0
Luminance Smoothing : 0
Color Noise Reduction : 0
Chromatic Aberration R : 0
Chromatic Aberration B : 0
Vignette Amount : 0
Shadow Tint : 0
Red Hue : 0
Red Saturation : 0
Green Hue : 0
Green Saturation : 0
Blue Hue : 0
Blue Saturation : 0
Fill Light : 6
Vibrance : 0
Highlight Recovery : 0
Clarity : +10
Defringe : 0
Hue Adjustment Red : 0
Hue Adjustment Orange : 0
Hue Adjustment Yellow : 0
Hue Adjustment Green : 0
Hue Adjustment Aqua : 0
Hue Adjustment Blue : 0
Hue Adjustment Purple : 0
Hue Adjustment Magenta : 0
Saturation Adjustment Red : 0
Saturation Adjustment Orange : 0
Saturation Adjustment Yellow : 0
Saturation Adjustment Green : 0
Saturation Adjustment Aqua : 0
Saturation Adjustment Blue : 0
Saturation Adjustment Purple : 0
Saturation Adjustment Magenta : 0
Luminance Adjustment Red : 0
Luminance Adjustment Orange : 0
Luminance Adjustment Yellow : 0
Luminance Adjustment Green : 0
Luminance Adjustment Aqua : 0
Luminance Adjustment Blue : 0
Luminance Adjustment Purple : 0
Luminance Adjustment Magenta : 0
Split Toning Shadow Hue : 0
Split Toning Shadow Saturation : 0
Split Toning Highlight Hue : 0
Split Toning Highlight Saturation : 0
Split Toning Balance : 0
Parametric Shadows : -6
Parametric Darks : -3
Parametric Lights : 0
Parametric Highlights : 0
Parametric Shadow Split : 25
Parametric Midtone Split : 50
Parametric Highlight Split : 75
Sharpen Radius : +1.1
Sharpen Detail : 21
Sharpen Edge Masking : 0
Post Crop Vignette Amount : 0
Grain Amount : 0
Lens Profile Enable : 0
Lens Manual Distortion Amount : 0
Perspective Vertical : 0
Perspective Horizontal : 0
Perspective Rotate : 0.0
Perspective Scale : 100
Convert To Grayscale : False
Tone Curve Name : Linear
Camera Profile : Embedded
Lens Profile Setup : LensDefaults
Has Settings : True
Crop Top : 0.041765
Crop Left : 0.051306
Crop Bottom : 0.965557
Crop Right : 0.975098
Crop Angle : 0
Crop Constrain To Warp : 0
Crop Width : 4523
Crop Height : 3015
Crop Unit : pixels
Has Crop : True
Already Applied : True
Tone Curve : 0, 0, 255, 255
Date/Time Digitized : 2017:08:05 12:15:37+02:00
Flash Fired : False
Flash Return : No return detection
Flash Mode : Off
Flash Function : False
Flash Red Eye Mode : False
Lens : XF18-55mmF2.8-4 R LM OIS
Date Created : 2017:08:05
Creator Tool : Adobe Photoshop CS Windows
Format : image/jpeg
Image Width : 308
Image Height : 210
Bits Per Sample : 8
Color Components : 3
Aperture : 8.0
Image Size : 308x210
Megapixels : 0.065
Scale Factor To 35 mm Equivalent : 1.5
Shutter Speed : 1/30
Flash : Off, Did not fire
Circle Of Confusion : 0.020 mm
Field Of View : 32.9 deg
Focal Length : 40.7 mm (35 mm equivalent: 61.0 mm)
Hyperfocal Distance : 10.33 m
Light Value : 7.3
Lens ID : XF18-55mm F2.8-4 R LM OIS