Uber Exif Photo
By-line : Roman Khoma
Copyright Notice : @RomanKh.
Copyright Flag : True
Make : Canon
Camera Model Name : Canon EOS 5D Mark III
Orientation : Horizontal (normal)
Software : Adobe Photoshop CS Macintosh
Modify Date : 2018:01:07 11:32:09
Artist : Roman Khoma
Copyright : @RomanKh.
Exposure Time : 1/500
F Number : 2.8
Exposure Program : Aperture-priority AE
ISO : 1250
Sensitivity Type : Recommended Exposure Index
Recommended Exposure Index : 1250
Date/Time Original : 2017:09:10 09:40:59
Create Date : 2017:09:10 09:40:59
Shutter Speed Value : 1/500
Aperture Value : 2.8
Exposure Compensation : +1
Max Aperture Value : 1.2
Metering Mode : Multi-segment
Focal Length : 50.0 mm
Color Space : sRGB
Exif Image Width : 786
Exif Image Height : 1100
Custom Rendered : Normal
Exposure Mode : Auto
White Balance : Auto
Scene Capture Type : Standard
Serial Number : 023021009743
Lens Info : 50mm f/?
Lens Model : EF50mm f/1.2L USM
Lens Serial Number : 0000413bac
Profile Description : sRGB IEC61966-2.1
Version : 9.12
Process Version : 6.7
Auto White Version : 134348800
Color Temperature : 4884
Tint : 0
Saturation : -9
Sharpness : 31
Luminance Smoothing : 0
Color Noise Reduction : 25
Vignette Amount : 0
Shadow Tint : 0
Red Hue : 0
Red Saturation : 0
Green Hue : 0
Green Saturation : 0
Blue Hue : 0
Blue Saturation : 0
Vibrance : +9
Hue Adjustment Red : 0
Hue Adjustment Orange : 0
Hue Adjustment Yellow : 0
Hue Adjustment Green : 0
Hue Adjustment Aqua : 0
Hue Adjustment Blue : 0
Hue Adjustment Purple : 0
Hue Adjustment Magenta : 0
Saturation Adjustment Red : 0
Saturation Adjustment Orange : 0
Saturation Adjustment Yellow : 0
Saturation Adjustment Green : 0
Saturation Adjustment Aqua : 0
Saturation Adjustment Blue : 0
Saturation Adjustment Purple : 0
Saturation Adjustment Magenta : 0
Luminance Adjustment Red : 0
Luminance Adjustment Orange : 0
Luminance Adjustment Yellow : 0
Luminance Adjustment Green : 0
Luminance Adjustment Aqua : 0
Luminance Adjustment Blue : 0
Luminance Adjustment Purple : 0
Luminance Adjustment Magenta : 0
Split Toning Shadow Hue : 0
Split Toning Shadow Saturation : 0
Split Toning Highlight Hue : 0
Split Toning Highlight Saturation : 0
Split Toning Balance : 0
Parametric Shadows : -9
Parametric Darks : +18
Parametric Lights : +18
Parametric Highlights : -15
Parametric Shadow Split : 25
Parametric Midtone Split : 50
Parametric Highlight Split : 75
Sharpen Radius : +1.1
Sharpen Detail : 21
Sharpen Edge Masking : 0
Post Crop Vignette Amount : 0
Grain Amount : 0
Color Noise Reduction Detail : 50
Color Noise Reduction Smoothness : 50
Lens Profile Enable : 1
Lens Manual Distortion Amount : 0
Perspective Vertical : 0
Perspective Horizontal : 0
Perspective Rotate : -0.7
Perspective Scale : 100
Perspective Aspect : 0
Perspective Upright : Auto
Perspective X : 0.00
Perspective Y : 0.00
Auto Lateral CA : 1
Exposure 2012 : +0.80
Contrast 2012 : -12
Highlights 2012 : 0
Shadows 2012 : 0
Whites 2012 : 0
Blacks 2012 : -9
Clarity 2012 : +9
Defringe Purple Amount : 0
Defringe Purple Hue Lo : 30
Defringe Purple Hue Hi : 70
Defringe Green Amount : 0
Defringe Green Hue Lo : 40
Defringe Green Hue Hi : 60
Dehaze : 0
Tone Map Strength : 0
Convert To Grayscale : False
Tone Curve Name : Linear
Tone Curve Name 2012 : Medium Contrast
Camera Profile : Adobe Standard
Lens Profile Setup : LensDefaults
Lens Profile Name : Adobe (Canon EF 50mm f/1.2L USM)
Lens Profile Filename : Canon EOS 5D Mark II (Canon EF 50mm f1.2L USM) - RAW.lcp
Lens Profile Distortion Scale : 48
Lens Profile Chromatic Aberration Scale : 100
Lens Profile Vignetting Scale : 24
Has Settings : True
Crop Top : 0.0786
Crop Left : 0.144629
Crop Bottom : 0.93933
Crop Right : 0.947977
Crop Angle : 0
Crop Constrain To Warp : 0
Has Crop : True
Already Applied : True
Tone Curve : 0, 0, 255, 255
Tone Curve Red : 0, 0, 255, 255
Tone Curve Green : 0, 0, 255, 255
Tone Curve Blue : 0, 0, 255, 255
Tone Curve PV2012 : 0, 0, 32, 22, 64, 56, 128, 128, 192, 196, 255, 255
Tone Curve PV2012 Red : 0, 0, 255, 255
Tone Curve PV2012 Green : 0, 0, 255, 255
Tone Curve PV2012 Blue : 0, 0, 255, 255
Date/Time Digitized : 2017:09:10 09:40:59+02:00
Flash Fired : False
Flash Return : No return detection
Flash Mode : Off
Flash Function : False
Flash Red Eye Mode : False
Lens : EF50mm f/1.2L USM
Image Number : 0
Approximate Focus Distance : 2.03
Flash Compensation : 0
Firmware : 1.3.3
Distortion Correction Already Applied : True
Lateral Chromatic Aberration Correction Already Applied:
True
Vignette Correction Already Applied : True
Date Created : 2017:09:10
Creator Tool : Adobe Photoshop CS Macintosh
Marked : True
Format : image/jpeg
Rights : @RomanKh.
Creator : Roman Khoma
Image Width : 308
Image Height : 428
Bits Per Sample : 8
Color Components : 3
Aperture : 2.8
Image Size : 308x428
Megapixels : 0.132
Scale Factor To 35 mm Equivalent : 5.1
Shutter Speed : 1/500
Create Date : 2017:09:10 09:40:59.00
Date/Time Original : 2017:09:10 09:40:59.00
Flash : Off, Did not fire
Circle Of Confusion : 0.006 mm
Depth Of Field : 0.05 m (2.00 - 2.06 m)
Field Of View : 8.0 deg
Focal Length : 50.0 mm (35 mm equivalent: 256.0 mm)
Hyperfocal Distance : 152.16 m
Light Value : 8.3
Lens ID : Canon EF 50mm f/1.2L USM