Uber Exif Photo
By-line : Roman Khoma
Copyright Notice : @RomanKh.
Copyright Flag : True
Make : Canon
Camera Model Name : Canon EOS 5D Mark III
Orientation : Horizontal (normal)
Software : Adobe Photoshop CS Macintosh
Modify Date : 2018:01:07 11:21:18
Artist : Roman Khoma
Copyright : @RomanKh.
Exposure Time : 1/640
F Number : 4.0
Exposure Program : Aperture-priority AE
ISO : 1600
Sensitivity Type : Recommended Exposure Index
Recommended Exposure Index : 1600
Date/Time Original : 2017:09:10 16:05:50
Create Date : 2017:09:10 16:05:50
Shutter Speed Value : 1/640
Aperture Value : 4.0
Exposure Compensation : +2/3
Max Aperture Value : 2.8
Metering Mode : Multi-segment
Focal Length : 40.0 mm
Color Space : sRGB
Exif Image Width : 1100
Exif Image Height : 692
Custom Rendered : Normal
Exposure Mode : Auto
White Balance : Auto
Scene Capture Type : Standard
Serial Number : 023021009743
Lens Info : 24-70mm f/?
Lens Model : 24-70mm
Lens Serial Number : 0000000000
Profile Description : sRGB IEC61966-2.1
Version : 9.12
Process Version : 6.7
Auto White Version : 134348800
Color Temperature : 4204
Tint : 0
Saturation : 0
Sharpness : 38
Luminance Smoothing : 0
Color Noise Reduction : 25
Vignette Amount : 0
Shadow Tint : 0
Red Hue : 0
Red Saturation : 0
Green Hue : 0
Green Saturation : 0
Blue Hue : 0
Blue Saturation : 0
Vibrance : 0
Hue Adjustment Red : 0
Hue Adjustment Orange : 0
Hue Adjustment Yellow : 0
Hue Adjustment Green : 0
Hue Adjustment Aqua : 0
Hue Adjustment Blue : 0
Hue Adjustment Purple : 0
Hue Adjustment Magenta : 0
Saturation Adjustment Red : 0
Saturation Adjustment Orange : 0
Saturation Adjustment Yellow : 0
Saturation Adjustment Green : 0
Saturation Adjustment Aqua : 0
Saturation Adjustment Blue : 0
Saturation Adjustment Purple : 0
Saturation Adjustment Magenta : 0
Luminance Adjustment Red : 0
Luminance Adjustment Orange : 0
Luminance Adjustment Yellow : 0
Luminance Adjustment Green : 0
Luminance Adjustment Aqua : 0
Luminance Adjustment Blue : 0
Luminance Adjustment Purple : 0
Luminance Adjustment Magenta : 0
Split Toning Shadow Hue : 0
Split Toning Shadow Saturation : 0
Split Toning Highlight Hue : 0
Split Toning Highlight Saturation : 0
Split Toning Balance : 0
Parametric Shadows : 0
Parametric Darks : +7
Parametric Lights : +14
Parametric Highlights : 0
Parametric Shadow Split : 25
Parametric Midtone Split : 50
Parametric Highlight Split : 75
Sharpen Radius : +1.1
Sharpen Detail : 18
Sharpen Edge Masking : 0
Post Crop Vignette Amount : -7
Post Crop Vignette Midpoint : 48
Post Crop Vignette Feather : 48
Post Crop Vignette Roundness : 0
Post Crop Vignette Style : Highlight Priority
Post Crop Vignette Highlight Contrast : 0
Grain Amount : 0
Color Noise Reduction Detail : 50
Color Noise Reduction Smoothness : 50
Lens Profile Enable : 1
Lens Manual Distortion Amount : 0
Perspective Vertical : 0
Perspective Horizontal : 0
Perspective Rotate : +0.5
Perspective Scale : 100
Perspective Aspect : 0
Perspective Upright : Off
Perspective X : 0.00
Perspective Y : 0.00
Auto Lateral CA : 1
Exposure 2012 : 0.00
Contrast 2012 : 0
Highlights 2012 : 0
Shadows 2012 : 0
Whites 2012 : 0
Blacks 2012 : -4
Clarity 2012 : +7
Defringe Purple Amount : 0
Defringe Purple Hue Lo : 30
Defringe Purple Hue Hi : 70
Defringe Green Amount : 0
Defringe Green Hue Lo : 40
Defringe Green Hue Hi : 60
Dehaze : 0
Tone Map Strength : 0
Convert To Grayscale : False
Tone Curve Name : Linear
Tone Curve Name 2012 : Linear
Camera Profile : Adobe Standard
Lens Profile Setup : LensDefaults
Lens Profile Name : Adobe (SIGMA 24-70mm F2.8 IF EX DG HSM, Canon)
Lens Profile Filename : Canon (Sigma_24-70mm_F2.8_IF_EX_DG_HSM ) - RAW.lcp
Lens Profile Distortion Scale : 48
Lens Profile Chromatic Aberration Scale : 100
Lens Profile Vignetting Scale : 96
Has Settings : True
Crop Top : 0.027215
Crop Left : 0.011812
Crop Bottom : 0.951764
Crop Right : 0.997998
Crop Angle : 0
Crop Constrain To Warp : 0
Has Crop : True
Already Applied : True
Tone Curve : 0, 0, 255, 255
Tone Curve Red : 0, 0, 255, 255
Tone Curve Green : 0, 0, 255, 255
Tone Curve Blue : 0, 0, 255, 255
Tone Curve PV2012 : 0, 0, 255, 255
Tone Curve PV2012 Red : 0, 0, 255, 255
Tone Curve PV2012 Green : 0, 0, 255, 255
Tone Curve PV2012 Blue : 0, 0, 255, 255
Date/Time Digitized : 2017:09:10 16:05:50+02:00
Flash Fired : False
Flash Return : No return detection
Flash Mode : Off
Flash Function : False
Flash Red Eye Mode : False
Lens : 24-70mm
Image Number : 0
Approximate Focus Distance : 2.92
Flash Compensation : 0
Firmware : 1.3.3
Distortion Correction Already Applied : True
Lateral Chromatic Aberration Correction Already Applied:
True
Vignette Correction Already Applied : True
Date Created : 2017:09:10
Label : Green
Creator Tool : Adobe Photoshop CS Macintosh
Marked : True
Format : image/jpeg
Rights : @RomanKh.
Creator : Roman Khoma
Image Width : 308
Image Height : 197
Bits Per Sample : 8
Color Components : 3
Aperture : 4.0
Image Size : 308x197
Megapixels : 0.061
Scale Factor To 35 mm Equivalent : 5.3
Shutter Speed : 1/640
Create Date : 2017:09:10 16:05:50.00
Date/Time Original : 2017:09:10 16:05:50.00
Flash : Off, Did not fire
Circle Of Confusion : 0.006 mm
Depth Of Field : 0.24 m (2.81 - 3.04 m)
Field Of View : 9.7 deg
Focal Length : 40.0 mm (35 mm equivalent: 213.1 mm)
Hyperfocal Distance : 70.92 m
Light Value : 9.3
Lens ID : Sigma 24-70mm f/2.8 IF EX DG HSM or Tamron SP 24-70mm f/2.8 Di VC USD